BEGIN:VCALENDAR
VERSION:2.0
PRODID:-//Муниципальная библиотечная система города Твери - ECPv6.11.2.1//NONSGML v1.0//EN
CALSCALE:GREGORIAN
METHOD:PUBLISH
X-ORIGINAL-URL:https://mbstver.ru
X-WR-CALDESC:Мероприятия для Муниципальная библиотечная система города Твери
REFRESH-INTERVAL;VALUE=DURATION:PT1H
X-Robots-Tag:noindex
X-PUBLISHED-TTL:PT1H
BEGIN:VTIMEZONE
TZID:Europe/Moscow
BEGIN:STANDARD
TZOFFSETFROM:+0300
TZOFFSETTO:+0300
TZNAME:MSK
DTSTART:20180101T000000
END:STANDARD
END:VTIMEZONE
BEGIN:VEVENT
DTSTART;TZID=Europe/Moscow:20181218T100000
DTEND;TZID=Europe/Moscow:20190110T190000
DTSTAMP:20260425T041103
CREATED:20181228T112842Z
LAST-MODIFIED:20181228T112842Z
UID:1828-1545127200-1547146800@mbstver.ru
SUMMARY:«Новый год в окно стучится»
DESCRIPTION:Выставка поделок Светланы Воскресенской
URL:https://mbstver.ru/event/novyj-god-v-okno-stuchitsya/
LOCATION:Холл Детского зала\, Тверской пр-т\, д. 5\, Тверь\, Российская Федерация
END:VEVENT
BEGIN:VEVENT
DTSTART;TZID=Europe/Moscow:20181226T080000
DTEND;TZID=Europe/Moscow:20190118T170000
DTSTAMP:20260425T041103
CREATED:20181228T121133Z
LAST-MODIFIED:20181228T121133Z
UID:1831-1545811200-1547830800@mbstver.ru
SUMMARY:«Новогодний калейдоскоп»
DESCRIPTION:Выставка художественной фотографии\nТверского областного народного фотоклуба
URL:https://mbstver.ru/event/novogodnij-kalejdoskop/
LOCATION:Выставочный зал\, Тверской пр-т\, д. 5\, Тверь\, Российская Федерация
END:VEVENT
BEGIN:VEVENT
DTSTART;TZID=Europe/Moscow:20190101T080000
DTEND;TZID=Europe/Moscow:20190228T170000
DTSTAMP:20260425T041103
CREATED:20181228T121313Z
LAST-MODIFIED:20181228T121313Z
UID:1834-1546329600-1551373200@mbstver.ru
SUMMARY:«Чародейка - зима»
DESCRIPTION:Выставка живописи учеников ДХШ им. В.А. Серова
URL:https://mbstver.ru/event/charodejka-zima/
LOCATION:Холл Детского зала\, Тверской пр-т\, д. 5\, Тверь\, Российская Федерация
END:VEVENT
BEGIN:VEVENT
DTSTART;TZID=Europe/Moscow:20190106T160000
DTEND;TZID=Europe/Moscow:20190106T170000
DTSTAMP:20260425T041103
CREATED:20181228T122635Z
LAST-MODIFIED:20181228T122635Z
UID:1848-1546790400-1546794000@mbstver.ru
SUMMARY:«Зимняя кадриль»
DESCRIPTION:Концерт ансамбля «Поющие сердца»
URL:https://mbstver.ru/event/zimnyaya-kadril/
LOCATION:Горница\, Тверской пр-т\, д. 5\, Тверь\, Российская Федерация
CATEGORIES:Концерт
END:VEVENT
END:VCALENDAR