BEGIN:VCALENDAR
VERSION:2.0
PRODID:-//Муниципальная библиотечная система города Твери - ECPv6.11.2.1//NONSGML v1.0//EN
CALSCALE:GREGORIAN
METHOD:PUBLISH
X-ORIGINAL-URL:https://mbstver.ru
X-WR-CALDESC:Мероприятия для Муниципальная библиотечная система города Твери
REFRESH-INTERVAL;VALUE=DURATION:PT1H
X-Robots-Tag:noindex
X-PUBLISHED-TTL:PT1H
BEGIN:VTIMEZONE
TZID:Europe/Moscow
BEGIN:STANDARD
TZOFFSETFROM:+0300
TZOFFSETTO:+0300
TZNAME:MSK
DTSTART:20190101T000000
END:STANDARD
END:VTIMEZONE
BEGIN:VEVENT
DTSTART;TZID=Europe/Moscow:20190101T080000
DTEND;TZID=Europe/Moscow:20190228T170000
DTSTAMP:20260423T150350
CREATED:20181228T121313Z
LAST-MODIFIED:20181228T121313Z
UID:1834-1546329600-1551373200@mbstver.ru
SUMMARY:«Чародейка - зима»
DESCRIPTION:Выставка живописи учеников ДХШ им. В.А. Серова
URL:https://mbstver.ru/event/charodejka-zima/
LOCATION:Холл Детского зала\, Тверской пр-т\, д. 5\, Тверь\, Российская Федерация
END:VEVENT
BEGIN:VEVENT
DTSTART;TZID=Europe/Moscow:20190111T100000
DTEND;TZID=Europe/Moscow:20190131T190000
DTSTAMP:20260423T150350
CREATED:20181228T121443Z
LAST-MODIFIED:20181228T121443Z
UID:1836-1547200800-1548961200@mbstver.ru
SUMMARY:«Творенье рук – для сердца радость»
DESCRIPTION:Выставка работ из бисера Риммы Баженовой
URL:https://mbstver.ru/event/tvorene-ruk-dlya-serdcza-radost/
LOCATION:Холл Детского зала\, Тверской пр-т\, д. 5\, Тверь\, Российская Федерация
END:VEVENT
BEGIN:VEVENT
DTSTART;TZID=Europe/Moscow:20190118T000000
DTEND;TZID=Europe/Moscow:20190219T000000
DTSTAMP:20260423T150350
CREATED:20190128T132605Z
LAST-MODIFIED:20190131T160137Z
UID:2414-1547769600-1550534400@mbstver.ru
SUMMARY:«Тверской зимы наряд венчальный»
DESCRIPTION:фотовыставка Натальи Залесской \nтел. 34-93-91
URL:https://mbstver.ru/event/tverskoj-zimy-naryad-venchalnyj/
LOCATION:Мультимедийный библиотечный центр\, ул. С. Перовской\, д. 2\, Тверь\, Российская Федерация
CATEGORIES:Мультимедийный библиотечный центр
END:VEVENT
BEGIN:VEVENT
DTSTART;TZID=Europe/Moscow:20190119T100000
DTEND;TZID=Europe/Moscow:20190209T190000
DTSTAMP:20260423T150350
CREATED:20181228T121607Z
LAST-MODIFIED:20181228T121637Z
UID:1838-1547892000-1549738800@mbstver.ru
SUMMARY:«Акварельная мелодия»
DESCRIPTION:Выставка живописи Галины Калининой
URL:https://mbstver.ru/event/akvarelnaya-melodiya/
LOCATION:Выставочный зал\, Тверской пр-т\, д. 5\, Тверь\, Российская Федерация
CATEGORIES:Выставка
END:VEVENT
BEGIN:VEVENT
DTSTART;TZID=Europe/Moscow:20190127T120000
DTEND;TZID=Europe/Moscow:20190127T120000
DTSTAMP:20260423T150350
CREATED:20181228T130950Z
LAST-MODIFIED:20181228T130950Z
UID:1889-1548590400-1548590400@mbstver.ru
SUMMARY:«Кружевная льдинка»
DESCRIPTION:мастер-класс по плетению снежинок из бисера в клубе «Библион»
URL:https://mbstver.ru/event/kruzhevnaya-ldinka/
LOCATION:Детский зал\, Тверской пр-т\, д. 5\, Тверь\, Российская Федерация
CATEGORIES:Клуб Библион
END:VEVENT
BEGIN:VEVENT
DTSTART;TZID=Europe/Moscow:20190127T140000
DTEND;TZID=Europe/Moscow:20190127T140000
DTSTAMP:20260423T150350
CREATED:20181228T131057Z
LAST-MODIFIED:20181228T131057Z
UID:1891-1548597600-1548597600@mbstver.ru
SUMMARY:«Вспомним Ленинград»
DESCRIPTION:час памяти\n/ко Дню воинской славы России — Дню снятия блокады города Ленинграда/
URL:https://mbstver.ru/event/vspomnim-leningrad/
LOCATION:Горница\, Тверской пр-т\, д. 5\, Тверь\, Российская Федерация
END:VEVENT
BEGIN:VEVENT
DTSTART;TZID=Europe/Moscow:20190127T160000
DTEND;TZID=Europe/Moscow:20190127T160000
DTSTAMP:20260423T150350
CREATED:20181228T131158Z
LAST-MODIFIED:20181228T131158Z
UID:1893-1548604800-1548604800@mbstver.ru
SUMMARY:«Давайте познакомимся»
DESCRIPTION:концертная программа литературно-музыкального объединения\n«Странник»
URL:https://mbstver.ru/event/davajte-poznakomimsya/
LOCATION:Конференц-зал\, Тверской пр-т\, д. 5\, Тверь\, Российская Федерация
CATEGORIES:«Странник»
END:VEVENT
END:VCALENDAR