BEGIN:VCALENDAR
VERSION:2.0
PRODID:-//Муниципальная библиотечная система города Твери - ECPv6.11.2.1//NONSGML v1.0//EN
CALSCALE:GREGORIAN
METHOD:PUBLISH
X-WR-CALNAME:Муниципальная библиотечная система города Твери
X-ORIGINAL-URL:https://mbstver.ru
X-WR-CALDESC:Мероприятия для Муниципальная библиотечная система города Твери
REFRESH-INTERVAL;VALUE=DURATION:PT1H
X-Robots-Tag:noindex
X-PUBLISHED-TTL:PT1H
BEGIN:VTIMEZONE
TZID:Europe/Moscow
BEGIN:STANDARD
TZOFFSETFROM:+0300
TZOFFSETTO:+0300
TZNAME:MSK
DTSTART:20190101T000000
END:STANDARD
END:VTIMEZONE
BEGIN:VEVENT
DTSTART;TZID=Europe/Moscow:20190101T080000
DTEND;TZID=Europe/Moscow:20190228T170000
DTSTAMP:20260419T190447
CREATED:20181228T121313Z
LAST-MODIFIED:20181228T121313Z
UID:1834-1546329600-1551373200@mbstver.ru
SUMMARY:«Чародейка - зима»
DESCRIPTION:Выставка живописи учеников ДХШ им. В.А. Серова
URL:https://mbstver.ru/event/charodejka-zima/
LOCATION:Холл Детского зала\, Тверской пр-т\, д. 5\, Тверь\, Российская Федерация
END:VEVENT
BEGIN:VEVENT
DTSTART;TZID=Europe/Moscow:20190201T000000
DTEND;TZID=Europe/Moscow:20190221T000000
DTSTAMP:20260419T190447
CREATED:20190128T124756Z
LAST-MODIFIED:20190128T124756Z
UID:2370-1548979200-1550707200@mbstver.ru
SUMMARY:«Передавая мастерство»
DESCRIPTION:выставка авторского переплёта Светланы и Николы Соловьёвых
URL:https://mbstver.ru/event/peredavaya-masterstvo/
LOCATION:Холл Детского зала\, Тверской пр-т\, д. 5\, Тверь\, Российская Федерация
CATEGORIES:Выставка
END:VEVENT
BEGIN:VEVENT
DTSTART;TZID=Europe/Moscow:20190201T000000
DTEND;TZID=Europe/Moscow:20190301T000000
DTSTAMP:20260419T190447
CREATED:20190128T132753Z
LAST-MODIFIED:20190128T132753Z
UID:2417-1548979200-1551398400@mbstver.ru
SUMMARY:«Зодчий аттики преславный…»
DESCRIPTION:выставка фотоматериалов \nТверского государственного объединённого музея о становлении Николая Александровича Львова в архитектуре \nтел. 34-93-91
URL:https://mbstver.ru/event/zodchij-attiki-preslavnyj/
LOCATION:Мультимедийный библиотечный центр\, ул. С. Перовской\, д. 2\, Тверь\, Российская Федерация
CATEGORIES:Выставка,Мультимедийный библиотечный центр
END:VEVENT
BEGIN:VEVENT
DTSTART;TZID=Europe/Moscow:20190210T000000
DTEND;TZID=Europe/Moscow:20190302T000000
DTSTAMP:20260419T190447
CREATED:20190128T125010Z
LAST-MODIFIED:20190211T092423Z
UID:2372-1549756800-1551484800@mbstver.ru
SUMMARY:«Родные пейзажи»
DESCRIPTION:выставка живописи Виктора Воротникова
URL:https://mbstver.ru/event/rodnye-pejzazhi/
LOCATION:Выставочный зал\, Тверской пр-т\, д. 5\, Тверь\, Российская Федерация
CATEGORIES:Выставка
END:VEVENT
BEGIN:VEVENT
DTSTART;TZID=Europe/Moscow:20190215T100000
DTEND;TZID=Europe/Moscow:20190315T180000
DTSTAMP:20260419T190447
CREATED:20190304T142925Z
LAST-MODIFIED:20190304T142925Z
UID:3267-1550224800-1552672800@mbstver.ru
SUMMARY:«Грани талантов»
DESCRIPTION:выставка рисунков учащихся ДХШ им.В.А. Серова \nк текстам авторских басен \nежегодного городского конкурса \n«Читаем\, сочиняем\, инсценируем басню»
URL:https://mbstver.ru/event/grani-talantov-2/
LOCATION:Холл Детского зала\, Тверской пр-т\, д. 5\, Тверь\, Российская Федерация
CATEGORIES:Выставка
END:VEVENT
BEGIN:VEVENT
DTSTART;TZID=Europe/Moscow:20190220T110000
DTEND;TZID=Europe/Moscow:20190220T110000
DTSTAMP:20260419T190447
CREATED:20190128T154529Z
LAST-MODIFIED:20190128T154529Z
UID:2464-1550660400-1550660400@mbstver.ru
SUMMARY:Профессия - Родину защищать»
DESCRIPTION:час информации \n/ко Дню защитника Отечества/ \nтел. 44-44-38
URL:https://mbstver.ru/event/professiya-rodinu-zashhishhat/
LOCATION:Библиотека семейного чтения им. С.М. Кирова\, ул. Бобкова\, д. 12\, Тверь\, Российская Федерация
CATEGORIES:Библиотека им. С.М. Кирова
END:VEVENT
END:VCALENDAR