BEGIN:VCALENDAR
VERSION:2.0
PRODID:-//Муниципальная библиотечная система города Твери - ECPv6.11.2.1//NONSGML v1.0//EN
CALSCALE:GREGORIAN
METHOD:PUBLISH
X-ORIGINAL-URL:https://mbstver.ru
X-WR-CALDESC:Мероприятия для Муниципальная библиотечная система города Твери
REFRESH-INTERVAL;VALUE=DURATION:PT1H
X-Robots-Tag:noindex
X-PUBLISHED-TTL:PT1H
BEGIN:VTIMEZONE
TZID:Europe/Moscow
BEGIN:STANDARD
TZOFFSETFROM:+0300
TZOFFSETTO:+0300
TZNAME:MSK
DTSTART:20220101T000000
END:STANDARD
END:VTIMEZONE
BEGIN:VEVENT
DTSTART;VALUE=DATE:20220217
DTEND;VALUE=DATE:20220401
DTSTAMP:20260426T061837
CREATED:20220124T122751Z
LAST-MODIFIED:20220218T105144Z
UID:28720-1645056000-1648771199@mbstver.ru
SUMMARY:«Сокровищница шедевров» книжно-иллюстративная выставка /с 17 февраля по 31 марта/
DESCRIPTION:/к 170-летию со дня открытия для публики музея Государственный Эрмитаж в Санкт-Петербурге/
URL:https://mbstver.ru/event/sokrovishhnicza-shedevrov-knizhno-illyustrativnaya-vystavka-s-17-fevralya-po-31-marta/
LOCATION:Музей книги\, Тверской пр-т\, д. 5\, Тверь\, Российская Федерация
CATEGORIES:Книжно-иллюстративная выставка
ORGANIZER;CN="%D0%9E%D1%82%D0%B4%D0%B5%D0%BB %D1%80%D0%B5%D0%B4%D0%BA%D0%BE%D0%B3%D0%BE %D1%84%D0%BE%D0%BD%D0%B4%D0%B0":MAILTO:orgfond-otd@mbstver.ru
END:VEVENT
BEGIN:VEVENT
DTSTART;VALUE=DATE:20220301
DTEND;VALUE=DATE:20220401
DTSTAMP:20260426T061837
CREATED:20220221T084414Z
LAST-MODIFIED:20220221T084414Z
UID:29256-1646092800-1648771199@mbstver.ru
SUMMARY:«По страницам одной книги: Записки охотника» выставка одной книги /с 1 по 31 марта/
DESCRIPTION:/к 170-летию первого издания сборника рассказов И.С. Тургенева/
URL:https://mbstver.ru/event/po-straniczam-odnoj-knigi-zapiski-ohotnika-vystavka-odnoj-knigi-s-1-po-31-marta/
LOCATION:Музей книги\, Тверской пр-т\, д. 5\, Тверь\, Российская Федерация
CATEGORIES:Выставка одной книги
ORGANIZER;CN="%D0%9E%D1%82%D0%B4%D0%B5%D0%BB %D1%80%D0%B5%D0%B4%D0%BA%D0%BE%D0%B3%D0%BE %D1%84%D0%BE%D0%BD%D0%B4%D0%B0":MAILTO:orgfond-otd@mbstver.ru
END:VEVENT
BEGIN:VEVENT
DTSTART;VALUE=DATE:20220304
DTEND;VALUE=DATE:20220401
DTSTAMP:20260426T061837
CREATED:20220303T103446Z
LAST-MODIFIED:20220303T104231Z
UID:29557-1646352000-1648771199@mbstver.ru
SUMMARY:«Герои любимых книг» выставка работ воспитанников Тверской школы-интерната №1 /с 4 по 31 марта/
DESCRIPTION:
URL:https://mbstver.ru/event/geroi-lyubimyh-knig-vystavka-rabot-vospitannikov-tverskoj-shkoly-internata-%e2%84%961/
LOCATION:Холл Детского зала\, Тверской пр-т\, д. 5\, Тверь\, Российская Федерация
CATEGORIES:Выставка
ORGANIZER;CN="%D0%9E%D1%82%D0%B4%D0%B5%D0%BB %D0%B1%D0%B8%D0%B1%D0%BB%D0%B8%D0%BE%D1%82%D0%B5%D1%87%D0%BD%D0%BE%D0%B3%D0%BE %D0%BC%D0%B0%D1%80%D0%BA%D0%B5%D1%82%D0%B8%D0%BD%D0%B3%D0%B0 %D0%B8 %D0%BA%D1%83%D0%BB%D1%8C%D1%82%D1%83%D1%80%D0%BD%D0%BE-%D0%B4%D0%BE%D1%81%D1%83%D0%B3%D0%BE%D0%B2%D0%BE%D0%B9 %D0%B4%D0%B5%D1%8F%D1%82%D0%B5%D0%BB%D1%8C%D0%BD%D0%BE%D1%81%D1%82%D0%B8":MAILTO:o_dosugd@mbstver.ru
END:VEVENT
BEGIN:VEVENT
DTSTART;VALUE=DATE:20220317
DTEND;VALUE=DATE:20220418
DTSTAMP:20260426T061837
CREATED:20220224T115657Z
LAST-MODIFIED:20220331T122000Z
UID:29400-1647475200-1650239999@mbstver.ru
SUMMARY:«Радость творчества» выставка живописи Лидии Исаковой /с 17 марта по 17 апреля/
DESCRIPTION:
URL:https://mbstver.ru/event/radost-tvorchestva-vystavka-zhivopisi-lidii-isaevoj-s-17-marta-po-17-aprelya/
LOCATION:Библиотека семейного чтения им. П.А. Кропоткина\, ул. Фурманова\, д. 1\, корп. А\, Тверь\, Российская Федерация
CATEGORIES:Выставка живописи
ORGANIZER;CN="%D0%91%D0%B8%D0%B1%D0%BB%D0%B8%D0%BE%D1%82%D0%B5%D0%BA%D0%B0 %D1%81%D0%B5%D0%BC%D0%B5%D0%B9%D0%BD%D0%BE%D0%B3%D0%BE %D1%87%D1%82%D0%B5%D0%BD%D0%B8%D1%8F %D0%B8%D0%BC. %D0%9F.%D0%90. %D0%9A%D1%80%D0%BE%D0%BF%D0%BE%D1%82%D0%BA%D0%B8%D0%BD%D0%B0":MAILTO:f1tver@yandex.ru; library_f1@mbstver.ru
END:VEVENT
BEGIN:VEVENT
DTSTART;VALUE=DATE:20220318
DTEND;VALUE=DATE:20220409
DTSTAMP:20260426T061837
CREATED:20220303T105709Z
LAST-MODIFIED:20220303T105709Z
UID:29563-1647561600-1649462399@mbstver.ru
SUMMARY:«Чувства в красках» выставка живописи Анны Кашириной /с 18 марта по 8 апреля/
DESCRIPTION:
URL:https://mbstver.ru/event/chuvstva-v-kraskah-vystavka-zhivopisi-anny-kashirinoj-s-18-marta-po-8-aprelya/
LOCATION:Выставочный зал\, Тверской пр-т\, д. 5\, Тверь\, Российская Федерация
CATEGORIES:Выставка живописи
ORGANIZER;CN="%D0%9E%D1%82%D0%B4%D0%B5%D0%BB %D0%B1%D0%B8%D0%B1%D0%BB%D0%B8%D0%BE%D1%82%D0%B5%D1%87%D0%BD%D0%BE%D0%B3%D0%BE %D0%BC%D0%B0%D1%80%D0%BA%D0%B5%D1%82%D0%B8%D0%BD%D0%B3%D0%B0 %D0%B8 %D0%BA%D1%83%D0%BB%D1%8C%D1%82%D1%83%D1%80%D0%BD%D0%BE-%D0%B4%D0%BE%D1%81%D1%83%D0%B3%D0%BE%D0%B2%D0%BE%D0%B9 %D0%B4%D0%B5%D1%8F%D1%82%D0%B5%D0%BB%D1%8C%D0%BD%D0%BE%D1%81%D1%82%D0%B8":MAILTO:o_dosugd@mbstver.ru
END:VEVENT
BEGIN:VEVENT
DTSTART;TZID=Europe/Moscow:20220321T100000
DTEND;TZID=Europe/Moscow:20220321T100000
DTSTAMP:20260426T061837
CREATED:20220221T083634Z
LAST-MODIFIED:20220221T083634Z
UID:29246-1647856800-1647856800@mbstver.ru
SUMMARY:«Пронзительная честность сюжетов» видеоролик
DESCRIPTION:/к 105-летию со дня рождения Юрия Петрович Кугача (1917-2013)\, народного художника СССР — 21 марта/
URL:https://mbstver.ru/event/pronzitelnaya-chestnost-syuzhetov-videorolik/
LOCATION:Группа ВК
CATEGORIES:Видеоролик
ORGANIZER;CN="%D0%98%D0%BD%D1%84%D0%BE%D1%80%D0%BC%D0%B0%D1%86%D0%B8%D0%BE%D0%BD%D0%BD%D0%BE-%D0%B1%D0%B8%D0%B1%D0%BB%D0%B8%D0%BE%D0%B3%D1%80%D0%B0%D1%84%D0%B8%D1%87%D0%B5%D1%81%D0%BA%D0%B8%D0%B9 %D0%BE%D1%82%D0%B4%D0%B5%D0%BB":MAILTO:ib-otd@mbstver.ru
END:VEVENT
BEGIN:VEVENT
DTSTART;TZID=Europe/Moscow:20220321T100000
DTEND;TZID=Europe/Moscow:20220321T100000
DTSTAMP:20260426T061837
CREATED:20220221T084153Z
LAST-MODIFIED:20220322T081126Z
UID:29254-1647856800-1647856800@mbstver.ru
SUMMARY:«Добрый мир сказок Корнея Чуковского» виртуальная книжная выставка
DESCRIPTION:/к 140-летию со дня рождения Корнея Ивановича Чуковского (1882-1969)\, русского писателя\, критика\, литературоведа — 31 марта/
URL:https://mbstver.ru/event/dobryj-mir-skazok-korneya-chukovskogo-virtualnaya-knizhnaya-vystavka/
LOCATION:Группа ВК
CATEGORIES:Виртуальная выставка
ORGANIZER;CN="%D0%98%D0%BD%D1%84%D0%BE%D1%80%D0%BC%D0%B0%D1%86%D0%B8%D0%BE%D0%BD%D0%BD%D0%BE-%D0%B1%D0%B8%D0%B1%D0%BB%D0%B8%D0%BE%D0%B3%D1%80%D0%B0%D1%84%D0%B8%D1%87%D0%B5%D1%81%D0%BA%D0%B8%D0%B9 %D0%BE%D1%82%D0%B4%D0%B5%D0%BB":MAILTO:ib-otd@mbstver.ru
END:VEVENT
BEGIN:VEVENT
DTSTART;TZID=Europe/Moscow:20220321T110000
DTEND;TZID=Europe/Moscow:20220321T110000
DTSTAMP:20260426T061837
CREATED:20220224T114902Z
LAST-MODIFIED:20220224T114902Z
UID:29392-1647860400-1647860400@mbstver.ru
SUMMARY:«Тверские мотивы» литературный час
DESCRIPTION:/к Всемирному дню поэзии — 21 марта/
URL:https://mbstver.ru/event/tverskie-motivy-literaturnyj-chas/
LOCATION:Группа ВК_30
CATEGORIES:Литературный час
ORGANIZER;CN="%D0%91%D0%B8%D0%B1%D0%BB%D0%B8%D0%BE%D1%82%D0%B5%D0%BA%D0%B0 %D1%81%D0%B5%D0%BC%D0%B5%D0%B9%D0%BD%D0%BE%D0%B3%D0%BE %D1%87%D1%82%D0%B5%D0%BD%D0%B8%D1%8F %D0%BC%D0%B8%D0%BA%D1%80%D0%BE%D1%80%D0%B0%D0%B9%D0%BE%D0%BD%D0%B0 %D0%AE%D0%BD%D0%BE%D1%81%D1%82%D1%8C":MAILTO:mukfil30@yandex.ru; library_f30@mbstver.ru
END:VEVENT
BEGIN:VEVENT
DTSTART;TZID=Europe/Moscow:20220321T120000
DTEND;TZID=Europe/Moscow:20220321T130000
DTSTAMP:20260426T061837
CREATED:20220221T075045Z
LAST-MODIFIED:20220317T111433Z
UID:29222-1647864000-1647867600@mbstver.ru
SUMMARY:«День рождения лужи» литературная программа по творчеству Михаила Яснова\, мастер-класс по изготовлению поделки по одному из произведений автора
DESCRIPTION:/к Неделе детской книги; к Всемирному дню поэзии — 21 марта/
URL:https://mbstver.ru/event/den-rozhdeniya-luzhi-literaturnaya-programma-po-tvorchestvu-mihaila-yasnova/
LOCATION:Детский зал\, Тверской пр-т\, д. 5\, Тверь\, Российская Федерация
CATEGORIES:Литературная программа
ORGANIZER;CN="%D0%9E%D1%82%D0%B4%D0%B5%D0%BB %D0%BE%D0%B1%D1%81%D0%BB%D1%83%D0%B6%D0%B8%D0%B2%D0%B0%D0%BD%D0%B8%D1%8F %D0%B4%D0%B5%D1%82%D0%B5%D0%B9":MAILTO:detsky-otd@mbstver.ru
END:VEVENT
BEGIN:VEVENT
DTSTART;TZID=Europe/Moscow:20220321T150000
DTEND;TZID=Europe/Moscow:20220321T150000
DTSTAMP:20260426T061837
CREATED:20220221T083738Z
LAST-MODIFIED:20220221T083738Z
UID:29248-1647874800-1647874800@mbstver.ru
SUMMARY:«Читаем в Герценке» громкое чтение
DESCRIPTION:/к Всемирному дню поэзии — 21 марта/
URL:https://mbstver.ru/event/chitaem-v-gerczenke-gromkoe-chtenie/
LOCATION:Группа ВК
CATEGORIES:Громкое чтение
ORGANIZER;CN="%D0%9E%D1%82%D0%B4%D0%B5%D0%BB %D0%B1%D0%B8%D0%B1%D0%BB%D0%B8%D0%BE%D1%82%D0%B5%D1%87%D0%BD%D0%BE%D0%B3%D0%BE %D0%BC%D0%B0%D1%80%D0%BA%D0%B5%D1%82%D0%B8%D0%BD%D0%B3%D0%B0 %D0%B8 %D0%BA%D1%83%D0%BB%D1%8C%D1%82%D1%83%D1%80%D0%BD%D0%BE-%D0%B4%D0%BE%D1%81%D1%83%D0%B3%D0%BE%D0%B2%D0%BE%D0%B9 %D0%B4%D0%B5%D1%8F%D1%82%D0%B5%D0%BB%D1%8C%D0%BD%D0%BE%D1%81%D1%82%D0%B8":MAILTO:o_dosugd@mbstver.ru
END:VEVENT
BEGIN:VEVENT
DTSTART;TZID=Europe/Moscow:20220321T170000
DTEND;TZID=Europe/Moscow:20220321T180000
DTSTAMP:20260426T061837
CREATED:20220317T105722Z
LAST-MODIFIED:20220317T105722Z
UID:29782-1647882000-1647885600@mbstver.ru
SUMMARY:«Оборонительные сооружения Тверского кремля XII-XVII веков» презентация книги
DESCRIPTION:
URL:https://mbstver.ru/event/oboronitelnye-sooruzheniya-tverskogo-kremlya-xii-xvii-vekov-prezentacziya-knigi/
LOCATION:Михайловский зал\, Тверской пр-т\, д. 5\, Тверь\, Российская Федерация
CATEGORIES:Презентация книги
ORGANIZER;CN="%D0%9E%D1%82%D0%B4%D0%B5%D0%BB %D0%BE%D0%B1%D1%81%D0%BB%D1%83%D0%B6%D0%B8%D0%B2%D0%B0%D0%BD%D0%B8%D1%8F %D0%B8 %D0%BA%D0%BD%D0%B8%D0%B3%D0%BE%D1%85%D1%80%D0%B0%D0%BD%D0%B5%D0%BD%D0%B8%D1%8F":MAILTO:otd-obsl@mbstver.ru
END:VEVENT
END:VCALENDAR