BEGIN:VCALENDAR
VERSION:2.0
PRODID:-//Муниципальная библиотечная система города Твери - ECPv6.11.2.1//NONSGML v1.0//EN
CALSCALE:GREGORIAN
METHOD:PUBLISH
X-ORIGINAL-URL:https://mbstver.ru
X-WR-CALDESC:Мероприятия для Муниципальная библиотечная система города Твери
REFRESH-INTERVAL;VALUE=DURATION:PT1H
X-Robots-Tag:noindex
X-PUBLISHED-TTL:PT1H
BEGIN:VTIMEZONE
TZID:Europe/Moscow
BEGIN:STANDARD
TZOFFSETFROM:+0300
TZOFFSETTO:+0300
TZNAME:MSK
DTSTART:20220101T000000
END:STANDARD
END:VTIMEZONE
BEGIN:VEVENT
DTSTART;VALUE=DATE:20220217
DTEND;VALUE=DATE:20220401
DTSTAMP:20260425T205326
CREATED:20220124T122751Z
LAST-MODIFIED:20220218T105144Z
UID:28720-1645056000-1648771199@mbstver.ru
SUMMARY:«Сокровищница шедевров» книжно-иллюстративная выставка /с 17 февраля по 31 марта/
DESCRIPTION:/к 170-летию со дня открытия для публики музея Государственный Эрмитаж в Санкт-Петербурге/
URL:https://mbstver.ru/event/sokrovishhnicza-shedevrov-knizhno-illyustrativnaya-vystavka-s-17-fevralya-po-31-marta/
LOCATION:Музей книги\, Тверской пр-т\, д. 5\, Тверь\, Российская Федерация
CATEGORIES:Книжно-иллюстративная выставка
ORGANIZER;CN="%D0%9E%D1%82%D0%B4%D0%B5%D0%BB %D1%80%D0%B5%D0%B4%D0%BA%D0%BE%D0%B3%D0%BE %D1%84%D0%BE%D0%BD%D0%B4%D0%B0":MAILTO:orgfond-otd@mbstver.ru
END:VEVENT
BEGIN:VEVENT
DTSTART;VALUE=DATE:20220301
DTEND;VALUE=DATE:20220401
DTSTAMP:20260425T205326
CREATED:20220221T084414Z
LAST-MODIFIED:20220221T084414Z
UID:29256-1646092800-1648771199@mbstver.ru
SUMMARY:«По страницам одной книги: Записки охотника» выставка одной книги /с 1 по 31 марта/
DESCRIPTION:/к 170-летию первого издания сборника рассказов И.С. Тургенева/
URL:https://mbstver.ru/event/po-straniczam-odnoj-knigi-zapiski-ohotnika-vystavka-odnoj-knigi-s-1-po-31-marta/
LOCATION:Музей книги\, Тверской пр-т\, д. 5\, Тверь\, Российская Федерация
CATEGORIES:Выставка одной книги
ORGANIZER;CN="%D0%9E%D1%82%D0%B4%D0%B5%D0%BB %D1%80%D0%B5%D0%B4%D0%BA%D0%BE%D0%B3%D0%BE %D1%84%D0%BE%D0%BD%D0%B4%D0%B0":MAILTO:orgfond-otd@mbstver.ru
END:VEVENT
BEGIN:VEVENT
DTSTART;VALUE=DATE:20220304
DTEND;VALUE=DATE:20220401
DTSTAMP:20260425T205326
CREATED:20220303T103446Z
LAST-MODIFIED:20220303T104231Z
UID:29557-1646352000-1648771199@mbstver.ru
SUMMARY:«Герои любимых книг» выставка работ воспитанников Тверской школы-интерната №1 /с 4 по 31 марта/
DESCRIPTION:
URL:https://mbstver.ru/event/geroi-lyubimyh-knig-vystavka-rabot-vospitannikov-tverskoj-shkoly-internata-%e2%84%961/
LOCATION:Холл Детского зала\, Тверской пр-т\, д. 5\, Тверь\, Российская Федерация
CATEGORIES:Выставка
ORGANIZER;CN="%D0%9E%D1%82%D0%B4%D0%B5%D0%BB %D0%B1%D0%B8%D0%B1%D0%BB%D0%B8%D0%BE%D1%82%D0%B5%D1%87%D0%BD%D0%BE%D0%B3%D0%BE %D0%BC%D0%B0%D1%80%D0%BA%D0%B5%D1%82%D0%B8%D0%BD%D0%B3%D0%B0 %D0%B8 %D0%BA%D1%83%D0%BB%D1%8C%D1%82%D1%83%D1%80%D0%BD%D0%BE-%D0%B4%D0%BE%D1%81%D1%83%D0%B3%D0%BE%D0%B2%D0%BE%D0%B9 %D0%B4%D0%B5%D1%8F%D1%82%D0%B5%D0%BB%D1%8C%D0%BD%D0%BE%D1%81%D1%82%D0%B8":MAILTO:o_dosugd@mbstver.ru
END:VEVENT
BEGIN:VEVENT
DTSTART;VALUE=DATE:20220317
DTEND;VALUE=DATE:20220418
DTSTAMP:20260425T205326
CREATED:20220224T115657Z
LAST-MODIFIED:20220331T122000Z
UID:29400-1647475200-1650239999@mbstver.ru
SUMMARY:«Радость творчества» выставка живописи Лидии Исаковой /с 17 марта по 17 апреля/
DESCRIPTION:
URL:https://mbstver.ru/event/radost-tvorchestva-vystavka-zhivopisi-lidii-isaevoj-s-17-marta-po-17-aprelya/
LOCATION:Библиотека семейного чтения им. П.А. Кропоткина\, ул. Фурманова\, д. 1\, корп. А\, Тверь\, Российская Федерация
CATEGORIES:Выставка живописи
ORGANIZER;CN="%D0%91%D0%B8%D0%B1%D0%BB%D0%B8%D0%BE%D1%82%D0%B5%D0%BA%D0%B0 %D1%81%D0%B5%D0%BC%D0%B5%D0%B9%D0%BD%D0%BE%D0%B3%D0%BE %D1%87%D1%82%D0%B5%D0%BD%D0%B8%D1%8F %D0%B8%D0%BC. %D0%9F.%D0%90. %D0%9A%D1%80%D0%BE%D0%BF%D0%BE%D1%82%D0%BA%D0%B8%D0%BD%D0%B0":MAILTO:f1tver@yandex.ru; library_f1@mbstver.ru
END:VEVENT
BEGIN:VEVENT
DTSTART;VALUE=DATE:20220318
DTEND;VALUE=DATE:20220409
DTSTAMP:20260425T205326
CREATED:20220303T105709Z
LAST-MODIFIED:20220303T105709Z
UID:29563-1647561600-1649462399@mbstver.ru
SUMMARY:«Чувства в красках» выставка живописи Анны Кашириной /с 18 марта по 8 апреля/
DESCRIPTION:
URL:https://mbstver.ru/event/chuvstva-v-kraskah-vystavka-zhivopisi-anny-kashirinoj-s-18-marta-po-8-aprelya/
LOCATION:Выставочный зал\, Тверской пр-т\, д. 5\, Тверь\, Российская Федерация
CATEGORIES:Выставка живописи
ORGANIZER;CN="%D0%9E%D1%82%D0%B4%D0%B5%D0%BB %D0%B1%D0%B8%D0%B1%D0%BB%D0%B8%D0%BE%D1%82%D0%B5%D1%87%D0%BD%D0%BE%D0%B3%D0%BE %D0%BC%D0%B0%D1%80%D0%BA%D0%B5%D1%82%D0%B8%D0%BD%D0%B3%D0%B0 %D0%B8 %D0%BA%D1%83%D0%BB%D1%8C%D1%82%D1%83%D1%80%D0%BD%D0%BE-%D0%B4%D0%BE%D1%81%D1%83%D0%B3%D0%BE%D0%B2%D0%BE%D0%B9 %D0%B4%D0%B5%D1%8F%D1%82%D0%B5%D0%BB%D1%8C%D0%BD%D0%BE%D1%81%D1%82%D0%B8":MAILTO:o_dosugd@mbstver.ru
END:VEVENT
BEGIN:VEVENT
DTSTART;TZID=Europe/Moscow:20220326T120000
DTEND;TZID=Europe/Moscow:20220326T120000
DTSTAMP:20260425T205326
CREATED:20220224T115253Z
LAST-MODIFIED:20220328T141312Z
UID:29396-1648296000-1648296000@mbstver.ru
SUMMARY:«В стране весёлого детства» виртуальная книжная выставка
DESCRIPTION:/к Неделе детской книги/
URL:https://mbstver.ru/event/v-strane-veselogo-detstva-virtualnaya-knizhnaya-vystavka/
LOCATION:Группа ВК_27
CATEGORIES:Виртуальная выставка
ORGANIZER;CN="%D0%91%D0%B8%D0%B1%D0%BB%D0%B8%D0%BE%D1%82%D0%B5%D0%BA%D0%B0 %D1%81%D0%B5%D0%BC%D0%B5%D0%B9%D0%BD%D0%BE%D0%B3%D0%BE %D1%87%D1%82%D0%B5%D0%BD%D0%B8%D1%8F %D0%BC%D0%B8%D0%BA%D1%80%D0%BE%D1%80%D0%B0%D0%B9%D0%BE%D0%BD%D0%B0 %D0%AE%D0%B6%D0%BD%D1%8B%D0%B9":MAILTO:library_f27@mbstver.ru
END:VEVENT
BEGIN:VEVENT
DTSTART;TZID=Europe/Moscow:20220326T120000
DTEND;TZID=Europe/Moscow:20220326T130000
DTSTAMP:20260425T205326
CREATED:20220221T080009Z
LAST-MODIFIED:20220317T112037Z
UID:29230-1648296000-1648299600@mbstver.ru
SUMMARY:«Прилетала птичка в гости» экологический час с мастер-классом по изготовлению птички из ткани
DESCRIPTION:/к Международному дню птиц — 1 апреля; к Неделе детской книги/
URL:https://mbstver.ru/event/priletala-ptichka-v-gosti-ekologicheskij-chas-2/
LOCATION:Детский зал\, Тверской пр-т\, д. 5\, Тверь\, Российская Федерация
CATEGORIES:Экологический час
ORGANIZER;CN="%D0%9E%D1%82%D0%B4%D0%B5%D0%BB %D0%BE%D0%B1%D1%81%D0%BB%D1%83%D0%B6%D0%B8%D0%B2%D0%B0%D0%BD%D0%B8%D1%8F %D0%B4%D0%B5%D1%82%D0%B5%D0%B9":MAILTO:detsky-otd@mbstver.ru
END:VEVENT
BEGIN:VEVENT
DTSTART;TZID=Europe/Moscow:20220326T130000
DTEND;TZID=Europe/Moscow:20220326T140000
DTSTAMP:20260425T205326
CREATED:20220221T093539Z
LAST-MODIFIED:20220221T093539Z
UID:29290-1648299600-1648303200@mbstver.ru
SUMMARY:«Однажды в сказке...» мастер-класс: рисунок в технике правополушарного рисования
DESCRIPTION:/к Неделе детской книги/
URL:https://mbstver.ru/event/odnazhdy-v-skazke-master-klass-risunok-v-tehnike-pravopolusharnogo-risovaniya/
LOCATION:Детская библиотека им. Афанасия Никитина\, наб. А. Никитина\, д. 54\, Тверь\, Российская Федерация
CATEGORIES:Мастер-класс
ORGANIZER;CN="%D0%94%D0%B5%D1%82%D1%81%D0%BA%D0%B0%D1%8F %D0%B1%D0%B8%D0%B1%D0%BB%D0%B8%D0%BE%D1%82%D0%B5%D0%BA%D0%B0 %D0%B8%D0%BC. %D0%90%D1%84%D0%B0%D0%BD%D0%B0%D1%81%D0%B8%D1%8F %D0%9D%D0%B8%D0%BA%D0%B8%D1%82%D0%B8%D0%BD%D0%B0":MAILTO:library_f18@mbstver.ru
END:VEVENT
BEGIN:VEVENT
DTSTART;TZID=Europe/Moscow:20220326T140000
DTEND;TZID=Europe/Moscow:20220326T150000
DTSTAMP:20260425T205326
CREATED:20220221T093656Z
LAST-MODIFIED:20220221T093656Z
UID:29292-1648303200-1648306800@mbstver.ru
SUMMARY:«Я - красивая закладка» мастер-класс
DESCRIPTION:/к Неделе детской книги/
URL:https://mbstver.ru/event/ya-krasivaya-zakladka-master-klass/
LOCATION:Библиотека семейного чтения им. Евгения Сигарева\, ул. Кольцевая\, д. 76\, Тверь\, Российская Федерация
CATEGORIES:Мастер-класс
ORGANIZER;CN="%D0%91%D0%B8%D0%B1%D0%BB%D0%B8%D0%BE%D1%82%D0%B5%D0%BA%D0%B0 %D1%81%D0%B5%D0%BC%D0%B5%D0%B9%D0%BD%D0%BE%D0%B3%D0%BE %D1%87%D1%82%D0%B5%D0%BD%D0%B8%D1%8F %D0%B8%D0%BC. %D0%95%D0%B2%D0%B3%D0%B5%D0%BD%D0%B8%D1%8F %D0%A1%D0%B8%D0%B3%D0%B0%D1%80%D0%B5%D0%B2%D0%B0":MAILTO:mbsfil8@yandex.ru
END:VEVENT
BEGIN:VEVENT
DTSTART;TZID=Europe/Moscow:20220326T150000
DTEND;TZID=Europe/Moscow:20220326T160000
DTSTAMP:20260425T205326
CREATED:20220317T111036Z
LAST-MODIFIED:20220317T111036Z
UID:29785-1648306800-1648310400@mbstver.ru
SUMMARY:«Весенний концерт» концертная программа учащихся детской школы искусств №1 им. М.П. Мусоргского
DESCRIPTION:
URL:https://mbstver.ru/event/vesennij-konczert-konczertnaya-programma-uchashhihsya-detskoj-shkoly-iskusstv-%e2%84%961-im-m-p-musorgskogo/
LOCATION:Горница\, Тверской пр-т\, д. 5\, Тверь\, Российская Федерация
CATEGORIES:Концертная программа
ORGANIZER;CN="%D0%9E%D1%82%D0%B4%D0%B5%D0%BB %D0%B1%D0%B8%D0%B1%D0%BB%D0%B8%D0%BE%D1%82%D0%B5%D1%87%D0%BD%D0%BE%D0%B3%D0%BE %D0%BC%D0%B0%D1%80%D0%BA%D0%B5%D1%82%D0%B8%D0%BD%D0%B3%D0%B0 %D0%B8 %D0%BA%D1%83%D0%BB%D1%8C%D1%82%D1%83%D1%80%D0%BD%D0%BE-%D0%B4%D0%BE%D1%81%D1%83%D0%B3%D0%BE%D0%B2%D0%BE%D0%B9 %D0%B4%D0%B5%D1%8F%D1%82%D0%B5%D0%BB%D1%8C%D0%BD%D0%BE%D1%81%D1%82%D0%B8":MAILTO:o_dosugd@mbstver.ru
END:VEVENT
BEGIN:VEVENT
DTSTART;TZID=Europe/Moscow:20220326T160000
DTEND;TZID=Europe/Moscow:20220326T183000
DTSTAMP:20260425T205326
CREATED:20220221T080228Z
LAST-MODIFIED:20220221T080228Z
UID:29232-1648310400-1648319400@mbstver.ru
SUMMARY:«Развод Надера и Симин» кинолекторий в клубе «Диалог»
DESCRIPTION:/реж. А. Фархади\, Иран\, 2011г./
URL:https://mbstver.ru/event/razvod-nadera-i-simin-kinolektorij-v-klube-dialog/
LOCATION:Конференц-зал\, Тверской пр-т\, д. 5\, Тверь\, Российская Федерация
CATEGORIES:Кинолекторий
ORGANIZER;CN="%D0%9E%D1%82%D0%B4%D0%B5%D0%BB %D0%B1%D0%B8%D0%B1%D0%BB%D0%B8%D0%BE%D1%82%D0%B5%D1%87%D0%BD%D0%BE%D0%B3%D0%BE %D0%BC%D0%B0%D1%80%D0%BA%D0%B5%D1%82%D0%B8%D0%BD%D0%B3%D0%B0 %D0%B8 %D0%BA%D1%83%D0%BB%D1%8C%D1%82%D1%83%D1%80%D0%BD%D0%BE-%D0%B4%D0%BE%D1%81%D1%83%D0%B3%D0%BE%D0%B2%D0%BE%D0%B9 %D0%B4%D0%B5%D1%8F%D1%82%D0%B5%D0%BB%D1%8C%D0%BD%D0%BE%D1%81%D1%82%D0%B8":MAILTO:o_dosugd@mbstver.ru
END:VEVENT
BEGIN:VEVENT
DTSTART;TZID=Europe/Moscow:20220326T173000
DTEND;TZID=Europe/Moscow:20220326T183000
DTSTAMP:20260425T205326
CREATED:20220303T124537Z
LAST-MODIFIED:20220303T124537Z
UID:29587-1648315800-1648319400@mbstver.ru
SUMMARY:«Непорочный микрофон» юмористическое шоу
DESCRIPTION:
URL:https://mbstver.ru/event/neporochnyj-mikrofon-yumoristicheskoe-shou-4/
LOCATION:Горница\, Тверской пр-т\, д. 5\, Тверь\, Российская Федерация
CATEGORIES:Юмористическое шоу
ORGANIZER;CN="%D0%9E%D1%82%D0%B4%D0%B5%D0%BB %D0%B1%D0%B8%D0%B1%D0%BB%D0%B8%D0%BE%D1%82%D0%B5%D1%87%D0%BD%D0%BE%D0%B3%D0%BE %D0%BC%D0%B0%D1%80%D0%BA%D0%B5%D1%82%D0%B8%D0%BD%D0%B3%D0%B0 %D0%B8 %D0%BA%D1%83%D0%BB%D1%8C%D1%82%D1%83%D1%80%D0%BD%D0%BE-%D0%B4%D0%BE%D1%81%D1%83%D0%B3%D0%BE%D0%B2%D0%BE%D0%B9 %D0%B4%D0%B5%D1%8F%D1%82%D0%B5%D0%BB%D1%8C%D0%BD%D0%BE%D1%81%D1%82%D0%B8":MAILTO:o_dosugd@mbstver.ru
END:VEVENT
END:VCALENDAR