BEGIN:VCALENDAR
VERSION:2.0
PRODID:-//Муниципальная библиотечная система города Твери - ECPv6.11.2.1//NONSGML v1.0//EN
CALSCALE:GREGORIAN
METHOD:PUBLISH
X-ORIGINAL-URL:https://mbstver.ru
X-WR-CALDESC:Мероприятия для Муниципальная библиотечная система города Твери
REFRESH-INTERVAL;VALUE=DURATION:PT1H
X-Robots-Tag:noindex
X-PUBLISHED-TTL:PT1H
BEGIN:VTIMEZONE
TZID:Europe/Moscow
BEGIN:STANDARD
TZOFFSETFROM:+0300
TZOFFSETTO:+0300
TZNAME:MSK
DTSTART:20220101T000000
END:STANDARD
END:VTIMEZONE
BEGIN:VEVENT
DTSTART;VALUE=DATE:20220217
DTEND;VALUE=DATE:20220401
DTSTAMP:20260425T191540
CREATED:20220124T122751Z
LAST-MODIFIED:20220218T105144Z
UID:28720-1645056000-1648771199@mbstver.ru
SUMMARY:«Сокровищница шедевров» книжно-иллюстративная выставка /с 17 февраля по 31 марта/
DESCRIPTION:/к 170-летию со дня открытия для публики музея Государственный Эрмитаж в Санкт-Петербурге/
URL:https://mbstver.ru/event/sokrovishhnicza-shedevrov-knizhno-illyustrativnaya-vystavka-s-17-fevralya-po-31-marta/
LOCATION:Музей книги\, Тверской пр-т\, д. 5\, Тверь\, Российская Федерация
CATEGORIES:Книжно-иллюстративная выставка
ORGANIZER;CN="%D0%9E%D1%82%D0%B4%D0%B5%D0%BB %D1%80%D0%B5%D0%B4%D0%BA%D0%BE%D0%B3%D0%BE %D1%84%D0%BE%D0%BD%D0%B4%D0%B0":MAILTO:orgfond-otd@mbstver.ru
END:VEVENT
BEGIN:VEVENT
DTSTART;VALUE=DATE:20220301
DTEND;VALUE=DATE:20220401
DTSTAMP:20260425T191540
CREATED:20220221T084414Z
LAST-MODIFIED:20220221T084414Z
UID:29256-1646092800-1648771199@mbstver.ru
SUMMARY:«По страницам одной книги: Записки охотника» выставка одной книги /с 1 по 31 марта/
DESCRIPTION:/к 170-летию первого издания сборника рассказов И.С. Тургенева/
URL:https://mbstver.ru/event/po-straniczam-odnoj-knigi-zapiski-ohotnika-vystavka-odnoj-knigi-s-1-po-31-marta/
LOCATION:Музей книги\, Тверской пр-т\, д. 5\, Тверь\, Российская Федерация
CATEGORIES:Выставка одной книги
ORGANIZER;CN="%D0%9E%D1%82%D0%B4%D0%B5%D0%BB %D1%80%D0%B5%D0%B4%D0%BA%D0%BE%D0%B3%D0%BE %D1%84%D0%BE%D0%BD%D0%B4%D0%B0":MAILTO:orgfond-otd@mbstver.ru
END:VEVENT
BEGIN:VEVENT
DTSTART;VALUE=DATE:20220304
DTEND;VALUE=DATE:20220401
DTSTAMP:20260425T191540
CREATED:20220303T103446Z
LAST-MODIFIED:20220303T104231Z
UID:29557-1646352000-1648771199@mbstver.ru
SUMMARY:«Герои любимых книг» выставка работ воспитанников Тверской школы-интерната №1 /с 4 по 31 марта/
DESCRIPTION:
URL:https://mbstver.ru/event/geroi-lyubimyh-knig-vystavka-rabot-vospitannikov-tverskoj-shkoly-internata-%e2%84%961/
LOCATION:Холл Детского зала\, Тверской пр-т\, д. 5\, Тверь\, Российская Федерация
CATEGORIES:Выставка
ORGANIZER;CN="%D0%9E%D1%82%D0%B4%D0%B5%D0%BB %D0%B1%D0%B8%D0%B1%D0%BB%D0%B8%D0%BE%D1%82%D0%B5%D1%87%D0%BD%D0%BE%D0%B3%D0%BE %D0%BC%D0%B0%D1%80%D0%BA%D0%B5%D1%82%D0%B8%D0%BD%D0%B3%D0%B0 %D0%B8 %D0%BA%D1%83%D0%BB%D1%8C%D1%82%D1%83%D1%80%D0%BD%D0%BE-%D0%B4%D0%BE%D1%81%D1%83%D0%B3%D0%BE%D0%B2%D0%BE%D0%B9 %D0%B4%D0%B5%D1%8F%D1%82%D0%B5%D0%BB%D1%8C%D0%BD%D0%BE%D1%81%D1%82%D0%B8":MAILTO:o_dosugd@mbstver.ru
END:VEVENT
BEGIN:VEVENT
DTSTART;VALUE=DATE:20220317
DTEND;VALUE=DATE:20220418
DTSTAMP:20260425T191540
CREATED:20220224T115657Z
LAST-MODIFIED:20220331T122000Z
UID:29400-1647475200-1650239999@mbstver.ru
SUMMARY:«Радость творчества» выставка живописи Лидии Исаковой /с 17 марта по 17 апреля/
DESCRIPTION:
URL:https://mbstver.ru/event/radost-tvorchestva-vystavka-zhivopisi-lidii-isaevoj-s-17-marta-po-17-aprelya/
LOCATION:Библиотека семейного чтения им. П.А. Кропоткина\, ул. Фурманова\, д. 1\, корп. А\, Тверь\, Российская Федерация
CATEGORIES:Выставка живописи
ORGANIZER;CN="%D0%91%D0%B8%D0%B1%D0%BB%D0%B8%D0%BE%D1%82%D0%B5%D0%BA%D0%B0 %D1%81%D0%B5%D0%BC%D0%B5%D0%B9%D0%BD%D0%BE%D0%B3%D0%BE %D1%87%D1%82%D0%B5%D0%BD%D0%B8%D1%8F %D0%B8%D0%BC. %D0%9F.%D0%90. %D0%9A%D1%80%D0%BE%D0%BF%D0%BE%D1%82%D0%BA%D0%B8%D0%BD%D0%B0":MAILTO:f1tver@yandex.ru; library_f1@mbstver.ru
END:VEVENT
BEGIN:VEVENT
DTSTART;VALUE=DATE:20220318
DTEND;VALUE=DATE:20220409
DTSTAMP:20260425T191540
CREATED:20220303T105709Z
LAST-MODIFIED:20220303T105709Z
UID:29563-1647561600-1649462399@mbstver.ru
SUMMARY:«Чувства в красках» выставка живописи Анны Кашириной /с 18 марта по 8 апреля/
DESCRIPTION:
URL:https://mbstver.ru/event/chuvstva-v-kraskah-vystavka-zhivopisi-anny-kashirinoj-s-18-marta-po-8-aprelya/
LOCATION:Выставочный зал\, Тверской пр-т\, д. 5\, Тверь\, Российская Федерация
CATEGORIES:Выставка живописи
ORGANIZER;CN="%D0%9E%D1%82%D0%B4%D0%B5%D0%BB %D0%B1%D0%B8%D0%B1%D0%BB%D0%B8%D0%BE%D1%82%D0%B5%D1%87%D0%BD%D0%BE%D0%B3%D0%BE %D0%BC%D0%B0%D1%80%D0%BA%D0%B5%D1%82%D0%B8%D0%BD%D0%B3%D0%B0 %D0%B8 %D0%BA%D1%83%D0%BB%D1%8C%D1%82%D1%83%D1%80%D0%BD%D0%BE-%D0%B4%D0%BE%D1%81%D1%83%D0%B3%D0%BE%D0%B2%D0%BE%D0%B9 %D0%B4%D0%B5%D1%8F%D1%82%D0%B5%D0%BB%D1%8C%D0%BD%D0%BE%D1%81%D1%82%D0%B8":MAILTO:o_dosugd@mbstver.ru
END:VEVENT
BEGIN:VEVENT
DTSTART;TZID=Europe/Moscow:20220327T120000
DTEND;TZID=Europe/Moscow:20220327T130000
DTSTAMP:20260425T191540
CREATED:20220221T080400Z
LAST-MODIFIED:20220317T112129Z
UID:29234-1648382400-1648386000@mbstver.ru
SUMMARY:«Весеннее настроение» творческий мастер-класс для всей семьи
DESCRIPTION:/к Неделе детской книги/
URL:https://mbstver.ru/event/vesennee-nastroenie-master-klass/
LOCATION:Детский зал\, Тверской пр-т\, д. 5\, Тверь\, Российская Федерация
CATEGORIES:Мастер-класс
ORGANIZER;CN="%D0%9E%D1%82%D0%B4%D0%B5%D0%BB %D0%BE%D0%B1%D1%81%D0%BB%D1%83%D0%B6%D0%B8%D0%B2%D0%B0%D0%BD%D0%B8%D1%8F %D0%B4%D0%B5%D1%82%D0%B5%D0%B9":MAILTO:detsky-otd@mbstver.ru
END:VEVENT
BEGIN:VEVENT
DTSTART;TZID=Europe/Moscow:20220327T170000
DTEND;TZID=Europe/Moscow:20220327T180000
DTSTAMP:20260425T191540
CREATED:20220221T094701Z
LAST-MODIFIED:20220221T094701Z
UID:29294-1648400400-1648404000@mbstver.ru
SUMMARY:«На сцене и в жизни» творческая встреча с Дарьей Плавинской\, актрисой Тверского областного академического театра драмы
DESCRIPTION:/к Международному дню театра — 27 марта/
URL:https://mbstver.ru/event/na-sczene-i-v-zhizni-tvorcheskaya-vstrecha-s-darej-plavinskoj-aktrisoj-tverskogo-oblastnogo-akademicheskogo-teatra-dramy/
LOCATION:Библиотека семейного чтения им. М.Е. Салтыкова-Щедрина\, пр-т Победы\, Д. 32/3\, Тверь\, Российская Федерация
CATEGORIES:Творческая встреча
ORGANIZER;CN="%D0%91%D0%B8%D0%B1%D0%BB%D0%B8%D0%BE%D1%82%D0%B5%D0%BA%D0%B0 %D1%81%D0%B5%D0%BC%D0%B5%D0%B9%D0%BD%D0%BE%D0%B3%D0%BE %D1%87%D1%82%D0%B5%D0%BD%D0%B8%D1%8F %D0%B8%D0%BC. %D0%9C.%D0%95. %D0%A1%D0%B0%D0%BB%D1%82%D1%8B%D0%BA%D0%BE%D0%B2%D0%B0-%D0%A9%D0%B5%D0%B4%D1%80%D0%B8%D0%BD%D0%B0":MAILTO:mbsfil2@yandex.ru; library_f2@mbstver.ru
END:VEVENT
END:VCALENDAR