BEGIN:VCALENDAR
VERSION:2.0
PRODID:-//Муниципальная библиотечная система города Твери - ECPv6.11.2.1//NONSGML v1.0//EN
CALSCALE:GREGORIAN
METHOD:PUBLISH
X-ORIGINAL-URL:https://mbstver.ru
X-WR-CALDESC:Мероприятия для Муниципальная библиотечная система города Твери
REFRESH-INTERVAL;VALUE=DURATION:PT1H
X-Robots-Tag:noindex
X-PUBLISHED-TTL:PT1H
BEGIN:VTIMEZONE
TZID:Europe/Moscow
BEGIN:STANDARD
TZOFFSETFROM:+0300
TZOFFSETTO:+0300
TZNAME:MSK
DTSTART:20220101T000000
END:STANDARD
END:VTIMEZONE
BEGIN:VEVENT
DTSTART;VALUE=DATE:20220317
DTEND;VALUE=DATE:20220418
DTSTAMP:20260424T135504
CREATED:20220224T115657Z
LAST-MODIFIED:20220331T122000Z
UID:29400-1647475200-1650239999@mbstver.ru
SUMMARY:«Радость творчества» выставка живописи Лидии Исаковой /с 17 марта по 17 апреля/
DESCRIPTION:
URL:https://mbstver.ru/event/radost-tvorchestva-vystavka-zhivopisi-lidii-isaevoj-s-17-marta-po-17-aprelya/
LOCATION:Библиотека семейного чтения им. П.А. Кропоткина\, ул. Фурманова\, д. 1\, корп. А\, Тверь\, Российская Федерация
CATEGORIES:Выставка живописи
ORGANIZER;CN="%D0%91%D0%B8%D0%B1%D0%BB%D0%B8%D0%BE%D1%82%D0%B5%D0%BA%D0%B0 %D1%81%D0%B5%D0%BC%D0%B5%D0%B9%D0%BD%D0%BE%D0%B3%D0%BE %D1%87%D1%82%D0%B5%D0%BD%D0%B8%D1%8F %D0%B8%D0%BC. %D0%9F.%D0%90. %D0%9A%D1%80%D0%BE%D0%BF%D0%BE%D1%82%D0%BA%D0%B8%D0%BD%D0%B0":MAILTO:f1tver@yandex.ru; library_f1@mbstver.ru
END:VEVENT
BEGIN:VEVENT
DTSTART;VALUE=DATE:20220401
DTEND;VALUE=DATE:20220419
DTSTAMP:20260424T135504
CREATED:20220328T163859Z
LAST-MODIFIED:20220329T100601Z
UID:30159-1648771200-1650326399@mbstver.ru
SUMMARY:«Удивительный мир космоса» книжно-иллюстративная выставка /с 1 по 18 апреля/
DESCRIPTION:/к Всемирному дню авиации и космонавтики — 12 апреля/
URL:https://mbstver.ru/event/udivitelnyj-mir-kosmosa-knizhno-illyustrativnaya-vystavka-s-12-aprelya-po-4-maya/
LOCATION:Холл Детского зала\, Тверской пр-т\, д. 5\, Тверь\, Российская Федерация
CATEGORIES:Книжно-иллюстративная выставка
ORGANIZER;CN="%D0%9E%D1%82%D0%B4%D0%B5%D0%BB %D1%80%D0%B5%D0%B4%D0%BA%D0%BE%D0%B3%D0%BE %D1%84%D0%BE%D0%BD%D0%B4%D0%B0":MAILTO:orgfond-otd@mbstver.ru
END:VEVENT
BEGIN:VEVENT
DTSTART;VALUE=DATE:20220401
DTEND;VALUE=DATE:20220501
DTSTAMP:20260424T135504
CREATED:20220328T163538Z
LAST-MODIFIED:20220331T065512Z
UID:30155-1648771200-1651363199@mbstver.ru
SUMMARY:«Коллекции редкого фонда: А.И. Герцен» книжная выставка /с 1 по 18 апреля/
DESCRIPTION:/в рамках проекта «Отражение минувших лет»/
URL:https://mbstver.ru/event/kollekczii-redkogo-fonda-a-i-gerczen-knizhnaya-vystavka-s-1-po-18-aprelya/
LOCATION:Музей книги\, Тверской пр-т\, д. 5\, Тверь\, Российская Федерация
CATEGORIES:Книжная выставка
ORGANIZER;CN="%D0%9E%D1%82%D0%B4%D0%B5%D0%BB %D1%80%D0%B5%D0%B4%D0%BA%D0%BE%D0%B3%D0%BE %D1%84%D0%BE%D0%BD%D0%B4%D0%B0":MAILTO:orgfond-otd@mbstver.ru
END:VEVENT
BEGIN:VEVENT
DTSTART;VALUE=DATE:20220409
DTEND;VALUE=DATE:20220501
DTSTAMP:20260424T135504
CREATED:20220328T163646Z
LAST-MODIFIED:20220328T163646Z
UID:30157-1649462400-1651363199@mbstver.ru
SUMMARY:«Неоконченный портрет» выставка живописи Любови Венедиктовой /с 9 по 30 апреля/
DESCRIPTION:
URL:https://mbstver.ru/event/neokonchennyj-portret-vystavka-zhivopisi-lyubovi-venediktovoj-s-9-po-30-aprelya/
LOCATION:Выставочный зал\, Тверской пр-т\, д. 5\, Тверь\, Российская Федерация
CATEGORIES:Выставка живописи
ORGANIZER;CN="%D0%9E%D1%82%D0%B4%D0%B5%D0%BB %D0%B1%D0%B8%D0%B1%D0%BB%D0%B8%D0%BE%D1%82%D0%B5%D1%87%D0%BD%D0%BE%D0%B3%D0%BE %D0%BC%D0%B0%D1%80%D0%BA%D0%B5%D1%82%D0%B8%D0%BD%D0%B3%D0%B0 %D0%B8 %D0%BA%D1%83%D0%BB%D1%8C%D1%82%D1%83%D1%80%D0%BD%D0%BE-%D0%B4%D0%BE%D1%81%D1%83%D0%B3%D0%BE%D0%B2%D0%BE%D0%B9 %D0%B4%D0%B5%D1%8F%D1%82%D0%B5%D0%BB%D1%8C%D0%BD%D0%BE%D1%81%D1%82%D0%B8":MAILTO:o_dosugd@mbstver.ru
END:VEVENT
BEGIN:VEVENT
DTSTART;TZID=Europe/Moscow:20220412T100000
DTEND;TZID=Europe/Moscow:20220412T110000
DTSTAMP:20260424T135504
CREATED:20220329T105029Z
LAST-MODIFIED:20220329T105029Z
UID:30213-1649757600-1649761200@mbstver.ru
SUMMARY:«Долгий путь в небо» познавательный час
DESCRIPTION:/к Всемирному дню авиации и космонавтики — 12 апреля/
URL:https://mbstver.ru/event/dolgij-put-v-nebo-poznavatelnyj-chas/
LOCATION:Библиотека семейного чтения «Затверецкая»\, ул. 1-я Силикатная\, д.7\, Тверь\, Российская Федерация
CATEGORIES:Познавательный час
ORGANIZER;CN="%D0%91%D0%B8%D0%B1%D0%BB%D0%B8%D0%BE%D1%82%D0%B5%D0%BA%D0%B0 %D1%81%D0%B5%D0%BC%D0%B5%D0%B9%D0%BD%D0%BE%D0%B3%D0%BE %D1%87%D1%82%D0%B5%D0%BD%D0%B8%D1%8F %C2%AB%D0%97%D0%B0%D1%82%D0%B2%D0%B5%D1%80%D0%B5%D1%86%D0%BA%D0%B0%D1%8F%C2%BB":MAILTO:mbsfil4@yandex.ru
END:VEVENT
BEGIN:VEVENT
DTSTART;TZID=Europe/Moscow:20220412T110000
DTEND;TZID=Europe/Moscow:20220412T110000
DTSTAMP:20260424T135504
CREATED:20220329T124107Z
LAST-MODIFIED:20220329T124107Z
UID:30256-1649761200-1649761200@mbstver.ru
SUMMARY:«Космос вокруг нас» книжная виртуальная выставка
DESCRIPTION:/к Всемирному дню авиации и космонавтики — 12 апреля/
URL:https://mbstver.ru/event/kosmos-vokrug-nas-knizhnaya-virtualnaya-vystavka/
LOCATION:Группа ВК_25
CATEGORIES:Виртуальная выставка
ORGANIZER;CN="%D0%91%D0%B8%D0%B1%D0%BB%D0%B8%D0%BE%D1%82%D0%B5%D0%BA%D0%B0 %D1%81%D0%B5%D0%BC%D0%B5%D0%B9%D0%BD%D0%BE%D0%B3%D0%BE %D1%87%D1%82%D0%B5%D0%BD%D0%B8%D1%8F %D0%BD%D0%B0 %D0%9C%D0%B8%D0%B3%D0%B0%D0%BB%D0%BE%D0%B2%D1%81%D0%BA%D0%BE%D0%B9 %D0%BD%D0%B0%D0%B1%D0%B5%D1%80%D0%B5%D0%B6%D0%BD%D0%BE%D0%B9":MAILTO:library_f25@mbstver.ru
END:VEVENT
BEGIN:VEVENT
DTSTART;TZID=Europe/Moscow:20220412T124500
DTEND;TZID=Europe/Moscow:20220412T133000
DTSTAMP:20260424T135504
CREATED:20220329T105144Z
LAST-MODIFIED:20220329T105144Z
UID:30215-1649767500-1649770200@mbstver.ru
SUMMARY:«На небо за звездой» квест
DESCRIPTION:/к Всемирному дню авиации и космонавтики — 12 апреля/
URL:https://mbstver.ru/event/na-nebo-za-zvezdoj-kvest/
LOCATION:Библиотека семейного чтения им. М.Е. Салтыкова-Щедрина\, пр-т Победы\, Д. 32/3\, Тверь\, Российская Федерация
CATEGORIES:Квест
ORGANIZER;CN="%D0%91%D0%B8%D0%B1%D0%BB%D0%B8%D0%BE%D1%82%D0%B5%D0%BA%D0%B0 %D1%81%D0%B5%D0%BC%D0%B5%D0%B9%D0%BD%D0%BE%D0%B3%D0%BE %D1%87%D1%82%D0%B5%D0%BD%D0%B8%D1%8F %D0%B8%D0%BC. %D0%9C.%D0%95. %D0%A1%D0%B0%D0%BB%D1%82%D1%8B%D0%BA%D0%BE%D0%B2%D0%B0-%D0%A9%D0%B5%D0%B4%D1%80%D0%B8%D0%BD%D0%B0":MAILTO:mbsfil2@yandex.ru; library_f2@mbstver.ru
END:VEVENT
BEGIN:VEVENT
DTSTART;TZID=Europe/Moscow:20220412T140000
DTEND;TZID=Europe/Moscow:20220412T150000
DTSTAMP:20260424T135504
CREATED:20220329T105256Z
LAST-MODIFIED:20220329T105256Z
UID:30217-1649772000-1649775600@mbstver.ru
SUMMARY:«Навеки будут вместе Гагарин и апрель» познавательный час
DESCRIPTION:/к Всемирному дню авиации и космонавтики — 12 апреля/
URL:https://mbstver.ru/event/naveki-budut-vmeste-gagarin-i-aprel-poznavatelnyj-chas/
LOCATION:Библиотека семейного чтения им. Б.Н. Полевого\, Пролетарская наб.\, д. 5\, Тверь\, Российская Федерация
CATEGORIES:Познавательный час
ORGANIZER;CN="%D0%91%D0%B8%D0%B1%D0%BB%D0%B8%D0%BE%D1%82%D0%B5%D0%BA%D0%B0 %D1%81%D0%B5%D0%BC%D0%B5%D0%B9%D0%BD%D0%BE%D0%B3%D0%BE %D1%87%D1%82%D0%B5%D0%BD%D0%B8%D1%8F %D0%B8%D0%BC. %D0%91.%D0%9D. %D0%9F%D0%BE%D0%BB%D0%B5%D0%B2%D0%BE%D0%B3%D0%BE":MAILTO:library_f21@mbstver.ru
END:VEVENT
BEGIN:VEVENT
DTSTART;TZID=Europe/Moscow:20220412T170000
DTEND;TZID=Europe/Moscow:20220412T180000
DTSTAMP:20260424T135504
CREATED:20220328T155841Z
LAST-MODIFIED:20220328T155841Z
UID:30135-1649782800-1649786400@mbstver.ru
SUMMARY:«Путешествие по Солнечной системе» познавательный час
DESCRIPTION:/к Всемирному дню авиации и космонавтики — 12 апреля/
URL:https://mbstver.ru/event/puteshestvie-po-solnechnoj-sisteme-poznavatelnyj-chas/
LOCATION:Конференц-зал\, Тверской пр-т\, д. 5\, Тверь\, Российская Федерация
CATEGORIES:Познавательный час
ORGANIZER;CN="%D0%9E%D1%82%D0%B4%D0%B5%D0%BB %D0%B1%D0%B8%D0%B1%D0%BB%D0%B8%D0%BE%D1%82%D0%B5%D1%87%D0%BD%D0%BE%D0%B3%D0%BE %D0%BC%D0%B0%D1%80%D0%BA%D0%B5%D1%82%D0%B8%D0%BD%D0%B3%D0%B0 %D0%B8 %D0%BA%D1%83%D0%BB%D1%8C%D1%82%D1%83%D1%80%D0%BD%D0%BE-%D0%B4%D0%BE%D1%81%D1%83%D0%B3%D0%BE%D0%B2%D0%BE%D0%B9 %D0%B4%D0%B5%D1%8F%D1%82%D0%B5%D0%BB%D1%8C%D0%BD%D0%BE%D1%81%D1%82%D0%B8":MAILTO:o_dosugd@mbstver.ru
END:VEVENT
END:VCALENDAR