BEGIN:VCALENDAR
VERSION:2.0
PRODID:-//Муниципальная библиотечная система города Твери - ECPv6.11.2.1//NONSGML v1.0//EN
CALSCALE:GREGORIAN
METHOD:PUBLISH
X-ORIGINAL-URL:https://mbstver.ru
X-WR-CALDESC:Мероприятия для Муниципальная библиотечная система города Твери
REFRESH-INTERVAL;VALUE=DURATION:PT1H
X-Robots-Tag:noindex
X-PUBLISHED-TTL:PT1H
BEGIN:VTIMEZONE
TZID:Europe/Moscow
BEGIN:STANDARD
TZOFFSETFROM:+0300
TZOFFSETTO:+0300
TZNAME:MSK
DTSTART:20220101T000000
END:STANDARD
END:VTIMEZONE
BEGIN:VEVENT
DTSTART;VALUE=DATE:20220401
DTEND;VALUE=DATE:20220501
DTSTAMP:20260423T231836
CREATED:20220328T163538Z
LAST-MODIFIED:20220331T065512Z
UID:30155-1648771200-1651363199@mbstver.ru
SUMMARY:«Коллекции редкого фонда: А.И. Герцен» книжная выставка /с 1 по 18 апреля/
DESCRIPTION:/в рамках проекта «Отражение минувших лет»/
URL:https://mbstver.ru/event/kollekczii-redkogo-fonda-a-i-gerczen-knizhnaya-vystavka-s-1-po-18-aprelya/
LOCATION:Музей книги\, Тверской пр-т\, д. 5\, Тверь\, Российская Федерация
CATEGORIES:Книжная выставка
ORGANIZER;CN="%D0%9E%D1%82%D0%B4%D0%B5%D0%BB %D1%80%D0%B5%D0%B4%D0%BA%D0%BE%D0%B3%D0%BE %D1%84%D0%BE%D0%BD%D0%B4%D0%B0":MAILTO:orgfond-otd@mbstver.ru
END:VEVENT
BEGIN:VEVENT
DTSTART;VALUE=DATE:20220409
DTEND;VALUE=DATE:20220501
DTSTAMP:20260423T231836
CREATED:20220328T163646Z
LAST-MODIFIED:20220328T163646Z
UID:30157-1649462400-1651363199@mbstver.ru
SUMMARY:«Неоконченный портрет» выставка живописи Любови Венедиктовой /с 9 по 30 апреля/
DESCRIPTION:
URL:https://mbstver.ru/event/neokonchennyj-portret-vystavka-zhivopisi-lyubovi-venediktovoj-s-9-po-30-aprelya/
LOCATION:Выставочный зал\, Тверской пр-т\, д. 5\, Тверь\, Российская Федерация
CATEGORIES:Выставка живописи
ORGANIZER;CN="%D0%9E%D1%82%D0%B4%D0%B5%D0%BB %D0%B1%D0%B8%D0%B1%D0%BB%D0%B8%D0%BE%D1%82%D0%B5%D1%87%D0%BD%D0%BE%D0%B3%D0%BE %D0%BC%D0%B0%D1%80%D0%BA%D0%B5%D1%82%D0%B8%D0%BD%D0%B3%D0%B0 %D0%B8 %D0%BA%D1%83%D0%BB%D1%8C%D1%82%D1%83%D1%80%D0%BD%D0%BE-%D0%B4%D0%BE%D1%81%D1%83%D0%B3%D0%BE%D0%B2%D0%BE%D0%B9 %D0%B4%D0%B5%D1%8F%D1%82%D0%B5%D0%BB%D1%8C%D0%BD%D0%BE%D1%81%D1%82%D0%B8":MAILTO:o_dosugd@mbstver.ru
END:VEVENT
BEGIN:VEVENT
DTSTART;VALUE=DATE:20220417
DTEND;VALUE=DATE:20220502
DTSTAMP:20260423T231836
CREATED:20220328T164012Z
LAST-MODIFIED:20220328T164012Z
UID:30161-1650153600-1651449599@mbstver.ru
SUMMARY:«По страницам одной книги: Анна Каренина» выставка одной книги /с 17 апреля по 1 мая/
DESCRIPTION:
URL:https://mbstver.ru/event/po-straniczam-odnoj-knigi-anna-karenina-vystavka-odnoj-knigi-s-17-aprelya-po-1-maya/
LOCATION:Музей книги\, Тверской пр-т\, д. 5\, Тверь\, Российская Федерация
CATEGORIES:Выставка одной книги
ORGANIZER;CN="%D0%9E%D1%82%D0%B4%D0%B5%D0%BB %D1%80%D0%B5%D0%B4%D0%BA%D0%BE%D0%B3%D0%BE %D1%84%D0%BE%D0%BD%D0%B4%D0%B0":MAILTO:orgfond-otd@mbstver.ru
END:VEVENT
BEGIN:VEVENT
DTSTART;VALUE=DATE:20220419
DTEND;VALUE=DATE:20220511
DTSTAMP:20260423T231836
CREATED:20220328T164342Z
LAST-MODIFIED:20220328T164342Z
UID:30163-1650326400-1652227199@mbstver.ru
SUMMARY:«Пасха пахнет миром» выставка рукоделия членов клуба «Первоцвет» /с 19 апреля по 10 мая/
DESCRIPTION:/к Пасхе (Светлому Христову Воскресению) — 24 апреля/
URL:https://mbstver.ru/event/pasha-pahnet-mirom-vystavka-rukodeliya-chlenov-kluba-pervoczvet-s-19-aprelya-po-10-maya/
LOCATION:Холл Детского зала\, Тверской пр-т\, д. 5\, Тверь\, Российская Федерация
CATEGORIES:Выставка
ORGANIZER;CN="%D0%9E%D1%82%D0%B4%D0%B5%D0%BB %D0%B1%D0%B8%D0%B1%D0%BB%D0%B8%D0%BE%D1%82%D0%B5%D1%87%D0%BD%D0%BE%D0%B3%D0%BE %D0%BC%D0%B0%D1%80%D0%BA%D0%B5%D1%82%D0%B8%D0%BD%D0%B3%D0%B0 %D0%B8 %D0%BA%D1%83%D0%BB%D1%8C%D1%82%D1%83%D1%80%D0%BD%D0%BE-%D0%B4%D0%BE%D1%81%D1%83%D0%B3%D0%BE%D0%B2%D0%BE%D0%B9 %D0%B4%D0%B5%D1%8F%D1%82%D0%B5%D0%BB%D1%8C%D0%BD%D0%BE%D1%81%D1%82%D0%B8":MAILTO:o_dosugd@mbstver.ru
END:VEVENT
BEGIN:VEVENT
DTSTART;VALUE=DATE:20220419
DTEND;VALUE=DATE:20220516
DTSTAMP:20260423T231836
CREATED:20220422T133654Z
LAST-MODIFIED:20220422T133654Z
UID:30828-1650326400-1652659199@mbstver.ru
SUMMARY:«Без срока давности» экспозиция Тверского центра документации новейшей истории /с 19 апреля по 15 мая/
DESCRIPTION:/к 77-ой годовщине Победы в Великой Отечественной войне/
URL:https://mbstver.ru/event/bez-sroka-davnosti-ekspozicziya-tverskogo-czentra-dokumentaczii-novejshej-istorii-s-19-aprelya-po-15-maya/
LOCATION:Михайловский зал\, Тверской пр-т\, д. 5\, Тверь\, Российская Федерация
CATEGORIES:Экспозиция
ORGANIZER;CN="%D0%9E%D1%82%D0%B4%D0%B5%D0%BB %D0%BE%D0%B1%D1%81%D0%BB%D1%83%D0%B6%D0%B8%D0%B2%D0%B0%D0%BD%D0%B8%D1%8F %D0%B8 %D0%BA%D0%BD%D0%B8%D0%B3%D0%BE%D1%85%D1%80%D0%B0%D0%BD%D0%B5%D0%BD%D0%B8%D1%8F":MAILTO:otd-obsl@mbstver.ru
END:VEVENT
BEGIN:VEVENT
DTSTART;TZID=Europe/Moscow:20220420T110000
DTEND;TZID=Europe/Moscow:20220420T120000
DTSTAMP:20260423T231836
CREATED:20220329T105816Z
LAST-MODIFIED:20220329T105816Z
UID:30223-1650452400-1650456000@mbstver.ru
SUMMARY:«Украсим праздник своими руками» мастер-класс
DESCRIPTION:/к Пасхе (Светлому Христову Воскресению) — 24 апреля/
URL:https://mbstver.ru/event/ukrasim-prazdnik-svoimi-rukami-master-klass/
LOCATION:Библиотека семейного чтения им. М.Е. Салтыкова-Щедрина\, пр-т Победы\, Д. 32/3\, Тверь\, Российская Федерация
CATEGORIES:Мастер-класс
ORGANIZER;CN="%D0%91%D0%B8%D0%B1%D0%BB%D0%B8%D0%BE%D1%82%D0%B5%D0%BA%D0%B0 %D1%81%D0%B5%D0%BC%D0%B5%D0%B9%D0%BD%D0%BE%D0%B3%D0%BE %D1%87%D1%82%D0%B5%D0%BD%D0%B8%D1%8F %D0%B8%D0%BC. %D0%9C.%D0%95. %D0%A1%D0%B0%D0%BB%D1%82%D1%8B%D0%BA%D0%BE%D0%B2%D0%B0-%D0%A9%D0%B5%D0%B4%D1%80%D0%B8%D0%BD%D0%B0":MAILTO:mbsfil2@yandex.ru; library_f2@mbstver.ru
END:VEVENT
BEGIN:VEVENT
DTSTART;TZID=Europe/Moscow:20220420T140000
DTEND;TZID=Europe/Moscow:20220420T150000
DTSTAMP:20260423T231836
CREATED:20220329T110347Z
LAST-MODIFIED:20220329T110347Z
UID:30225-1650463200-1650466800@mbstver.ru
SUMMARY:«Великий пост - дорога к Пасхе» час информации
DESCRIPTION:/к Великому посту — 7 марта — 23 апреля/
URL:https://mbstver.ru/event/velikij-post-doroga-k-pashe-chas-informaczii/
LOCATION:Библиотека семейного чтения им. Б.Н. Полевого\, Пролетарская наб.\, д. 5\, Тверь\, Российская Федерация
CATEGORIES:Час информации
ORGANIZER;CN="%D0%91%D0%B8%D0%B1%D0%BB%D0%B8%D0%BE%D1%82%D0%B5%D0%BA%D0%B0 %D1%81%D0%B5%D0%BC%D0%B5%D0%B9%D0%BD%D0%BE%D0%B3%D0%BE %D1%87%D1%82%D0%B5%D0%BD%D0%B8%D1%8F %D0%B8%D0%BC. %D0%91.%D0%9D. %D0%9F%D0%BE%D0%BB%D0%B5%D0%B2%D0%BE%D0%B3%D0%BE":MAILTO:library_f21@mbstver.ru
END:VEVENT
END:VCALENDAR