BEGIN:VCALENDAR
VERSION:2.0
PRODID:-//Муниципальная библиотечная система города Твери - ECPv6.11.2.1//NONSGML v1.0//EN
CALSCALE:GREGORIAN
METHOD:PUBLISH
X-WR-CALNAME:Муниципальная библиотечная система города Твери
X-ORIGINAL-URL:https://mbstver.ru
X-WR-CALDESC:Мероприятия для Муниципальная библиотечная система города Твери
REFRESH-INTERVAL;VALUE=DURATION:PT1H
X-Robots-Tag:noindex
X-PUBLISHED-TTL:PT1H
BEGIN:VTIMEZONE
TZID:Europe/Moscow
BEGIN:STANDARD
TZOFFSETFROM:+0300
TZOFFSETTO:+0300
TZNAME:MSK
DTSTART:20220101T000000
END:STANDARD
END:VTIMEZONE
BEGIN:VEVENT
DTSTART;VALUE=DATE:20220419
DTEND;VALUE=DATE:20220516
DTSTAMP:20260422T034735
CREATED:20220422T133654Z
LAST-MODIFIED:20220422T133654Z
UID:30828-1650326400-1652659199@mbstver.ru
SUMMARY:«Без срока давности» экспозиция Тверского центра документации новейшей истории /с 19 апреля по 15 мая/
DESCRIPTION:/к 77-ой годовщине Победы в Великой Отечественной войне/
URL:https://mbstver.ru/event/bez-sroka-davnosti-ekspozicziya-tverskogo-czentra-dokumentaczii-novejshej-istorii-s-19-aprelya-po-15-maya/
LOCATION:Михайловский зал\, Тверской пр-т\, д. 5\, Тверь\, Российская Федерация
CATEGORIES:Экспозиция
ORGANIZER;CN="%D0%9E%D1%82%D0%B4%D0%B5%D0%BB %D0%BE%D0%B1%D1%81%D0%BB%D1%83%D0%B6%D0%B8%D0%B2%D0%B0%D0%BD%D0%B8%D1%8F %D0%B8 %D0%BA%D0%BD%D0%B8%D0%B3%D0%BE%D1%85%D1%80%D0%B0%D0%BD%D0%B5%D0%BD%D0%B8%D1%8F":MAILTO:otd-obsl@mbstver.ru
END:VEVENT
BEGIN:VEVENT
DTSTART;VALUE=DATE:20220429
DTEND;VALUE=DATE:20220601
DTSTAMP:20260422T034735
CREATED:20220429T105048Z
LAST-MODIFIED:20220429T105048Z
UID:31106-1651190400-1654041599@mbstver.ru
SUMMARY:«Вспышки прошлого» выставка фотографий и артефактов времён Великой Отечественной войны коллекционера Рустама Шитиева /с 29 апреля по 31 мая/
DESCRIPTION:/ко Дню Победы в Великой Отечественной войне/
URL:https://mbstver.ru/event/vspyshki-proshlogo-vystavka-fotografij-i-artefaktov-vremyon-velikoj-otechestvennoj-vojny-kollekczionera-rustama-shitieva-s-29-aprelya-po-31-maya/
LOCATION:Музей книги\, Тверской пр-т\, д. 5\, Тверь\, Российская Федерация
CATEGORIES:Выставка
ORGANIZER;CN="%D0%9E%D1%82%D0%B4%D0%B5%D0%BB %D1%80%D0%B5%D0%B4%D0%BA%D0%BE%D0%B3%D0%BE %D1%84%D0%BE%D0%BD%D0%B4%D0%B0":MAILTO:orgfond-otd@mbstver.ru
END:VEVENT
BEGIN:VEVENT
DTSTART;VALUE=DATE:20220430
DTEND;VALUE=DATE:20220523
DTSTAMP:20260422T034735
CREATED:20220427T113107Z
LAST-MODIFIED:20220427T122017Z
UID:30947-1651276800-1653263999@mbstver.ru
SUMMARY:«Душой написаны пейзажи» выставка живописи Надежды Рябовой и её учеников /с 30 апреля по 22 мая/
DESCRIPTION:
URL:https://mbstver.ru/event/dushoj-napisany-pejzazhi-vystavka-zhivopisi-na-bereste-nadezhdy-ryabovoj-s-30-aprelya-po-22-maya/
LOCATION:Выставочный зал\, Тверской пр-т\, д. 5\, Тверь\, Российская Федерация
CATEGORIES:Выставка живописи
ORGANIZER;CN="%D0%9E%D1%82%D0%B4%D0%B5%D0%BB %D0%B1%D0%B8%D0%B1%D0%BB%D0%B8%D0%BE%D1%82%D0%B5%D1%87%D0%BD%D0%BE%D0%B3%D0%BE %D0%BC%D0%B0%D1%80%D0%BA%D0%B5%D1%82%D0%B8%D0%BD%D0%B3%D0%B0 %D0%B8 %D0%BA%D1%83%D0%BB%D1%8C%D1%82%D1%83%D1%80%D0%BD%D0%BE-%D0%B4%D0%BE%D1%81%D1%83%D0%B3%D0%BE%D0%B2%D0%BE%D0%B9 %D0%B4%D0%B5%D1%8F%D1%82%D0%B5%D0%BB%D1%8C%D0%BD%D0%BE%D1%81%D1%82%D0%B8":MAILTO:o_dosugd@mbstver.ru
END:VEVENT
BEGIN:VEVENT
DTSTART;VALUE=DATE:20220501
DTEND;VALUE=DATE:20220517
DTSTAMP:20260422T034735
CREATED:20220427T113310Z
LAST-MODIFIED:20220427T113310Z
UID:30949-1651363200-1652745599@mbstver.ru
SUMMARY:«По страницам одной книги: Пер Гюнт» выставка одной книги /с 1 по 16 мая/
DESCRIPTION:/к 155-летию первой публикации пьесы Генрика Ибсена/
URL:https://mbstver.ru/event/po-straniczam-odnoj-knigi-per-gyunt-vystavka-odnoj-knigi-s-1-po-16-maya/
LOCATION:Музей книги\, Тверской пр-т\, д. 5\, Тверь\, Российская Федерация
CATEGORIES:Выставка одной книги
ORGANIZER;CN="%D0%9E%D1%82%D0%B4%D0%B5%D0%BB %D1%80%D0%B5%D0%B4%D0%BA%D0%BE%D0%B3%D0%BE %D1%84%D0%BE%D0%BD%D0%B4%D0%B0":MAILTO:orgfond-otd@mbstver.ru
END:VEVENT
BEGIN:VEVENT
DTSTART;VALUE=DATE:20220504
DTEND;VALUE=DATE:20220610
DTSTAMP:20260422T034735
CREATED:20220427T114214Z
LAST-MODIFIED:20220427T114214Z
UID:30951-1651622400-1654819199@mbstver.ru
SUMMARY:«Мастера своего дела: немецкий издатель Фридрих Арнольд Брокгауз» книжная выставка /с 4 мая по 9 июня/
DESCRIPTION:
URL:https://mbstver.ru/event/mastera-svoego-dela-nemeczkij-izdatel-fridrih-arnold-brokgauz-knizhnaya-vystavka-s-4-maya-po-9-iyunya/
LOCATION:Музей книги\, Тверской пр-т\, д. 5\, Тверь\, Российская Федерация
CATEGORIES:Книжная выставка
ORGANIZER;CN="%D0%9E%D1%82%D0%B4%D0%B5%D0%BB %D1%80%D0%B5%D0%B4%D0%BA%D0%BE%D0%B3%D0%BE %D1%84%D0%BE%D0%BD%D0%B4%D0%B0":MAILTO:orgfond-otd@mbstver.ru
END:VEVENT
BEGIN:VEVENT
DTSTART;VALUE=DATE:20220505
DTEND;VALUE=DATE:20220601
DTSTAMP:20260422T034735
CREATED:20220506T114731Z
LAST-MODIFIED:20220506T114731Z
UID:31260-1651708800-1654041599@mbstver.ru
SUMMARY:«Закон и семья» книжная выставка /с 5 по 31 мая/
DESCRIPTION:/к Международному дню семьи/
URL:https://mbstver.ru/event/zakon-i-semya-knizhnaya-vystavka-s-5-po-31-maya/
LOCATION:Зал информационно-библиографического обслуживания\, Тверской пр-т\, д. 5\, Тверь\, Российская Федерация
CATEGORIES:Книжная выставка
ORGANIZER;CN="%D0%98%D0%BD%D1%84%D0%BE%D1%80%D0%BC%D0%B0%D1%86%D0%B8%D0%BE%D0%BD%D0%BD%D0%BE-%D0%B1%D0%B8%D0%B1%D0%BB%D0%B8%D0%BE%D0%B3%D1%80%D0%B0%D1%84%D0%B8%D1%87%D0%B5%D1%81%D0%BA%D0%B8%D0%B9 %D0%BE%D1%82%D0%B4%D0%B5%D0%BB":MAILTO:ib-otd@mbstver.ru
END:VEVENT
BEGIN:VEVENT
DTSTART;VALUE=DATE:20220512
DTEND;VALUE=DATE:20220523
DTSTAMP:20260422T034735
CREATED:20220517T103946Z
LAST-MODIFIED:20220517T112952Z
UID:31473-1652313600-1653263999@mbstver.ru
SUMMARY:«Пионерское лето» выставка документов\, предметов быта и книг /с 12 по 22 мая/
DESCRIPTION:/к 100-летию создания Всесоюзной пионерской организации имени В.И. Ленина (19 мая)/
URL:https://mbstver.ru/event/pionerskoe-leto-vystavka-dokumentov-predmetov-byta-i-knig/
LOCATION:Холл Детского зала\, Тверской пр-т\, д. 5\, Тверь\, Российская Федерация
CATEGORIES:Выставка
ORGANIZER;CN="%D0%9E%D1%82%D0%B4%D0%B5%D0%BB %D0%BE%D0%B1%D1%81%D0%BB%D1%83%D0%B6%D0%B8%D0%B2%D0%B0%D0%BD%D0%B8%D1%8F %D0%B8 %D0%BA%D0%BD%D0%B8%D0%B3%D0%BE%D1%85%D1%80%D0%B0%D0%BD%D0%B5%D0%BD%D0%B8%D1%8F":MAILTO:otd-obsl@mbstver.ru
END:VEVENT
BEGIN:VEVENT
DTSTART;TZID=Europe/Moscow:20220514T140000
DTEND;TZID=Europe/Moscow:20220514T150000
DTSTAMP:20260422T034735
CREATED:20220427T131428Z
LAST-MODIFIED:20220427T131428Z
UID:30979-1652536800-1652540400@mbstver.ru
SUMMARY:«Этот день Победы» концерт ансамбля «Рассвет»
DESCRIPTION:/ко Дню Победы в Великой Отечественной войне/
URL:https://mbstver.ru/event/etot-den-pobedy-konczert-ansamblya-rassvet/
LOCATION:Горница\, Тверской пр-т\, д. 5\, Тверь\, Российская Федерация
CATEGORIES:Концерт
ORGANIZER;CN="%D0%9E%D1%82%D0%B4%D0%B5%D0%BB %D0%B1%D0%B8%D0%B1%D0%BB%D0%B8%D0%BE%D1%82%D0%B5%D1%87%D0%BD%D0%BE%D0%B3%D0%BE %D0%BC%D0%B0%D1%80%D0%BA%D0%B5%D1%82%D0%B8%D0%BD%D0%B3%D0%B0 %D0%B8 %D0%BA%D1%83%D0%BB%D1%8C%D1%82%D1%83%D1%80%D0%BD%D0%BE-%D0%B4%D0%BE%D1%81%D1%83%D0%B3%D0%BE%D0%B2%D0%BE%D0%B9 %D0%B4%D0%B5%D1%8F%D1%82%D0%B5%D0%BB%D1%8C%D0%BD%D0%BE%D1%81%D1%82%D0%B8":MAILTO:o_dosugd@mbstver.ru
END:VEVENT
BEGIN:VEVENT
DTSTART;TZID=Europe/Moscow:20220514T160000
DTEND;TZID=Europe/Moscow:20220514T180000
DTSTAMP:20260422T034735
CREATED:20220427T132545Z
LAST-MODIFIED:20220427T132545Z
UID:30981-1652544000-1652551200@mbstver.ru
SUMMARY:«Кошачьи миры Луиса Уэйна» кинолекторий в клубе «Диалог»
DESCRIPTION:/реж. У. Шарп\, Англия\, 2021 г./
URL:https://mbstver.ru/event/koshachi-miry-luisa-uejna-kinolektorij-v-klube-dialog/
LOCATION:Конференц-зал\, Тверской пр-т\, д. 5\, Тверь\, Российская Федерация
CATEGORIES:Кинолекторий
ORGANIZER;CN="%D0%9E%D1%82%D0%B4%D0%B5%D0%BB %D0%B1%D0%B8%D0%B1%D0%BB%D0%B8%D0%BE%D1%82%D0%B5%D1%87%D0%BD%D0%BE%D0%B3%D0%BE %D0%BC%D0%B0%D1%80%D0%BA%D0%B5%D1%82%D0%B8%D0%BD%D0%B3%D0%B0 %D0%B8 %D0%BA%D1%83%D0%BB%D1%8C%D1%82%D1%83%D1%80%D0%BD%D0%BE-%D0%B4%D0%BE%D1%81%D1%83%D0%B3%D0%BE%D0%B2%D0%BE%D0%B9 %D0%B4%D0%B5%D1%8F%D1%82%D0%B5%D0%BB%D1%8C%D0%BD%D0%BE%D1%81%D1%82%D0%B8":MAILTO:o_dosugd@mbstver.ru
END:VEVENT
END:VCALENDAR