BEGIN:VCALENDAR
VERSION:2.0
PRODID:-//Муниципальная библиотечная система города Твери - ECPv6.11.2.1//NONSGML v1.0//EN
CALSCALE:GREGORIAN
METHOD:PUBLISH
X-ORIGINAL-URL:https://mbstver.ru
X-WR-CALDESC:Мероприятия для Муниципальная библиотечная система города Твери
REFRESH-INTERVAL;VALUE=DURATION:PT1H
X-Robots-Tag:noindex
X-PUBLISHED-TTL:PT1H
BEGIN:VTIMEZONE
TZID:Europe/Moscow
BEGIN:STANDARD
TZOFFSETFROM:+0300
TZOFFSETTO:+0300
TZNAME:MSK
DTSTART:20220101T000000
END:STANDARD
END:VTIMEZONE
BEGIN:VEVENT
DTSTART;VALUE=DATE:20220429
DTEND;VALUE=DATE:20220601
DTSTAMP:20260421T041909
CREATED:20220429T105048Z
LAST-MODIFIED:20220429T105048Z
UID:31106-1651190400-1654041599@mbstver.ru
SUMMARY:«Вспышки прошлого» выставка фотографий и артефактов времён Великой Отечественной войны коллекционера Рустама Шитиева /с 29 апреля по 31 мая/
DESCRIPTION:/ко Дню Победы в Великой Отечественной войне/
URL:https://mbstver.ru/event/vspyshki-proshlogo-vystavka-fotografij-i-artefaktov-vremyon-velikoj-otechestvennoj-vojny-kollekczionera-rustama-shitieva-s-29-aprelya-po-31-maya/
LOCATION:Музей книги\, Тверской пр-т\, д. 5\, Тверь\, Российская Федерация
CATEGORIES:Выставка
ORGANIZER;CN="%D0%9E%D1%82%D0%B4%D0%B5%D0%BB %D1%80%D0%B5%D0%B4%D0%BA%D0%BE%D0%B3%D0%BE %D1%84%D0%BE%D0%BD%D0%B4%D0%B0":MAILTO:orgfond-otd@mbstver.ru
END:VEVENT
BEGIN:VEVENT
DTSTART;VALUE=DATE:20220504
DTEND;VALUE=DATE:20220610
DTSTAMP:20260421T041909
CREATED:20220427T114214Z
LAST-MODIFIED:20220427T114214Z
UID:30951-1651622400-1654819199@mbstver.ru
SUMMARY:«Мастера своего дела: немецкий издатель Фридрих Арнольд Брокгауз» книжная выставка /с 4 мая по 9 июня/
DESCRIPTION:
URL:https://mbstver.ru/event/mastera-svoego-dela-nemeczkij-izdatel-fridrih-arnold-brokgauz-knizhnaya-vystavka-s-4-maya-po-9-iyunya/
LOCATION:Музей книги\, Тверской пр-т\, д. 5\, Тверь\, Российская Федерация
CATEGORIES:Книжная выставка
ORGANIZER;CN="%D0%9E%D1%82%D0%B4%D0%B5%D0%BB %D1%80%D0%B5%D0%B4%D0%BA%D0%BE%D0%B3%D0%BE %D1%84%D0%BE%D0%BD%D0%B4%D0%B0":MAILTO:orgfond-otd@mbstver.ru
END:VEVENT
BEGIN:VEVENT
DTSTART;VALUE=DATE:20220505
DTEND;VALUE=DATE:20220601
DTSTAMP:20260421T041909
CREATED:20220506T114731Z
LAST-MODIFIED:20220506T114731Z
UID:31260-1651708800-1654041599@mbstver.ru
SUMMARY:«Закон и семья» книжная выставка /с 5 по 31 мая/
DESCRIPTION:/к Международному дню семьи/
URL:https://mbstver.ru/event/zakon-i-semya-knizhnaya-vystavka-s-5-po-31-maya/
LOCATION:Зал информационно-библиографического обслуживания\, Тверской пр-т\, д. 5\, Тверь\, Российская Федерация
CATEGORIES:Книжная выставка
ORGANIZER;CN="%D0%98%D0%BD%D1%84%D0%BE%D1%80%D0%BC%D0%B0%D1%86%D0%B8%D0%BE%D0%BD%D0%BD%D0%BE-%D0%B1%D0%B8%D0%B1%D0%BB%D0%B8%D0%BE%D0%B3%D1%80%D0%B0%D1%84%D0%B8%D1%87%D0%B5%D1%81%D0%BA%D0%B8%D0%B9 %D0%BE%D1%82%D0%B4%D0%B5%D0%BB":MAILTO:ib-otd@mbstver.ru
END:VEVENT
BEGIN:VEVENT
DTSTART;VALUE=DATE:20220516
DTEND;VALUE=DATE:20220609
DTSTAMP:20260421T041909
CREATED:20220427T115909Z
LAST-MODIFIED:20220427T115909Z
UID:30953-1652659200-1654732799@mbstver.ru
SUMMARY:«По страницам одной книги: Кубок» выставка одной книги /c 16 мая по 8 июня/
DESCRIPTION:/к 135-летию со дня рождения Игоря Северянина (1887-1941)\, русского поэта-модерниста\, переводчика\, мемуариста — 16 мая/
URL:https://mbstver.ru/event/po-straniczam-odnoj-knigi-kubok-vystavka-odnoj-knigi-c-16-maya-po-8-iyunya/
LOCATION:Музей книги\, Тверской пр-т\, д. 5\, Тверь\, Российская Федерация
CATEGORIES:Выставка одной книги
ORGANIZER;CN="%D0%9E%D1%82%D0%B4%D0%B5%D0%BB %D1%80%D0%B5%D0%B4%D0%BA%D0%BE%D0%B3%D0%BE %D1%84%D0%BE%D0%BD%D0%B4%D0%B0":MAILTO:orgfond-otd@mbstver.ru
END:VEVENT
BEGIN:VEVENT
DTSTART;VALUE=DATE:20220523
DTEND;VALUE=DATE:20220613
DTSTAMP:20260421T041909
CREATED:20220506T110311Z
LAST-MODIFIED:20220506T110311Z
UID:31252-1653264000-1655078399@mbstver.ru
SUMMARY:«Душа\, завёрнутая в ткань» выставка текстильных кукол Эльвиры Мартыновой /с 23 мая по 12 июня/
DESCRIPTION:
URL:https://mbstver.ru/event/dusha-zavyornutaya-v-tkan-vystavka-tekstilnyh-kukol-elviry-martynovoj-s-23-maya-po-12-iyunya/
LOCATION:Холл Детского зала\, Тверской пр-т\, д. 5\, Тверь\, Российская Федерация
CATEGORIES:Выставка
ORGANIZER;CN="%D0%9E%D1%82%D0%B4%D0%B5%D0%BB %D0%B1%D0%B8%D0%B1%D0%BB%D0%B8%D0%BE%D1%82%D0%B5%D1%87%D0%BD%D0%BE%D0%B3%D0%BE %D0%BC%D0%B0%D1%80%D0%BA%D0%B5%D1%82%D0%B8%D0%BD%D0%B3%D0%B0 %D0%B8 %D0%BA%D1%83%D0%BB%D1%8C%D1%82%D1%83%D1%80%D0%BD%D0%BE-%D0%B4%D0%BE%D1%81%D1%83%D0%B3%D0%BE%D0%B2%D0%BE%D0%B9 %D0%B4%D0%B5%D1%8F%D1%82%D0%B5%D0%BB%D1%8C%D0%BD%D0%BE%D1%81%D1%82%D0%B8":MAILTO:o_dosugd@mbstver.ru
END:VEVENT
BEGIN:VEVENT
DTSTART;VALUE=DATE:20220523
DTEND;VALUE=DATE:20220614
DTSTAMP:20260421T041909
CREATED:20220517T104351Z
LAST-MODIFIED:20220517T113056Z
UID:31475-1653264000-1655164799@mbstver.ru
SUMMARY:«Чтобы вы улыбнулись» выставка живописи Елены Сёмочкиной /с 23 мая по 13 июня/
DESCRIPTION:
URL:https://mbstver.ru/event/chtoby-vy-ulybnulis-vystavka-zhivopisi-eleny-syomochkinoj/
LOCATION:Выставочный зал\, Тверской пр-т\, д. 5\, Тверь\, Российская Федерация
CATEGORIES:Выставка живописи
ORGANIZER;CN="%D0%9E%D1%82%D0%B4%D0%B5%D0%BB %D0%B1%D0%B8%D0%B1%D0%BB%D0%B8%D0%BE%D1%82%D0%B5%D1%87%D0%BD%D0%BE%D0%B3%D0%BE %D0%BC%D0%B0%D1%80%D0%BA%D0%B5%D1%82%D0%B8%D0%BD%D0%B3%D0%B0 %D0%B8 %D0%BA%D1%83%D0%BB%D1%8C%D1%82%D1%83%D1%80%D0%BD%D0%BE-%D0%B4%D0%BE%D1%81%D1%83%D0%B3%D0%BE%D0%B2%D0%BE%D0%B9 %D0%B4%D0%B5%D1%8F%D1%82%D0%B5%D0%BB%D1%8C%D0%BD%D0%BE%D1%81%D1%82%D0%B8":MAILTO:o_dosugd@mbstver.ru
END:VEVENT
BEGIN:VEVENT
DTSTART;TZID=Europe/Moscow:20220526T170000
DTEND;TZID=Europe/Moscow:20220526T180000
DTSTAMP:20260421T041909
CREATED:20220427T133121Z
LAST-MODIFIED:20220427T133121Z
UID:30987-1653584400-1653588000@mbstver.ru
SUMMARY:«Приходите в следующий раз» психологический тренинг в рамках программы «Серебряный возраст»
DESCRIPTION:
URL:https://mbstver.ru/event/prihodite-v-sleduyushhij-raz-psihologicheskij-trening-v-ramkah-programmy-serebryanyj-vozrast/
LOCATION:Михайловский зал\, Тверской пр-т\, д. 5\, Тверь\, Российская Федерация
CATEGORIES:Тренинг
ORGANIZER;CN="%D0%9E%D1%82%D0%B4%D0%B5%D0%BB %D0%BE%D0%B1%D1%81%D0%BB%D1%83%D0%B6%D0%B8%D0%B2%D0%B0%D0%BD%D0%B8%D1%8F %D0%B8 %D0%BA%D0%BD%D0%B8%D0%B3%D0%BE%D1%85%D1%80%D0%B0%D0%BD%D0%B5%D0%BD%D0%B8%D1%8F":MAILTO:otd-obsl@mbstver.ru
END:VEVENT
BEGIN:VEVENT
DTSTART;TZID=Europe/Moscow:20220526T170000
DTEND;TZID=Europe/Moscow:20220526T180000
DTSTAMP:20260421T041909
CREATED:20220526T124048Z
LAST-MODIFIED:20220526T124048Z
UID:31766-1653584400-1653588000@mbstver.ru
SUMMARY:«Времена года» творческий вечер поэта Ольги Кудояровой
DESCRIPTION:
URL:https://mbstver.ru/event/vremena-goda-tvorcheskij-vecher-poeta-olgi-kudoyarovoj/
LOCATION:Конференц-зал\, Тверской пр-т\, д. 5\, Тверь\, Российская Федерация
CATEGORIES:Творческий вечер
ORGANIZER;CN="%D0%9E%D1%82%D0%B4%D0%B5%D0%BB %D0%B1%D0%B8%D0%B1%D0%BB%D0%B8%D0%BE%D1%82%D0%B5%D1%87%D0%BD%D0%BE%D0%B3%D0%BE %D0%BC%D0%B0%D1%80%D0%BA%D0%B5%D1%82%D0%B8%D0%BD%D0%B3%D0%B0 %D0%B8 %D0%BA%D1%83%D0%BB%D1%8C%D1%82%D1%83%D1%80%D0%BD%D0%BE-%D0%B4%D0%BE%D1%81%D1%83%D0%B3%D0%BE%D0%B2%D0%BE%D0%B9 %D0%B4%D0%B5%D1%8F%D1%82%D0%B5%D0%BB%D1%8C%D0%BD%D0%BE%D1%81%D1%82%D0%B8":MAILTO:o_dosugd@mbstver.ru
END:VEVENT
END:VCALENDAR