BEGIN:VCALENDAR
VERSION:2.0
PRODID:-//Муниципальная библиотечная система города Твери - ECPv6.11.2.1//NONSGML v1.0//EN
CALSCALE:GREGORIAN
METHOD:PUBLISH
X-WR-CALNAME:Муниципальная библиотечная система города Твери
X-ORIGINAL-URL:https://mbstver.ru
X-WR-CALDESC:Мероприятия для Муниципальная библиотечная система города Твери
REFRESH-INTERVAL;VALUE=DURATION:PT1H
X-Robots-Tag:noindex
X-PUBLISHED-TTL:PT1H
BEGIN:VTIMEZONE
TZID:Europe/Moscow
BEGIN:STANDARD
TZOFFSETFROM:+0300
TZOFFSETTO:+0300
TZNAME:MSK
DTSTART:20220101T000000
END:STANDARD
END:VTIMEZONE
BEGIN:VEVENT
DTSTART;VALUE=DATE:20220429
DTEND;VALUE=DATE:20220601
DTSTAMP:20260421T001506
CREATED:20220429T105048Z
LAST-MODIFIED:20220429T105048Z
UID:31106-1651190400-1654041599@mbstver.ru
SUMMARY:«Вспышки прошлого» выставка фотографий и артефактов времён Великой Отечественной войны коллекционера Рустама Шитиева /с 29 апреля по 31 мая/
DESCRIPTION:/ко Дню Победы в Великой Отечественной войне/
URL:https://mbstver.ru/event/vspyshki-proshlogo-vystavka-fotografij-i-artefaktov-vremyon-velikoj-otechestvennoj-vojny-kollekczionera-rustama-shitieva-s-29-aprelya-po-31-maya/
LOCATION:Музей книги\, Тверской пр-т\, д. 5\, Тверь\, Российская Федерация
CATEGORIES:Выставка
ORGANIZER;CN="%D0%9E%D1%82%D0%B4%D0%B5%D0%BB %D1%80%D0%B5%D0%B4%D0%BA%D0%BE%D0%B3%D0%BE %D1%84%D0%BE%D0%BD%D0%B4%D0%B0":MAILTO:orgfond-otd@mbstver.ru
END:VEVENT
BEGIN:VEVENT
DTSTART;VALUE=DATE:20220504
DTEND;VALUE=DATE:20220610
DTSTAMP:20260421T001506
CREATED:20220427T114214Z
LAST-MODIFIED:20220427T114214Z
UID:30951-1651622400-1654819199@mbstver.ru
SUMMARY:«Мастера своего дела: немецкий издатель Фридрих Арнольд Брокгауз» книжная выставка /с 4 мая по 9 июня/
DESCRIPTION:
URL:https://mbstver.ru/event/mastera-svoego-dela-nemeczkij-izdatel-fridrih-arnold-brokgauz-knizhnaya-vystavka-s-4-maya-po-9-iyunya/
LOCATION:Музей книги\, Тверской пр-т\, д. 5\, Тверь\, Российская Федерация
CATEGORIES:Книжная выставка
ORGANIZER;CN="%D0%9E%D1%82%D0%B4%D0%B5%D0%BB %D1%80%D0%B5%D0%B4%D0%BA%D0%BE%D0%B3%D0%BE %D1%84%D0%BE%D0%BD%D0%B4%D0%B0":MAILTO:orgfond-otd@mbstver.ru
END:VEVENT
BEGIN:VEVENT
DTSTART;VALUE=DATE:20220505
DTEND;VALUE=DATE:20220601
DTSTAMP:20260421T001506
CREATED:20220506T114731Z
LAST-MODIFIED:20220506T114731Z
UID:31260-1651708800-1654041599@mbstver.ru
SUMMARY:«Закон и семья» книжная выставка /с 5 по 31 мая/
DESCRIPTION:/к Международному дню семьи/
URL:https://mbstver.ru/event/zakon-i-semya-knizhnaya-vystavka-s-5-po-31-maya/
LOCATION:Зал информационно-библиографического обслуживания\, Тверской пр-т\, д. 5\, Тверь\, Российская Федерация
CATEGORIES:Книжная выставка
ORGANIZER;CN="%D0%98%D0%BD%D1%84%D0%BE%D1%80%D0%BC%D0%B0%D1%86%D0%B8%D0%BE%D0%BD%D0%BD%D0%BE-%D0%B1%D0%B8%D0%B1%D0%BB%D0%B8%D0%BE%D0%B3%D1%80%D0%B0%D1%84%D0%B8%D1%87%D0%B5%D1%81%D0%BA%D0%B8%D0%B9 %D0%BE%D1%82%D0%B4%D0%B5%D0%BB":MAILTO:ib-otd@mbstver.ru
END:VEVENT
BEGIN:VEVENT
DTSTART;VALUE=DATE:20220516
DTEND;VALUE=DATE:20220609
DTSTAMP:20260421T001506
CREATED:20220427T115909Z
LAST-MODIFIED:20220427T115909Z
UID:30953-1652659200-1654732799@mbstver.ru
SUMMARY:«По страницам одной книги: Кубок» выставка одной книги /c 16 мая по 8 июня/
DESCRIPTION:/к 135-летию со дня рождения Игоря Северянина (1887-1941)\, русского поэта-модерниста\, переводчика\, мемуариста — 16 мая/
URL:https://mbstver.ru/event/po-straniczam-odnoj-knigi-kubok-vystavka-odnoj-knigi-c-16-maya-po-8-iyunya/
LOCATION:Музей книги\, Тверской пр-т\, д. 5\, Тверь\, Российская Федерация
CATEGORIES:Выставка одной книги
ORGANIZER;CN="%D0%9E%D1%82%D0%B4%D0%B5%D0%BB %D1%80%D0%B5%D0%B4%D0%BA%D0%BE%D0%B3%D0%BE %D1%84%D0%BE%D0%BD%D0%B4%D0%B0":MAILTO:orgfond-otd@mbstver.ru
END:VEVENT
BEGIN:VEVENT
DTSTART;VALUE=DATE:20220523
DTEND;VALUE=DATE:20220613
DTSTAMP:20260421T001506
CREATED:20220506T110311Z
LAST-MODIFIED:20220506T110311Z
UID:31252-1653264000-1655078399@mbstver.ru
SUMMARY:«Душа\, завёрнутая в ткань» выставка текстильных кукол Эльвиры Мартыновой /с 23 мая по 12 июня/
DESCRIPTION:
URL:https://mbstver.ru/event/dusha-zavyornutaya-v-tkan-vystavka-tekstilnyh-kukol-elviry-martynovoj-s-23-maya-po-12-iyunya/
LOCATION:Холл Детского зала\, Тверской пр-т\, д. 5\, Тверь\, Российская Федерация
CATEGORIES:Выставка
ORGANIZER;CN="%D0%9E%D1%82%D0%B4%D0%B5%D0%BB %D0%B1%D0%B8%D0%B1%D0%BB%D0%B8%D0%BE%D1%82%D0%B5%D1%87%D0%BD%D0%BE%D0%B3%D0%BE %D0%BC%D0%B0%D1%80%D0%BA%D0%B5%D1%82%D0%B8%D0%BD%D0%B3%D0%B0 %D0%B8 %D0%BA%D1%83%D0%BB%D1%8C%D1%82%D1%83%D1%80%D0%BD%D0%BE-%D0%B4%D0%BE%D1%81%D1%83%D0%B3%D0%BE%D0%B2%D0%BE%D0%B9 %D0%B4%D0%B5%D1%8F%D1%82%D0%B5%D0%BB%D1%8C%D0%BD%D0%BE%D1%81%D1%82%D0%B8":MAILTO:o_dosugd@mbstver.ru
END:VEVENT
BEGIN:VEVENT
DTSTART;VALUE=DATE:20220523
DTEND;VALUE=DATE:20220614
DTSTAMP:20260421T001506
CREATED:20220517T104351Z
LAST-MODIFIED:20220517T113056Z
UID:31475-1653264000-1655164799@mbstver.ru
SUMMARY:«Чтобы вы улыбнулись» выставка живописи Елены Сёмочкиной /с 23 мая по 13 июня/
DESCRIPTION:
URL:https://mbstver.ru/event/chtoby-vy-ulybnulis-vystavka-zhivopisi-eleny-syomochkinoj/
LOCATION:Выставочный зал\, Тверской пр-т\, д. 5\, Тверь\, Российская Федерация
CATEGORIES:Выставка живописи
ORGANIZER;CN="%D0%9E%D1%82%D0%B4%D0%B5%D0%BB %D0%B1%D0%B8%D0%B1%D0%BB%D0%B8%D0%BE%D1%82%D0%B5%D1%87%D0%BD%D0%BE%D0%B3%D0%BE %D0%BC%D0%B0%D1%80%D0%BA%D0%B5%D1%82%D0%B8%D0%BD%D0%B3%D0%B0 %D0%B8 %D0%BA%D1%83%D0%BB%D1%8C%D1%82%D1%83%D1%80%D0%BD%D0%BE-%D0%B4%D0%BE%D1%81%D1%83%D0%B3%D0%BE%D0%B2%D0%BE%D0%B9 %D0%B4%D0%B5%D1%8F%D1%82%D0%B5%D0%BB%D1%8C%D0%BD%D0%BE%D1%81%D1%82%D0%B8":MAILTO:o_dosugd@mbstver.ru
END:VEVENT
BEGIN:VEVENT
DTSTART;TZID=Europe/Moscow:20220528T113000
DTEND;TZID=Europe/Moscow:20220528T113000
DTSTAMP:20260421T001506
CREATED:20220428T104153Z
LAST-MODIFIED:20220601T114314Z
UID:31045-1653737400-1653737400@mbstver.ru
SUMMARY:«Летописец русской природы» книжная виртуальная выставка
DESCRIPTION:/к 280-летию со дня рождения Ивана Сергеевича Соколова-Микитова (1892)\, писателя — 30 мая/
URL:https://mbstver.ru/event/letopisecz-russkoj-prirody-knizhnaya-virtualnaya-vystavka/
LOCATION:Группа ВК
CATEGORIES:Виртуальная выставка
ORGANIZER;CN="%D0%98%D0%BD%D1%84%D0%BE%D1%80%D0%BC%D0%B0%D1%86%D0%B8%D0%BE%D0%BD%D0%BD%D0%BE-%D0%B1%D0%B8%D0%B1%D0%BB%D0%B8%D0%BE%D0%B3%D1%80%D0%B0%D1%84%D0%B8%D1%87%D0%B5%D1%81%D0%BA%D0%B8%D0%B9 %D0%BE%D1%82%D0%B4%D0%B5%D0%BB":MAILTO:ib-otd@mbstver.ru
END:VEVENT
BEGIN:VEVENT
DTSTART;TZID=Europe/Moscow:20220528T120000
DTEND;TZID=Europe/Moscow:20220528T130000
DTSTAMP:20260421T001506
CREATED:20220526T130411Z
LAST-MODIFIED:20220526T130411Z
UID:31768-1653739200-1653742800@mbstver.ru
SUMMARY:«Собака с Памира» лекция по фильму «Джульбарс» /реж. – Владимир Шнейдеров\, 1935 г./
DESCRIPTION:
URL:https://mbstver.ru/event/sobaka-s-pamira-lekcziya-po-filmu-dzhulbars-rezh-vladimir-shnejderov-1935-g/
LOCATION:Музей книги\, Тверской пр-т\, д. 5\, Тверь\, Российская Федерация
CATEGORIES:Лекция
ORGANIZER;CN="%D0%9E%D1%82%D0%B4%D0%B5%D0%BB %D1%80%D0%B5%D0%B4%D0%BA%D0%BE%D0%B3%D0%BE %D1%84%D0%BE%D0%BD%D0%B4%D0%B0":MAILTO:orgfond-otd@mbstver.ru
END:VEVENT
BEGIN:VEVENT
DTSTART;TZID=Europe/Moscow:20220528T130000
DTEND;TZID=Europe/Moscow:20220528T130000
DTSTAMP:20260421T001506
CREATED:20220428T105121Z
LAST-MODIFIED:20220601T121631Z
UID:31049-1653742800-1653742800@mbstver.ru
SUMMARY:«Певец русской природы» книжная виртуальная выставка
DESCRIPTION:/к 130-летию со дня рождения Константина Георгиевича Паустовского (1892-1968)\, русского писателя — 31 мая/
URL:https://mbstver.ru/event/pevecz-russkoj-prirody-knizhnaya-virtualnaya-vystavka/
LOCATION:Группа ВК
CATEGORIES:Виртуальная выставка
ORGANIZER;CN="%D0%98%D0%BD%D1%84%D0%BE%D1%80%D0%BC%D0%B0%D1%86%D0%B8%D0%BE%D0%BD%D0%BD%D0%BE-%D0%B1%D0%B8%D0%B1%D0%BB%D0%B8%D0%BE%D0%B3%D1%80%D0%B0%D1%84%D0%B8%D1%87%D0%B5%D1%81%D0%BA%D0%B8%D0%B9 %D0%BE%D1%82%D0%B4%D0%B5%D0%BB":MAILTO:ib-otd@mbstver.ru
END:VEVENT
BEGIN:VEVENT
DTSTART;TZID=Europe/Moscow:20220528T160000
DTEND;TZID=Europe/Moscow:20220528T180000
DTSTAMP:20260421T001506
CREATED:20220427T133916Z
LAST-MODIFIED:20220427T133916Z
UID:30995-1653753600-1653760800@mbstver.ru
SUMMARY:«Моя любимая тёща» кинолекторий в клубе «Диалог»
DESCRIPTION:/реж. Габриэль Агион\, Франция\, 1999 г. /
URL:https://mbstver.ru/event/moya-lyubimaya-tyoshha-kinolektorij-v-klube-dialog/
LOCATION:Конференц-зал\, Тверской пр-т\, д. 5\, Тверь\, Российская Федерация
CATEGORIES:Кинолекторий
ORGANIZER;CN="%D0%9E%D1%82%D0%B4%D0%B5%D0%BB %D0%B1%D0%B8%D0%B1%D0%BB%D0%B8%D0%BE%D1%82%D0%B5%D1%87%D0%BD%D0%BE%D0%B3%D0%BE %D0%BC%D0%B0%D1%80%D0%BA%D0%B5%D1%82%D0%B8%D0%BD%D0%B3%D0%B0 %D0%B8 %D0%BA%D1%83%D0%BB%D1%8C%D1%82%D1%83%D1%80%D0%BD%D0%BE-%D0%B4%D0%BE%D1%81%D1%83%D0%B3%D0%BE%D0%B2%D0%BE%D0%B9 %D0%B4%D0%B5%D1%8F%D1%82%D0%B5%D0%BB%D1%8C%D0%BD%D0%BE%D1%81%D1%82%D0%B8":MAILTO:o_dosugd@mbstver.ru
END:VEVENT
BEGIN:VEVENT
DTSTART;TZID=Europe/Moscow:20220528T170000
DTEND;TZID=Europe/Moscow:20220528T200000
DTSTAMP:20260421T001506
CREATED:20220602T073710Z
LAST-MODIFIED:20220602T073710Z
UID:32167-1653757200-1653768000@mbstver.ru
SUMMARY:Библиосумерки «Матрёшка – русская душа»
DESCRIPTION:/в рамках Всероссийской акции «Библионочь-2022»/
URL:https://mbstver.ru/event/bibliosumerki-matryoshka-russkaya-dusha/
LOCATION:Детская библиотека им. Виталия Бианки\, ул. Богданова\, д. 22\, корп. 1\, Тверь\, Российская Федерация
CATEGORIES:Библиосумерки
ORGANIZER;CN="%D0%94%D0%B5%D1%82%D1%81%D0%BA%D0%B0%D1%8F %D0%B1%D0%B8%D0%B1%D0%BB%D0%B8%D0%BE%D1%82%D0%B5%D0%BA%D0%B0 %D0%B8%D0%BC. %D0%92%D0%B8%D1%82%D0%B0%D0%BB%D0%B8%D1%8F %D0%91%D0%B8%D0%B0%D0%BD%D0%BA%D0%B8":MAILTO:library_f29@mbstver.ru
END:VEVENT
BEGIN:VEVENT
DTSTART;TZID=Europe/Moscow:20220528T170000
DTEND;TZID=Europe/Moscow:20220528T200000
DTSTAMP:20260421T001506
CREATED:20220602T073858Z
LAST-MODIFIED:20220602T073858Z
UID:32169-1653757200-1653768000@mbstver.ru
SUMMARY:«Библиосумерки-2022» в Мультимедийном библиотечном центре
DESCRIPTION:/в рамках Всероссийской акции «Библионочь-2022»/
URL:https://mbstver.ru/event/bibliosumerki-2022-v-multimedijnom-bibliotechnom-czentre/
LOCATION:Мультимедийный библиотечный центр\, ул. С. Перовской\, д. 2\, Тверь\, Российская Федерация
CATEGORIES:Библиосумерки
ORGANIZER;CN="%D0%9C%D1%83%D0%BB%D1%8C%D1%82%D0%B8%D0%BC%D0%B5%D0%B4%D0%B8%D0%B9%D0%BD%D1%8B%D0%B9 %D0%B1%D0%B8%D0%B1%D0%BB%D0%B8%D0%BE%D1%82%D0%B5%D1%87%D0%BD%D1%8B%D0%B9 %D1%86%D0%B5%D0%BD%D1%82%D1%80":MAILTO:library_f19@mbstver.ru
END:VEVENT
BEGIN:VEVENT
DTSTART;TZID=Europe/Moscow:20220528T170000
DTEND;TZID=Europe/Moscow:20220528T200000
DTSTAMP:20260421T001506
CREATED:20220602T074025Z
LAST-MODIFIED:20220602T074025Z
UID:32171-1653757200-1653768000@mbstver.ru
SUMMARY:«Библиосумерки-2022» в детской библиотеке им. Афанасия Никитина
DESCRIPTION:/в рамках Всероссийской акции «Библионочь-2022»/
URL:https://mbstver.ru/event/bibliosumerki-2022-v-detskoj-biblioteke-im-afanasiya-nikitina/
LOCATION:Детская библиотека им. Афанасия Никитина\, наб. А. Никитина\, д. 54\, Тверь\, Российская Федерация
CATEGORIES:Библиосумерки
ORGANIZER;CN="%D0%94%D0%B5%D1%82%D1%81%D0%BA%D0%B0%D1%8F %D0%B1%D0%B8%D0%B1%D0%BB%D0%B8%D0%BE%D1%82%D0%B5%D0%BA%D0%B0 %D0%B8%D0%BC. %D0%90%D1%84%D0%B0%D0%BD%D0%B0%D1%81%D0%B8%D1%8F %D0%9D%D0%B8%D0%BA%D0%B8%D1%82%D0%B8%D0%BD%D0%B0":MAILTO:library_f18@mbstver.ru
END:VEVENT
BEGIN:VEVENT
DTSTART;TZID=Europe/Moscow:20220528T170000
DTEND;TZID=Europe/Moscow:20220528T200000
DTSTAMP:20260421T001506
CREATED:20220602T074442Z
LAST-MODIFIED:20220602T074442Z
UID:32175-1653757200-1653768000@mbstver.ru
SUMMARY:«Библиосумерки-2022» в библиотеке им. С.М. Кирова
DESCRIPTION:/в рамках Всероссийской акции «Библионочь-2022»/
URL:https://mbstver.ru/event/bibliosumerki-2022-v-biblioteke-im-s-m-kirova/
LOCATION:Библиотека семейного чтения им. С.М. Кирова\, ул. Бобкова\, д. 12\, Тверь\, Российская Федерация
CATEGORIES:Библиосумерки
ORGANIZER;CN="%D0%91%D0%B8%D0%B1%D0%BB%D0%B8%D0%BE%D1%82%D0%B5%D0%BA%D0%B0 %D1%81%D0%B5%D0%BC%D0%B5%D0%B9%D0%BD%D0%BE%D0%B3%D0%BE %D1%87%D1%82%D0%B5%D0%BD%D0%B8%D1%8F %D0%B8%D0%BC. %D0%A1.%D0%9C. %D0%9A%D0%B8%D1%80%D0%BE%D0%B2%D0%B0":MAILTO:library_f3@mbstver.ru
END:VEVENT
BEGIN:VEVENT
DTSTART;TZID=Europe/Moscow:20220528T173000
DTEND;TZID=Europe/Moscow:20220528T210000
DTSTAMP:20260421T001506
CREATED:20220602T074151Z
LAST-MODIFIED:20220602T074151Z
UID:32173-1653759000-1653771600@mbstver.ru
SUMMARY:«Библиосумерки-2022» в библиотеке семейного чтения посёлка Химинститута
DESCRIPTION:/в рамках Всероссийской акции «Библионочь-2022»/
URL:https://mbstver.ru/event/bibliosumerki-2022-v-biblioteke-semejnogo-chteniya-posyolka-himinstituta/
LOCATION:Библиотека семейного чтения пос. Химинститута\, пос. Химинститута\, д. 26\, Тверь\, Российская Федерация
CATEGORIES:Библиосумерки
ORGANIZER;CN="%D0%91%D0%B8%D0%B1%D0%BB%D0%B8%D0%BE%D1%82%D0%B5%D0%BA%D0%B0 %D1%81%D0%B5%D0%BC%D0%B5%D0%B9%D0%BD%D0%BE%D0%B3%D0%BE %D1%87%D1%82%D0%B5%D0%BD%D0%B8%D1%8F %D0%BF%D0%BE%D1%81%D0%B5%D0%BB%D0%BA%D0%B0 %D0%A5%D0%B8%D0%BC%D0%B8%D0%BD%D1%81%D1%82%D0%B8%D1%82%D1%83%D1%82%D0%B0":MAILTO:filial16@bk.ru; library_f16@mbstver.ru
END:VEVENT
BEGIN:VEVENT
DTSTART;TZID=Europe/Moscow:20220528T180000
DTEND;TZID=Europe/Moscow:20220528T210000
DTSTAMP:20260421T001506
CREATED:20220427T134058Z
LAST-MODIFIED:20220517T104643Z
UID:30997-1653760800-1653771600@mbstver.ru
SUMMARY:«Библионочь в Герценке» праздничная программа
DESCRIPTION:/в рамках Всероссийской акции «Библионочь-2022»/
URL:https://mbstver.ru/event/bibliosumerki-v-gerczenke-prazdnichnaya-programma/
LOCATION:Центральная городская библиотека им. А.И. Герцена\, Тверской пр-т\, д. 5\, Тверь\, Российская Федерация
CATEGORIES:Праздничная программа
END:VEVENT
END:VCALENDAR