BEGIN:VCALENDAR
VERSION:2.0
PRODID:-//Муниципальная библиотечная система города Твери - ECPv6.11.2.1//NONSGML v1.0//EN
CALSCALE:GREGORIAN
METHOD:PUBLISH
X-WR-CALNAME:Муниципальная библиотечная система города Твери
X-ORIGINAL-URL:https://mbstver.ru
X-WR-CALDESC:Мероприятия для Муниципальная библиотечная система города Твери
REFRESH-INTERVAL;VALUE=DURATION:PT1H
X-Robots-Tag:noindex
X-PUBLISHED-TTL:PT1H
BEGIN:VTIMEZONE
TZID:Europe/Moscow
BEGIN:STANDARD
TZOFFSETFROM:+0300
TZOFFSETTO:+0300
TZNAME:MSK
DTSTART:20220101T000000
END:STANDARD
END:VTIMEZONE
BEGIN:VEVENT
DTSTART;VALUE=DATE:20220504
DTEND;VALUE=DATE:20220610
DTSTAMP:20260420T073415
CREATED:20220427T114214Z
LAST-MODIFIED:20220427T114214Z
UID:30951-1651622400-1654819199@mbstver.ru
SUMMARY:«Мастера своего дела: немецкий издатель Фридрих Арнольд Брокгауз» книжная выставка /с 4 мая по 9 июня/
DESCRIPTION:
URL:https://mbstver.ru/event/mastera-svoego-dela-nemeczkij-izdatel-fridrih-arnold-brokgauz-knizhnaya-vystavka-s-4-maya-po-9-iyunya/
LOCATION:Музей книги\, Тверской пр-т\, д. 5\, Тверь\, Российская Федерация
CATEGORIES:Книжная выставка
ORGANIZER;CN="%D0%9E%D1%82%D0%B4%D0%B5%D0%BB %D1%80%D0%B5%D0%B4%D0%BA%D0%BE%D0%B3%D0%BE %D1%84%D0%BE%D0%BD%D0%B4%D0%B0":MAILTO:orgfond-otd@mbstver.ru
END:VEVENT
BEGIN:VEVENT
DTSTART;VALUE=DATE:20220516
DTEND;VALUE=DATE:20220609
DTSTAMP:20260420T073415
CREATED:20220427T115909Z
LAST-MODIFIED:20220427T115909Z
UID:30953-1652659200-1654732799@mbstver.ru
SUMMARY:«По страницам одной книги: Кубок» выставка одной книги /c 16 мая по 8 июня/
DESCRIPTION:/к 135-летию со дня рождения Игоря Северянина (1887-1941)\, русского поэта-модерниста\, переводчика\, мемуариста — 16 мая/
URL:https://mbstver.ru/event/po-straniczam-odnoj-knigi-kubok-vystavka-odnoj-knigi-c-16-maya-po-8-iyunya/
LOCATION:Музей книги\, Тверской пр-т\, д. 5\, Тверь\, Российская Федерация
CATEGORIES:Выставка одной книги
ORGANIZER;CN="%D0%9E%D1%82%D0%B4%D0%B5%D0%BB %D1%80%D0%B5%D0%B4%D0%BA%D0%BE%D0%B3%D0%BE %D1%84%D0%BE%D0%BD%D0%B4%D0%B0":MAILTO:orgfond-otd@mbstver.ru
END:VEVENT
BEGIN:VEVENT
DTSTART;VALUE=DATE:20220523
DTEND;VALUE=DATE:20220613
DTSTAMP:20260420T073415
CREATED:20220506T110311Z
LAST-MODIFIED:20220506T110311Z
UID:31252-1653264000-1655078399@mbstver.ru
SUMMARY:«Душа\, завёрнутая в ткань» выставка текстильных кукол Эльвиры Мартыновой /с 23 мая по 12 июня/
DESCRIPTION:
URL:https://mbstver.ru/event/dusha-zavyornutaya-v-tkan-vystavka-tekstilnyh-kukol-elviry-martynovoj-s-23-maya-po-12-iyunya/
LOCATION:Холл Детского зала\, Тверской пр-т\, д. 5\, Тверь\, Российская Федерация
CATEGORIES:Выставка
ORGANIZER;CN="%D0%9E%D1%82%D0%B4%D0%B5%D0%BB %D0%B1%D0%B8%D0%B1%D0%BB%D0%B8%D0%BE%D1%82%D0%B5%D1%87%D0%BD%D0%BE%D0%B3%D0%BE %D0%BC%D0%B0%D1%80%D0%BA%D0%B5%D1%82%D0%B8%D0%BD%D0%B3%D0%B0 %D0%B8 %D0%BA%D1%83%D0%BB%D1%8C%D1%82%D1%83%D1%80%D0%BD%D0%BE-%D0%B4%D0%BE%D1%81%D1%83%D0%B3%D0%BE%D0%B2%D0%BE%D0%B9 %D0%B4%D0%B5%D1%8F%D1%82%D0%B5%D0%BB%D1%8C%D0%BD%D0%BE%D1%81%D1%82%D0%B8":MAILTO:o_dosugd@mbstver.ru
END:VEVENT
BEGIN:VEVENT
DTSTART;VALUE=DATE:20220523
DTEND;VALUE=DATE:20220614
DTSTAMP:20260420T073415
CREATED:20220517T104351Z
LAST-MODIFIED:20220517T113056Z
UID:31475-1653264000-1655164799@mbstver.ru
SUMMARY:«Чтобы вы улыбнулись» выставка живописи Елены Сёмочкиной /с 23 мая по 13 июня/
DESCRIPTION:
URL:https://mbstver.ru/event/chtoby-vy-ulybnulis-vystavka-zhivopisi-eleny-syomochkinoj/
LOCATION:Выставочный зал\, Тверской пр-т\, д. 5\, Тверь\, Российская Федерация
CATEGORIES:Выставка живописи
ORGANIZER;CN="%D0%9E%D1%82%D0%B4%D0%B5%D0%BB %D0%B1%D0%B8%D0%B1%D0%BB%D0%B8%D0%BE%D1%82%D0%B5%D1%87%D0%BD%D0%BE%D0%B3%D0%BE %D0%BC%D0%B0%D1%80%D0%BA%D0%B5%D1%82%D0%B8%D0%BD%D0%B3%D0%B0 %D0%B8 %D0%BA%D1%83%D0%BB%D1%8C%D1%82%D1%83%D1%80%D0%BD%D0%BE-%D0%B4%D0%BE%D1%81%D1%83%D0%B3%D0%BE%D0%B2%D0%BE%D0%B9 %D0%B4%D0%B5%D1%8F%D1%82%D0%B5%D0%BB%D1%8C%D0%BD%D0%BE%D1%81%D1%82%D0%B8":MAILTO:o_dosugd@mbstver.ru
END:VEVENT
BEGIN:VEVENT
DTSTART;VALUE=DATE:20220601
DTEND;VALUE=DATE:20220901
DTSTAMP:20260420T073415
CREATED:20220601T132017Z
LAST-MODIFIED:20220601T132103Z
UID:32150-1654041600-1661990399@mbstver.ru
SUMMARY:«Радуга талантов» выставка детских рисунков /с 1 июня по 31 августа/
DESCRIPTION:
URL:https://mbstver.ru/event/raduga-talantov-vystavka-detskih-risunkov/
LOCATION:Холл Детского зала\, Тверской пр-т\, д. 5\, Тверь\, Российская Федерация
CATEGORIES:Выставка
ORGANIZER;CN="%D0%9E%D1%82%D0%B4%D0%B5%D0%BB %D0%BE%D0%B1%D1%81%D0%BB%D1%83%D0%B6%D0%B8%D0%B2%D0%B0%D0%BD%D0%B8%D1%8F %D0%B4%D0%B5%D1%82%D0%B5%D0%B9":MAILTO:detsky-otd@mbstver.ru
END:VEVENT
BEGIN:VEVENT
DTSTART;TZID=Europe/Moscow:20220606T100000
DTEND;TZID=Europe/Moscow:20220606T120000
DTSTAMP:20260420T073415
CREATED:20220524T121919Z
LAST-MODIFIED:20220524T121919Z
UID:31616-1654509600-1654516800@mbstver.ru
SUMMARY:«Давайте Пушкина читать!» праздничная программа
DESCRIPTION:/к Пушкинскому дню России/
URL:https://mbstver.ru/event/davajte-pushkina-chitat-prazdnichnaya-programma/
LOCATION:Городской сад\, Советская ул.\, д. 5\, корп. 4\, Тверь\, Российская Федерация
CATEGORIES:Праздничная программа
ORGANIZER;CN="%D0%9E%D1%82%D0%B4%D0%B5%D0%BB %D0%B1%D0%B8%D0%B1%D0%BB%D0%B8%D0%BE%D1%82%D0%B5%D1%87%D0%BD%D0%BE%D0%B3%D0%BE %D0%BC%D0%B0%D1%80%D0%BA%D0%B5%D1%82%D0%B8%D0%BD%D0%B3%D0%B0 %D0%B8 %D0%BA%D1%83%D0%BB%D1%8C%D1%82%D1%83%D1%80%D0%BD%D0%BE-%D0%B4%D0%BE%D1%81%D1%83%D0%B3%D0%BE%D0%B2%D0%BE%D0%B9 %D0%B4%D0%B5%D1%8F%D1%82%D0%B5%D0%BB%D1%8C%D0%BD%D0%BE%D1%81%D1%82%D0%B8":MAILTO:o_dosugd@mbstver.ru
END:VEVENT
BEGIN:VEVENT
DTSTART;TZID=Europe/Moscow:20220606T110000
DTEND;TZID=Europe/Moscow:20220606T110000
DTSTAMP:20260420T073415
CREATED:20220525T110805Z
LAST-MODIFIED:20220525T110805Z
UID:31725-1654513200-1654513200@mbstver.ru
SUMMARY:«Тверские дороги Пушкина» познавательная презентация
DESCRIPTION:/к Пушкинскому дню России/
URL:https://mbstver.ru/event/tverskie-dorogi-pushkina-poznavatelnaya-prezentacziya/
LOCATION:Группа ВК_30
CATEGORIES:Познавательная презентация
ORGANIZER;CN="%D0%91%D0%B8%D0%B1%D0%BB%D0%B8%D0%BE%D1%82%D0%B5%D0%BA%D0%B0 %D1%81%D0%B5%D0%BC%D0%B5%D0%B9%D0%BD%D0%BE%D0%B3%D0%BE %D1%87%D1%82%D0%B5%D0%BD%D0%B8%D1%8F %D0%BC%D0%B8%D0%BA%D1%80%D0%BE%D1%80%D0%B0%D0%B9%D0%BE%D0%BD%D0%B0 %D0%AE%D0%BD%D0%BE%D1%81%D1%82%D1%8C":MAILTO:mukfil30@yandex.ru; library_f30@mbstver.ru
END:VEVENT
BEGIN:VEVENT
DTSTART;TZID=Europe/Moscow:20220606T110000
DTEND;TZID=Europe/Moscow:20220606T120000
DTSTAMP:20260420T073415
CREATED:20220524T134234Z
LAST-MODIFIED:20220524T134234Z
UID:31677-1654513200-1654516800@mbstver.ru
SUMMARY:«Гармония звука и слова» музыкально-поэтическая композиция
DESCRIPTION:/к Пушкинскому дню России/
URL:https://mbstver.ru/event/garmoniya-zvuka-i-slova-muzykalno-poeticheskaya-kompozicziya/
LOCATION:Мультимедийный библиотечный центр\, ул. С. Перовской\, д. 2\, Тверь\, Российская Федерация
CATEGORIES:Музыкально-поэтическая композиция
ORGANIZER;CN="%D0%9C%D1%83%D0%BB%D1%8C%D1%82%D0%B8%D0%BC%D0%B5%D0%B4%D0%B8%D0%B9%D0%BD%D1%8B%D0%B9 %D0%B1%D0%B8%D0%B1%D0%BB%D0%B8%D0%BE%D1%82%D0%B5%D1%87%D0%BD%D1%8B%D0%B9 %D1%86%D0%B5%D0%BD%D1%82%D1%80":MAILTO:library_f19@mbstver.ru
END:VEVENT
BEGIN:VEVENT
DTSTART;TZID=Europe/Moscow:20220606T110000
DTEND;TZID=Europe/Moscow:20220606T120000
DTSTAMP:20260420T073415
CREATED:20220524T135309Z
LAST-MODIFIED:20220524T135309Z
UID:31679-1654513200-1654516800@mbstver.ru
SUMMARY:«Как прекрасна Пушкинская сказка» познавательный час
DESCRIPTION:/к Пушкинскому дню России/
URL:https://mbstver.ru/event/kak-prekrasna-pushkinskaya-skazka-poznavatelnyj-chas/
LOCATION:Библиотека семейного чтения им. Б.Н. Полевого\, Пролетарская наб.\, д. 5\, Тверь\, Российская Федерация
CATEGORIES:Познавательный час
ORGANIZER;CN="%D0%91%D0%B8%D0%B1%D0%BB%D0%B8%D0%BE%D1%82%D0%B5%D0%BA%D0%B0 %D1%81%D0%B5%D0%BC%D0%B5%D0%B9%D0%BD%D0%BE%D0%B3%D0%BE %D1%87%D1%82%D0%B5%D0%BD%D0%B8%D1%8F %D0%B8%D0%BC. %D0%91.%D0%9D. %D0%9F%D0%BE%D0%BB%D0%B5%D0%B2%D0%BE%D0%B3%D0%BE":MAILTO:library_f21@mbstver.ru
END:VEVENT
BEGIN:VEVENT
DTSTART;TZID=Europe/Moscow:20220606T120000
DTEND;TZID=Europe/Moscow:20220606T120000
DTSTAMP:20260420T073415
CREATED:20220525T111211Z
LAST-MODIFIED:20220525T111211Z
UID:31727-1654516800-1654516800@mbstver.ru
SUMMARY:«Наш Пушкин» презентация одноимённой книги Николая Михайловича Лебедева и Владимира Георгиевича Самуйлова
DESCRIPTION:/к Пушкинскому дню России/
URL:https://mbstver.ru/event/nash-pushkin-prezentacziya-odnoimyonnoj-knigi-nikolaya-mihajlovicha-lebedeva-i-vladimira-georgievicha-samujlova/
LOCATION:Группа ВК_27
CATEGORIES:Презентация книги
ORGANIZER;CN="%D0%91%D0%B8%D0%B1%D0%BB%D0%B8%D0%BE%D1%82%D0%B5%D0%BA%D0%B0 %D1%81%D0%B5%D0%BC%D0%B5%D0%B9%D0%BD%D0%BE%D0%B3%D0%BE %D1%87%D1%82%D0%B5%D0%BD%D0%B8%D1%8F %D0%BC%D0%B8%D0%BA%D1%80%D0%BE%D1%80%D0%B0%D0%B9%D0%BE%D0%BD%D0%B0 %D0%AE%D0%B6%D0%BD%D1%8B%D0%B9":MAILTO:library_f27@mbstver.ru
END:VEVENT
BEGIN:VEVENT
DTSTART;TZID=Europe/Moscow:20220606T140000
DTEND;TZID=Europe/Moscow:20220606T150000
DTSTAMP:20260420T073415
CREATED:20220524T135436Z
LAST-MODIFIED:20220524T135436Z
UID:31681-1654524000-1654527600@mbstver.ru
SUMMARY:«У Лукоморья» сказочное путешествие
DESCRIPTION:/к Пушкинскому дню России/
URL:https://mbstver.ru/event/u-lukomorya-skazochnoe-puteshestvie/
LOCATION:Детская библиотека им. Виталия Бианки\, ул. Богданова\, д. 22\, корп. 1\, Тверь\, Российская Федерация
CATEGORIES:Сказочное путешествие
ORGANIZER;CN="%D0%94%D0%B5%D1%82%D1%81%D0%BA%D0%B0%D1%8F %D0%B1%D0%B8%D0%B1%D0%BB%D0%B8%D0%BE%D1%82%D0%B5%D0%BA%D0%B0 %D0%B8%D0%BC. %D0%92%D0%B8%D1%82%D0%B0%D0%BB%D0%B8%D1%8F %D0%91%D0%B8%D0%B0%D0%BD%D0%BA%D0%B8":MAILTO:library_f29@mbstver.ru
END:VEVENT
END:VCALENDAR