BEGIN:VCALENDAR
VERSION:2.0
PRODID:-//Муниципальная библиотечная система города Твери - ECPv6.11.2.1//NONSGML v1.0//EN
CALSCALE:GREGORIAN
METHOD:PUBLISH
X-ORIGINAL-URL:https://mbstver.ru
X-WR-CALDESC:Мероприятия для Муниципальная библиотечная система города Твери
REFRESH-INTERVAL;VALUE=DURATION:PT1H
X-Robots-Tag:noindex
X-PUBLISHED-TTL:PT1H
BEGIN:VTIMEZONE
TZID:Europe/Moscow
BEGIN:STANDARD
TZOFFSETFROM:+0300
TZOFFSETTO:+0300
TZNAME:MSK
DTSTART:20240101T000000
END:STANDARD
END:VTIMEZONE
BEGIN:VEVENT
DTSTART;VALUE=DATE:20241112
DTEND;VALUE=DATE:20241204
DTSTAMP:20260420T073442
CREATED:20241108T074914Z
LAST-MODIFIED:20241108T074914Z
UID:58496-1731369600-1733270399@mbstver.ru
SUMMARY:«Гаджеты советского детства» выставка экспонатов ретро-техно-музея «ИнтернетаНЕТ» / Холл Детского зала / с 12 ноября по 3 декабря
DESCRIPTION:
URL:https://mbstver.ru/event/gadzhety-sovetskogo-detstva-vystavka-eksponatov-retro-tehno-muzeya-internetanet-holl-detskogo-zala-s-12-noyabrya-po-3-dekabrya/
LOCATION:Холл Детского зала\, Тверской пр-т\, д. 5\, Тверь\, Российская Федерация
CATEGORIES:Выставка
ORGANIZER;CN="%D0%9E%D1%82%D0%B4%D0%B5%D0%BB %D0%BE%D0%B1%D1%81%D0%BB%D1%83%D0%B6%D0%B8%D0%B2%D0%B0%D0%BD%D0%B8%D1%8F %D0%B8 %D0%BA%D0%BD%D0%B8%D0%B3%D0%BE%D1%85%D1%80%D0%B0%D0%BD%D0%B5%D0%BD%D0%B8%D1%8F":MAILTO:otd-obsl@mbstver.ru
END:VEVENT
BEGIN:VEVENT
DTSTART;VALUE=DATE:20241124
DTEND;VALUE=DATE:20241212
DTSTAMP:20260420T073442
CREATED:20241111T095642Z
LAST-MODIFIED:20241111T095642Z
UID:58559-1732406400-1733961599@mbstver.ru
SUMMARY:«Грация балета» отчетная выставка живописи студии Андрея Юдина / Выставочный зал / с 24 ноября по 11 декабря
DESCRIPTION:
URL:https://mbstver.ru/event/gracziya-baleta-otchetnaya-vystavka-zhivopisi-studii-andreya-yudina-vystavochnyj-zal-s-24-noyabrya-po-11-dekabrya-2/
LOCATION:Выставочный зал\, Тверской пр-т\, д. 5\, Тверь\, Российская Федерация
CATEGORIES:Выставка живописи
ORGANIZER;CN="%D0%9E%D1%82%D0%B4%D0%B5%D0%BB %D0%B1%D0%B8%D0%B1%D0%BB%D0%B8%D0%BE%D1%82%D0%B5%D1%87%D0%BD%D0%BE%D0%B3%D0%BE %D0%BC%D0%B0%D1%80%D0%BA%D0%B5%D1%82%D0%B8%D0%BD%D0%B3%D0%B0 %D0%B8 %D0%BA%D1%83%D0%BB%D1%8C%D1%82%D1%83%D1%80%D0%BD%D0%BE-%D0%B4%D0%BE%D1%81%D1%83%D0%B3%D0%BE%D0%B2%D0%BE%D0%B9 %D0%B4%D0%B5%D1%8F%D1%82%D0%B5%D0%BB%D1%8C%D0%BD%D0%BE%D1%81%D1%82%D0%B8":MAILTO:o_dosugd@mbstver.ru
END:VEVENT
BEGIN:VEVENT
DTSTART;VALUE=DATE:20241203
DTEND;VALUE=DATE:20241224
DTSTAMP:20260420T073442
CREATED:20241202T072649Z
LAST-MODIFIED:20241202T072649Z
UID:59050-1733184000-1734998399@mbstver.ru
SUMMARY:«Каменная симфония Твери» книжная выставка-инсталляция /памяти Великого князя всея Руси Михаила Ярославича Тверского / Холл Детского зала / с 3 по 23 декабря
DESCRIPTION:
URL:https://mbstver.ru/event/kamennaya-simfoniya-tveri-knizhnaya-vystavka-installyacziya-pamyati-velikogo-knyazya-vseya-rusi-mihaila-yaroslavicha-tverskogo-holl-detskogo-zala-s-3-po-23-dekabrya/
LOCATION:Холл Детского зала\, Тверской пр-т\, д. 5\, Тверь\, Российская Федерация
CATEGORIES:Выставка-инсталляция
ORGANIZER;CN="%D0%98%D0%BD%D1%84%D0%BE%D1%80%D0%BC%D0%B0%D1%86%D0%B8%D0%BE%D0%BD%D0%BD%D0%BE-%D0%B1%D0%B8%D0%B1%D0%BB%D0%B8%D0%BE%D0%B3%D1%80%D0%B0%D1%84%D0%B8%D1%87%D0%B5%D1%81%D0%BA%D0%B8%D0%B9 %D0%BE%D1%82%D0%B4%D0%B5%D0%BB":MAILTO:ib-otd@mbstver.ru
END:VEVENT
BEGIN:VEVENT
DTSTART;VALUE=DATE:20241203
DTEND;VALUE=DATE:20241224
DTSTAMP:20260420T073442
CREATED:20241202T072750Z
LAST-MODIFIED:20241202T072750Z
UID:59052-1733184000-1734998399@mbstver.ru
SUMMARY:«Архитектурные шедевры России» выставка изображений памятных монет Банка России / Холл Детского зала / с 3 по 23 декабря
DESCRIPTION:
URL:https://mbstver.ru/event/arhitekturnye-shedevry-rossii-vystavka-izobrazhenij-pamyatnyh-monet-banka-rossii-holl-detskogo-zala-s-3-po-23-dekabrya/
LOCATION:Холл Детского зала\, Тверской пр-т\, д. 5\, Тверь\, Российская Федерация
CATEGORIES:Выставка
ORGANIZER;CN="%D0%98%D0%BD%D1%84%D0%BE%D1%80%D0%BC%D0%B0%D1%86%D0%B8%D0%BE%D0%BD%D0%BD%D0%BE-%D0%B1%D0%B8%D0%B1%D0%BB%D0%B8%D0%BE%D0%B3%D1%80%D0%B0%D1%84%D0%B8%D1%87%D0%B5%D1%81%D0%BA%D0%B8%D0%B9 %D0%BE%D1%82%D0%B4%D0%B5%D0%BB":MAILTO:ib-otd@mbstver.ru
END:VEVENT
BEGIN:VEVENT
DTSTART;TZID=Europe/Moscow:20241203T120000
DTEND;TZID=Europe/Moscow:20241203T130000
DTSTAMP:20260420T073442
CREATED:20241122T125750Z
LAST-MODIFIED:20241122T125750Z
UID:58794-1733227200-1733230800@mbstver.ru
SUMMARY:«Семь чудес Твери» краеведческий час / Детский зал
DESCRIPTION:/к Неделе краеведения — 3-9 декабря/
URL:https://mbstver.ru/event/sem-chudes-tveri-kraevedcheskij-chas-detskij-zal/
LOCATION:Детский зал\, Тверской пр-т\, д. 5\, Тверь\, Российская Федерация
CATEGORIES:Краеведческий час
ORGANIZER;CN="%D0%9E%D1%82%D0%B4%D0%B5%D0%BB %D0%BE%D0%B1%D1%81%D0%BB%D1%83%D0%B6%D0%B8%D0%B2%D0%B0%D0%BD%D0%B8%D1%8F %D0%B4%D0%B5%D1%82%D0%B5%D0%B9":MAILTO:detsky-otd@mbstver.ru
END:VEVENT
BEGIN:VEVENT
DTSTART;TZID=Europe/Moscow:20241203T130000
DTEND;TZID=Europe/Moscow:20241203T140000
DTSTAMP:20260420T073442
CREATED:20241201T094613Z
LAST-MODIFIED:20241201T094613Z
UID:59011-1733230800-1733234400@mbstver.ru
SUMMARY:«Имена в Золотой книге Твери» кинолекторий  / Михайловский зал
DESCRIPTION:
URL:https://mbstver.ru/event/imena-v-zolotoj-knige-tveri-kinolektorij-mihajlovskij-zal/
LOCATION:Михайловский зал\, Тверской пр-т\, д. 5\, Тверь\, Российская Федерация
CATEGORIES:Кинолекторий
ORGANIZER;CN="%D0%9E%D1%82%D0%B4%D0%B5%D0%BB %D0%BE%D0%B1%D1%81%D0%BB%D1%83%D0%B6%D0%B8%D0%B2%D0%B0%D0%BD%D0%B8%D1%8F %D0%B8 %D0%BA%D0%BD%D0%B8%D0%B3%D0%BE%D1%85%D1%80%D0%B0%D0%BD%D0%B5%D0%BD%D0%B8%D1%8F":MAILTO:otd-obsl@mbstver.ru
END:VEVENT
BEGIN:VEVENT
DTSTART;TZID=Europe/Moscow:20241203T170000
DTEND;TZID=Europe/Moscow:20241203T173000
DTSTAMP:20260420T073442
CREATED:20241201T094825Z
LAST-MODIFIED:20241201T094825Z
UID:59013-1733245200-1733247000@mbstver.ru
SUMMARY:«Легенды Тверского края: мифы и реальность» лекция в рамках заседания Тверского клуба краеведов / Горница
DESCRIPTION:
URL:https://mbstver.ru/event/legendy-tverskogo-kraya-mify-i-realnost-lekcziya-v-ramkah-zasedaniya-tverskogo-kluba-kraevedov-gornicza/
LOCATION:Горница\, Тверской пр-т\, д. 5\, Тверь\, Российская Федерация
CATEGORIES:Лекция
ORGANIZER;CN="%D0%9E%D1%82%D0%B4%D0%B5%D0%BB %D1%80%D0%B5%D0%B4%D0%BA%D0%BE%D0%B3%D0%BE %D1%84%D0%BE%D0%BD%D0%B4%D0%B0":MAILTO:orgfond-otd@mbstver.ru
END:VEVENT
BEGIN:VEVENT
DTSTART;TZID=Europe/Moscow:20241203T170000
DTEND;TZID=Europe/Moscow:20241203T190000
DTSTAMP:20260420T073442
CREATED:20241122T125847Z
LAST-MODIFIED:20241122T125847Z
UID:58796-1733245200-1733252400@mbstver.ru
SUMMARY:«Тверской клуб краеведов» заседание / Горница
DESCRIPTION:
URL:https://mbstver.ru/event/tverskoj-klub-kraevedov-zasedanie-gornicza-14/
LOCATION:Горница\, Тверской пр-т\, д. 5\, Тверь\, Российская Федерация
CATEGORIES:Заседание
ORGANIZER;CN="%D0%9E%D1%82%D0%B4%D0%B5%D0%BB %D0%B1%D0%B8%D0%B1%D0%BB%D0%B8%D0%BE%D1%82%D0%B5%D1%87%D0%BD%D0%BE%D0%B3%D0%BE %D0%BC%D0%B0%D1%80%D0%BA%D0%B5%D1%82%D0%B8%D0%BD%D0%B3%D0%B0 %D0%B8 %D0%BA%D1%83%D0%BB%D1%8C%D1%82%D1%83%D1%80%D0%BD%D0%BE-%D0%B4%D0%BE%D1%81%D1%83%D0%B3%D0%BE%D0%B2%D0%BE%D0%B9 %D0%B4%D0%B5%D1%8F%D1%82%D0%B5%D0%BB%D1%8C%D0%BD%D0%BE%D1%81%D1%82%D0%B8":MAILTO:o_dosugd@mbstver.ru
END:VEVENT
BEGIN:VEVENT
DTSTART;TZID=Europe/Moscow:20241203T173000
DTEND;TZID=Europe/Moscow:20241203T180000
DTSTAMP:20260420T073442
CREATED:20241201T095001Z
LAST-MODIFIED:20241201T095001Z
UID:59015-1733247000-1733248800@mbstver.ru
SUMMARY:«От А до Я» бенефис одной книги в рамках заседания Тверского клуба краеведов / Горница
DESCRIPTION:/к 30-летию со дня выпуска энциклопедического справочника «Тверская область»/
URL:https://mbstver.ru/event/ot-a-do-ya-benefis-odnoj-knigi-v-ramkah-zasedaniya-tverskogo-kluba-kraevedov-gornicza/
LOCATION:Горница\, Тверской пр-т\, д. 5\, Тверь\, Российская Федерация
CATEGORIES:Бенефис одной книги
ORGANIZER;CN="%D0%98%D0%BD%D1%84%D0%BE%D1%80%D0%BC%D0%B0%D1%86%D0%B8%D0%BE%D0%BD%D0%BD%D0%BE-%D0%B1%D0%B8%D0%B1%D0%BB%D0%B8%D0%BE%D0%B3%D1%80%D0%B0%D1%84%D0%B8%D1%87%D0%B5%D1%81%D0%BA%D0%B8%D0%B9 %D0%BE%D1%82%D0%B4%D0%B5%D0%BB":MAILTO:ib-otd@mbstver.ru
END:VEVENT
BEGIN:VEVENT
DTSTART;TZID=Europe/Moscow:20241203T180000
DTEND;TZID=Europe/Moscow:20241203T183000
DTSTAMP:20260420T073442
CREATED:20241201T095116Z
LAST-MODIFIED:20241201T095116Z
UID:59017-1733248800-1733250600@mbstver.ru
SUMMARY:«65-летие книги «Животный мир Тверской области» сообщение в рамках заседания Тверского клуба краеведов / Горница
DESCRIPTION:
URL:https://mbstver.ru/event/65-letie-knigi-zhivotnyj-mir-tverskoj-oblasti-soobshhenie-v-ramkah-zasedaniya-tverskogo-kluba-kraevedov-gornicza/
LOCATION:Горница\, Тверской пр-т\, д. 5\, Тверь\, Российская Федерация
CATEGORIES:Сообщение
ORGANIZER;CN="%D0%98%D0%BD%D1%84%D0%BE%D1%80%D0%BC%D0%B0%D1%86%D0%B8%D0%BE%D0%BD%D0%BD%D0%BE-%D0%B1%D0%B8%D0%B1%D0%BB%D0%B8%D0%BE%D0%B3%D1%80%D0%B0%D1%84%D0%B8%D1%87%D0%B5%D1%81%D0%BA%D0%B8%D0%B9 %D0%BE%D1%82%D0%B4%D0%B5%D0%BB":MAILTO:ib-otd@mbstver.ru
END:VEVENT
END:VCALENDAR