BEGIN:VCALENDAR
VERSION:2.0
PRODID:-//Муниципальная библиотечная система города Твери - ECPv6.11.2.1//NONSGML v1.0//EN
CALSCALE:GREGORIAN
METHOD:PUBLISH
X-WR-CALNAME:Муниципальная библиотечная система города Твери
X-ORIGINAL-URL:https://mbstver.ru
X-WR-CALDESC:Мероприятия для Муниципальная библиотечная система города Твери
REFRESH-INTERVAL;VALUE=DURATION:PT1H
X-Robots-Tag:noindex
X-PUBLISHED-TTL:PT1H
BEGIN:VTIMEZONE
TZID:Europe/Moscow
BEGIN:STANDARD
TZOFFSETFROM:+0300
TZOFFSETTO:+0300
TZNAME:MSK
DTSTART:20240101T000000
END:STANDARD
END:VTIMEZONE
BEGIN:VEVENT
DTSTART;VALUE=DATE:20241124
DTEND;VALUE=DATE:20241212
DTSTAMP:20260420T122239
CREATED:20241111T095642Z
LAST-MODIFIED:20241111T095642Z
UID:58559-1732406400-1733961599@mbstver.ru
SUMMARY:«Грация балета» отчетная выставка живописи студии Андрея Юдина / Выставочный зал / с 24 ноября по 11 декабря
DESCRIPTION:
URL:https://mbstver.ru/event/gracziya-baleta-otchetnaya-vystavka-zhivopisi-studii-andreya-yudina-vystavochnyj-zal-s-24-noyabrya-po-11-dekabrya-2/
LOCATION:Выставочный зал\, Тверской пр-т\, д. 5\, Тверь\, Российская Федерация
CATEGORIES:Выставка живописи
ORGANIZER;CN="%D0%9E%D1%82%D0%B4%D0%B5%D0%BB %D0%B1%D0%B8%D0%B1%D0%BB%D0%B8%D0%BE%D1%82%D0%B5%D1%87%D0%BD%D0%BE%D0%B3%D0%BE %D0%BC%D0%B0%D1%80%D0%BA%D0%B5%D1%82%D0%B8%D0%BD%D0%B3%D0%B0 %D0%B8 %D0%BA%D1%83%D0%BB%D1%8C%D1%82%D1%83%D1%80%D0%BD%D0%BE-%D0%B4%D0%BE%D1%81%D1%83%D0%B3%D0%BE%D0%B2%D0%BE%D0%B9 %D0%B4%D0%B5%D1%8F%D1%82%D0%B5%D0%BB%D1%8C%D0%BD%D0%BE%D1%81%D1%82%D0%B8":MAILTO:o_dosugd@mbstver.ru
END:VEVENT
BEGIN:VEVENT
DTSTART;VALUE=DATE:20241203
DTEND;VALUE=DATE:20241224
DTSTAMP:20260420T122239
CREATED:20241202T072649Z
LAST-MODIFIED:20241202T072649Z
UID:59050-1733184000-1734998399@mbstver.ru
SUMMARY:«Каменная симфония Твери» книжная выставка-инсталляция /памяти Великого князя всея Руси Михаила Ярославича Тверского / Холл Детского зала / с 3 по 23 декабря
DESCRIPTION:
URL:https://mbstver.ru/event/kamennaya-simfoniya-tveri-knizhnaya-vystavka-installyacziya-pamyati-velikogo-knyazya-vseya-rusi-mihaila-yaroslavicha-tverskogo-holl-detskogo-zala-s-3-po-23-dekabrya/
LOCATION:Холл Детского зала\, Тверской пр-т\, д. 5\, Тверь\, Российская Федерация
CATEGORIES:Выставка-инсталляция
ORGANIZER;CN="%D0%98%D0%BD%D1%84%D0%BE%D1%80%D0%BC%D0%B0%D1%86%D0%B8%D0%BE%D0%BD%D0%BD%D0%BE-%D0%B1%D0%B8%D0%B1%D0%BB%D0%B8%D0%BE%D0%B3%D1%80%D0%B0%D1%84%D0%B8%D1%87%D0%B5%D1%81%D0%BA%D0%B8%D0%B9 %D0%BE%D1%82%D0%B4%D0%B5%D0%BB":MAILTO:ib-otd@mbstver.ru
END:VEVENT
BEGIN:VEVENT
DTSTART;VALUE=DATE:20241203
DTEND;VALUE=DATE:20241224
DTSTAMP:20260420T122239
CREATED:20241202T072750Z
LAST-MODIFIED:20241202T072750Z
UID:59052-1733184000-1734998399@mbstver.ru
SUMMARY:«Архитектурные шедевры России» выставка изображений памятных монет Банка России / Холл Детского зала / с 3 по 23 декабря
DESCRIPTION:
URL:https://mbstver.ru/event/arhitekturnye-shedevry-rossii-vystavka-izobrazhenij-pamyatnyh-monet-banka-rossii-holl-detskogo-zala-s-3-po-23-dekabrya/
LOCATION:Холл Детского зала\, Тверской пр-т\, д. 5\, Тверь\, Российская Федерация
CATEGORIES:Выставка
ORGANIZER;CN="%D0%98%D0%BD%D1%84%D0%BE%D1%80%D0%BC%D0%B0%D1%86%D0%B8%D0%BE%D0%BD%D0%BD%D0%BE-%D0%B1%D0%B8%D0%B1%D0%BB%D0%B8%D0%BE%D0%B3%D1%80%D0%B0%D1%84%D0%B8%D1%87%D0%B5%D1%81%D0%BA%D0%B8%D0%B9 %D0%BE%D1%82%D0%B4%D0%B5%D0%BB":MAILTO:ib-otd@mbstver.ru
END:VEVENT
BEGIN:VEVENT
DTSTART;TZID=Europe/Moscow:20241206T120000
DTEND;TZID=Europe/Moscow:20241206T133000
DTSTAMP:20260420T122239
CREATED:20241122T132920Z
LAST-MODIFIED:20241202T090959Z
UID:58808-1733486400-1733491800@mbstver.ru
SUMMARY:«Рассказы мои - чистая правда...» презентация творчества Сергея Гришанина\, деревенского писателя-самородка из села Кушалино / Конференц-зал
DESCRIPTION:/к Неделе краеведения — 3-9 декабря/
URL:https://mbstver.ru/event/rasskazy-moi-chistaya-pravda-prezentacziya-tvorchestva-derevenskogo-pisatelya-samorodka-iz-sela-kushalino-sergeya-grishanina-konferencz-zal/
LOCATION:Конференц-зал\, Тверской пр-т\, д. 5\, Тверь\, Российская Федерация
CATEGORIES:Встреча
ORGANIZER;CN="%D0%9E%D1%82%D0%B4%D0%B5%D0%BB %D0%B1%D0%B8%D0%B1%D0%BB%D0%B8%D0%BE%D1%82%D0%B5%D1%87%D0%BD%D0%BE%D0%B3%D0%BE %D0%BC%D0%B0%D1%80%D0%BA%D0%B5%D1%82%D0%B8%D0%BD%D0%B3%D0%B0 %D0%B8 %D0%BA%D1%83%D0%BB%D1%8C%D1%82%D1%83%D1%80%D0%BD%D0%BE-%D0%B4%D0%BE%D1%81%D1%83%D0%B3%D0%BE%D0%B2%D0%BE%D0%B9 %D0%B4%D0%B5%D1%8F%D1%82%D0%B5%D0%BB%D1%8C%D0%BD%D0%BE%D1%81%D1%82%D0%B8":MAILTO:o_dosugd@mbstver.ru
END:VEVENT
BEGIN:VEVENT
DTSTART;TZID=Europe/Moscow:20241206T130000
DTEND;TZID=Europe/Moscow:20241206T140000
DTSTAMP:20260420T122239
CREATED:20241122T131816Z
LAST-MODIFIED:20241122T131816Z
UID:58806-1733490000-1733493600@mbstver.ru
SUMMARY:«Тверские кадры российского кино» кинолекторий / Михайловский зал
DESCRIPTION:/к Неделе краеведения — 3-9 декабря/
URL:https://mbstver.ru/event/tverskie-kadry-rossijskogo-kino-kinolektorij-mihajlovskij-zal/
LOCATION:Михайловский зал\, Тверской пр-т\, д. 5\, Тверь\, Российская Федерация
CATEGORIES:Кинолекторий
ORGANIZER;CN="%D0%9E%D1%82%D0%B4%D0%B5%D0%BB %D0%BE%D0%B1%D1%81%D0%BB%D1%83%D0%B6%D0%B8%D0%B2%D0%B0%D0%BD%D0%B8%D1%8F %D0%B8 %D0%BA%D0%BD%D0%B8%D0%B3%D0%BE%D1%85%D1%80%D0%B0%D0%BD%D0%B5%D0%BD%D0%B8%D1%8F":MAILTO:otd-obsl@mbstver.ru
END:VEVENT
BEGIN:VEVENT
DTSTART;TZID=Europe/Moscow:20241206T150000
DTEND;TZID=Europe/Moscow:20241206T160000
DTSTAMP:20260420T122239
CREATED:20241122T134752Z
LAST-MODIFIED:20241122T134752Z
UID:58810-1733497200-1733500800@mbstver.ru
SUMMARY:«По страницам Золотой книги» экскурсия по выставке / Музей книги
DESCRIPTION:/к Неделе краеведения — 3-9 декабря/
URL:https://mbstver.ru/event/po-straniczam-zolotoj-knigi-ekskursiya-po-vystavke-muzej-knigi-2/
LOCATION:Музей книги\, Тверской пр-т\, д. 5\, Тверь\, Российская Федерация
CATEGORIES:Экскурсия по выставке
ORGANIZER;CN="%D0%9E%D1%82%D0%B4%D0%B5%D0%BB %D1%80%D0%B5%D0%B4%D0%BA%D0%BE%D0%B3%D0%BE %D1%84%D0%BE%D0%BD%D0%B4%D0%B0":MAILTO:orgfond-otd@mbstver.ru
END:VEVENT
BEGIN:VEVENT
DTSTART;TZID=Europe/Moscow:20241206T150000
DTEND;TZID=Europe/Moscow:20241206T160000
DTSTAMP:20260420T122239
CREATED:20241122T135305Z
LAST-MODIFIED:20241122T135305Z
UID:58812-1733497200-1733500800@mbstver.ru
SUMMARY:«Освобожденный встал Калинин...» краеведческий час с мастер-классом / Детский зал
DESCRIPTION:/к Неделе краеведения — 3-9 декабря/
URL:https://mbstver.ru/event/osvobozhdennyj-vstal-kalinin-kraevedcheskij-chas-s-master-klassom-detskij-zal/
LOCATION:Детский зал\, Тверской пр-т\, д. 5\, Тверь\, Российская Федерация
CATEGORIES:Краеведческий час,Мастер-класс
ORGANIZER;CN="%D0%9E%D1%82%D0%B4%D0%B5%D0%BB %D0%BE%D0%B1%D1%81%D0%BB%D1%83%D0%B6%D0%B8%D0%B2%D0%B0%D0%BD%D0%B8%D1%8F %D0%B4%D0%B5%D1%82%D0%B5%D0%B9":MAILTO:detsky-otd@mbstver.ru
END:VEVENT
BEGIN:VEVENT
DTSTART;TZID=Europe/Moscow:20241206T180000
DTEND;TZID=Europe/Moscow:20241206T190000
DTSTAMP:20260420T122239
CREATED:20241122T135459Z
LAST-MODIFIED:20241122T135459Z
UID:58814-1733508000-1733511600@mbstver.ru
SUMMARY:«Уроки художественного слова» лекция / Музей книги
DESCRIPTION:
URL:https://mbstver.ru/event/uroki-hudozhestvennogo-slova-lekcziya-muzej-knigi-5/
LOCATION:Музей книги\, Тверской пр-т\, д. 5\, Тверь\, Российская Федерация
CATEGORIES:Лекция
ORGANIZER;CN="%D0%9E%D1%82%D0%B4%D0%B5%D0%BB %D1%80%D0%B5%D0%B4%D0%BA%D0%BE%D0%B3%D0%BE %D1%84%D0%BE%D0%BD%D0%B4%D0%B0":MAILTO:orgfond-otd@mbstver.ru
END:VEVENT
END:VCALENDAR