BEGIN:VCALENDAR
VERSION:2.0
PRODID:-//Муниципальная библиотечная система города Твери - ECPv6.11.2.1//NONSGML v1.0//EN
CALSCALE:GREGORIAN
METHOD:PUBLISH
X-WR-CALNAME:Муниципальная библиотечная система города Твери
X-ORIGINAL-URL:https://mbstver.ru
X-WR-CALDESC:Мероприятия для Муниципальная библиотечная система города Твери
REFRESH-INTERVAL;VALUE=DURATION:PT1H
X-Robots-Tag:noindex
X-PUBLISHED-TTL:PT1H
BEGIN:VTIMEZONE
TZID:Europe/Moscow
BEGIN:STANDARD
TZOFFSETFROM:+0300
TZOFFSETTO:+0300
TZNAME:MSK
DTSTART:20240101T000000
END:STANDARD
END:VTIMEZONE
BEGIN:VEVENT
DTSTART;VALUE=DATE:20241203
DTEND;VALUE=DATE:20241224
DTSTAMP:20260421T182308
CREATED:20241202T072649Z
LAST-MODIFIED:20241202T072649Z
UID:59050-1733184000-1734998399@mbstver.ru
SUMMARY:«Каменная симфония Твери» книжная выставка-инсталляция /памяти Великого князя всея Руси Михаила Ярославича Тверского / Холл Детского зала / с 3 по 23 декабря
DESCRIPTION:
URL:https://mbstver.ru/event/kamennaya-simfoniya-tveri-knizhnaya-vystavka-installyacziya-pamyati-velikogo-knyazya-vseya-rusi-mihaila-yaroslavicha-tverskogo-holl-detskogo-zala-s-3-po-23-dekabrya/
LOCATION:Холл Детского зала\, Тверской пр-т\, д. 5\, Тверь\, Российская Федерация
CATEGORIES:Выставка-инсталляция
ORGANIZER;CN="%D0%98%D0%BD%D1%84%D0%BE%D1%80%D0%BC%D0%B0%D1%86%D0%B8%D0%BE%D0%BD%D0%BD%D0%BE-%D0%B1%D0%B8%D0%B1%D0%BB%D0%B8%D0%BE%D0%B3%D1%80%D0%B0%D1%84%D0%B8%D1%87%D0%B5%D1%81%D0%BA%D0%B8%D0%B9 %D0%BE%D1%82%D0%B4%D0%B5%D0%BB":MAILTO:ib-otd@mbstver.ru
END:VEVENT
BEGIN:VEVENT
DTSTART;VALUE=DATE:20241203
DTEND;VALUE=DATE:20241224
DTSTAMP:20260421T182308
CREATED:20241202T072750Z
LAST-MODIFIED:20241202T072750Z
UID:59052-1733184000-1734998399@mbstver.ru
SUMMARY:«Архитектурные шедевры России» выставка изображений памятных монет Банка России / Холл Детского зала / с 3 по 23 декабря
DESCRIPTION:
URL:https://mbstver.ru/event/arhitekturnye-shedevry-rossii-vystavka-izobrazhenij-pamyatnyh-monet-banka-rossii-holl-detskogo-zala-s-3-po-23-dekabrya/
LOCATION:Холл Детского зала\, Тверской пр-т\, д. 5\, Тверь\, Российская Федерация
CATEGORIES:Выставка
ORGANIZER;CN="%D0%98%D0%BD%D1%84%D0%BE%D1%80%D0%BC%D0%B0%D1%86%D0%B8%D0%BE%D0%BD%D0%BD%D0%BE-%D0%B1%D0%B8%D0%B1%D0%BB%D0%B8%D0%BE%D0%B3%D1%80%D0%B0%D1%84%D0%B8%D1%87%D0%B5%D1%81%D0%BA%D0%B8%D0%B9 %D0%BE%D1%82%D0%B4%D0%B5%D0%BB":MAILTO:ib-otd@mbstver.ru
END:VEVENT
BEGIN:VEVENT
DTSTART;VALUE=DATE:20241212
DTEND;VALUE=DATE:20250114
DTSTAMP:20260421T182308
CREATED:20241125T140409Z
LAST-MODIFIED:20241125T140409Z
UID:58911-1733961600-1736812799@mbstver.ru
SUMMARY:«Взгляд на мир моими руками» выставка вышитых работ Марины Гуттиной / Выставочный зал / с 12 декабря по 13 января
DESCRIPTION:
URL:https://mbstver.ru/event/vzglyad-na-mir-moimi-rukami-vystavka-vyshityh-rabot-mariny-guttinoj-vystavochnyj-zal-s-12-dekabrya-po-13-yanvarya/
LOCATION:Выставочный зал\, Тверской пр-т\, д. 5\, Тверь\, Российская Федерация
CATEGORIES:Выставка
ORGANIZER;CN="%D0%9E%D1%82%D0%B4%D0%B5%D0%BB %D0%B1%D0%B8%D0%B1%D0%BB%D0%B8%D0%BE%D1%82%D0%B5%D1%87%D0%BD%D0%BE%D0%B3%D0%BE %D0%BC%D0%B0%D1%80%D0%BA%D0%B5%D1%82%D0%B8%D0%BD%D0%B3%D0%B0 %D0%B8 %D0%BA%D1%83%D0%BB%D1%8C%D1%82%D1%83%D1%80%D0%BD%D0%BE-%D0%B4%D0%BE%D1%81%D1%83%D0%B3%D0%BE%D0%B2%D0%BE%D0%B9 %D0%B4%D0%B5%D1%8F%D1%82%D0%B5%D0%BB%D1%8C%D0%BD%D0%BE%D1%81%D1%82%D0%B8":MAILTO:o_dosugd@mbstver.ru
END:VEVENT
BEGIN:VEVENT
DTSTART;TZID=Europe/Moscow:20241221T120000
DTEND;TZID=Europe/Moscow:20241221T130000
DTSTAMP:20260421T182308
CREATED:20241125T133723Z
LAST-MODIFIED:20241125T133723Z
UID:58885-1734782400-1734786000@mbstver.ru
SUMMARY:«Легкие пушинки\, белые снежинки» мастер-класс / Детский зал
DESCRIPTION:
URL:https://mbstver.ru/event/legkie-pushinki-belye-snezhinki-master-klass-detskij-zal/
LOCATION:Детский зал\, Тверской пр-т\, д. 5\, Тверь\, Российская Федерация
CATEGORIES:Мастер-класс
ORGANIZER;CN="%D0%9E%D1%82%D0%B4%D0%B5%D0%BB %D0%BE%D0%B1%D1%81%D0%BB%D1%83%D0%B6%D0%B8%D0%B2%D0%B0%D0%BD%D0%B8%D1%8F %D0%B4%D0%B5%D1%82%D0%B5%D0%B9":MAILTO:detsky-otd@mbstver.ru
END:VEVENT
BEGIN:VEVENT
DTSTART;TZID=Europe/Moscow:20241221T120000
DTEND;TZID=Europe/Moscow:20241221T130000
DTSTAMP:20260421T182308
CREATED:20241202T084123Z
LAST-MODIFIED:20241202T084123Z
UID:59069-1734782400-1734786000@mbstver.ru
SUMMARY:«Новогодние снежинки» мастер-класс / Библиотека семейного чтения на Горбатке
DESCRIPTION:
URL:https://mbstver.ru/event/novogodnie-snezhinki-master-klass-biblioteka-semejnogo-chteniya-na-gorbatke/
LOCATION:Библиотека семейного чтения на Горбатке\, Петербургское ш.\, д. 69\, Тверь\, Российская Федерация
CATEGORIES:Мастер-класс
ORGANIZER;CN="%D0%91%D0%B8%D0%B1%D0%BB%D0%B8%D0%BE%D1%82%D0%B5%D0%BA%D0%B0 %D1%81%D0%B5%D0%BC%D0%B5%D0%B9%D0%BD%D0%BE%D0%B3%D0%BE %D1%87%D1%82%D0%B5%D0%BD%D0%B8%D1%8F %D0%BD%D0%B0 %D0%93%D0%BE%D1%80%D0%B1%D0%B0%D1%82%D0%BA%D0%B5":MAILTO:mbsfil12@yandex.ru
END:VEVENT
BEGIN:VEVENT
DTSTART;TZID=Europe/Moscow:20241221T133000
DTEND;TZID=Europe/Moscow:20241221T143000
DTSTAMP:20260421T182308
CREATED:20241202T084228Z
LAST-MODIFIED:20241202T084228Z
UID:59071-1734787800-1734791400@mbstver.ru
SUMMARY:«История новогоднего шарика» познавательный час / Детская библиотека им. Виталия Бианки
DESCRIPTION:
URL:https://mbstver.ru/event/istoriya-novogodnego-sharika-poznavatelnyj-chas-detskaya-biblioteka-im-vitaliya-bianki/
LOCATION:Детская библиотека им. Виталия Бианки\, ул. Богданова\, д. 22\, корп. 1\, Тверь\, Российская Федерация
CATEGORIES:Познавательный час
ORGANIZER;CN="%D0%94%D0%B5%D1%82%D1%81%D0%BA%D0%B0%D1%8F %D0%B1%D0%B8%D0%B1%D0%BB%D0%B8%D0%BE%D1%82%D0%B5%D0%BA%D0%B0 %D0%B8%D0%BC. %D0%92%D0%B8%D1%82%D0%B0%D0%BB%D0%B8%D1%8F %D0%91%D0%B8%D0%B0%D0%BD%D0%BA%D0%B8":MAILTO:library_f29@mbstver.ru
END:VEVENT
BEGIN:VEVENT
DTSTART;TZID=Europe/Moscow:20241221T140000
DTEND;TZID=Europe/Moscow:20241221T150000
DTSTAMP:20260421T182308
CREATED:20241125T133848Z
LAST-MODIFIED:20241220T134051Z
UID:58887-1734789600-1734793200@mbstver.ru
SUMMARY:«У меня есть песня!» юбилейный концерт Людмилы Кондрашовой / Конференц-зал
DESCRIPTION:
URL:https://mbstver.ru/event/solnyj-konczert-avtora-ispolnitelya-lyudmily-kondrashovoj-konferencz-zal/
LOCATION:Конференц-зал\, Тверской пр-т\, д. 5\, Тверь\, Российская Федерация
CATEGORIES:Концерт
ORGANIZER;CN="%D0%9E%D1%82%D0%B4%D0%B5%D0%BB %D0%B1%D0%B8%D0%B1%D0%BB%D0%B8%D0%BE%D1%82%D0%B5%D1%87%D0%BD%D0%BE%D0%B3%D0%BE %D0%BC%D0%B0%D1%80%D0%BA%D0%B5%D1%82%D0%B8%D0%BD%D0%B3%D0%B0 %D0%B8 %D0%BA%D1%83%D0%BB%D1%8C%D1%82%D1%83%D1%80%D0%BD%D0%BE-%D0%B4%D0%BE%D1%81%D1%83%D0%B3%D0%BE%D0%B2%D0%BE%D0%B9 %D0%B4%D0%B5%D1%8F%D1%82%D0%B5%D0%BB%D1%8C%D0%BD%D0%BE%D1%81%D1%82%D0%B8":MAILTO:o_dosugd@mbstver.ru
END:VEVENT
BEGIN:VEVENT
DTSTART;TZID=Europe/Moscow:20241221T140000
DTEND;TZID=Europe/Moscow:20241221T150000
DTSTAMP:20260421T182308
CREATED:20241202T084339Z
LAST-MODIFIED:20241202T084339Z
UID:59073-1734789600-1734793200@mbstver.ru
SUMMARY:«Читающие родители - читающие дети» праздник семейного чтения / Библиотека семейного чтения им. Б.Н. Полевого
DESCRIPTION:
URL:https://mbstver.ru/event/chitayushhie-roditeli-chitayushhie-deti-prazdnik-semejnogo-chteniya-biblioteka-semejnogo-chteniya-im-b-n-polevogo/
LOCATION:Библиотека семейного чтения им. Б.Н. Полевого\, Пролетарская наб.\, д. 5\, Тверь\, Российская Федерация
CATEGORIES:Праздник
ORGANIZER;CN="%D0%91%D0%B8%D0%B1%D0%BB%D0%B8%D0%BE%D1%82%D0%B5%D0%BA%D0%B0 %D1%81%D0%B5%D0%BC%D0%B5%D0%B9%D0%BD%D0%BE%D0%B3%D0%BE %D1%87%D1%82%D0%B5%D0%BD%D0%B8%D1%8F %D0%B8%D0%BC. %D0%91.%D0%9D. %D0%9F%D0%BE%D0%BB%D0%B5%D0%B2%D0%BE%D0%B3%D0%BE":MAILTO:library_f21@mbstver.ru
END:VEVENT
END:VCALENDAR