BEGIN:VCALENDAR
VERSION:2.0
PRODID:-//Муниципальная библиотечная система города Твери - ECPv6.11.2.1//NONSGML v1.0//EN
CALSCALE:GREGORIAN
METHOD:PUBLISH
X-WR-CALNAME:Муниципальная библиотечная система города Твери
X-ORIGINAL-URL:https://mbstver.ru
X-WR-CALDESC:Мероприятия для Муниципальная библиотечная система города Твери
REFRESH-INTERVAL;VALUE=DURATION:PT1H
X-Robots-Tag:noindex
X-PUBLISHED-TTL:PT1H
BEGIN:VTIMEZONE
TZID:Europe/Moscow
BEGIN:STANDARD
TZOFFSETFROM:+0300
TZOFFSETTO:+0300
TZNAME:MSK
DTSTART:20240101T000000
END:STANDARD
END:VTIMEZONE
BEGIN:VEVENT
DTSTART;VALUE=DATE:20241203
DTEND;VALUE=DATE:20241224
DTSTAMP:20260421T202253
CREATED:20241202T072649Z
LAST-MODIFIED:20241202T072649Z
UID:59050-1733184000-1734998399@mbstver.ru
SUMMARY:«Каменная симфония Твери» книжная выставка-инсталляция /памяти Великого князя всея Руси Михаила Ярославича Тверского / Холл Детского зала / с 3 по 23 декабря
DESCRIPTION:
URL:https://mbstver.ru/event/kamennaya-simfoniya-tveri-knizhnaya-vystavka-installyacziya-pamyati-velikogo-knyazya-vseya-rusi-mihaila-yaroslavicha-tverskogo-holl-detskogo-zala-s-3-po-23-dekabrya/
LOCATION:Холл Детского зала\, Тверской пр-т\, д. 5\, Тверь\, Российская Федерация
CATEGORIES:Выставка-инсталляция
ORGANIZER;CN="%D0%98%D0%BD%D1%84%D0%BE%D1%80%D0%BC%D0%B0%D1%86%D0%B8%D0%BE%D0%BD%D0%BD%D0%BE-%D0%B1%D0%B8%D0%B1%D0%BB%D0%B8%D0%BE%D0%B3%D1%80%D0%B0%D1%84%D0%B8%D1%87%D0%B5%D1%81%D0%BA%D0%B8%D0%B9 %D0%BE%D1%82%D0%B4%D0%B5%D0%BB":MAILTO:ib-otd@mbstver.ru
END:VEVENT
BEGIN:VEVENT
DTSTART;VALUE=DATE:20241203
DTEND;VALUE=DATE:20241224
DTSTAMP:20260421T202253
CREATED:20241202T072750Z
LAST-MODIFIED:20241202T072750Z
UID:59052-1733184000-1734998399@mbstver.ru
SUMMARY:«Архитектурные шедевры России» выставка изображений памятных монет Банка России / Холл Детского зала / с 3 по 23 декабря
DESCRIPTION:
URL:https://mbstver.ru/event/arhitekturnye-shedevry-rossii-vystavka-izobrazhenij-pamyatnyh-monet-banka-rossii-holl-detskogo-zala-s-3-po-23-dekabrya/
LOCATION:Холл Детского зала\, Тверской пр-т\, д. 5\, Тверь\, Российская Федерация
CATEGORIES:Выставка
ORGANIZER;CN="%D0%98%D0%BD%D1%84%D0%BE%D1%80%D0%BC%D0%B0%D1%86%D0%B8%D0%BE%D0%BD%D0%BD%D0%BE-%D0%B1%D0%B8%D0%B1%D0%BB%D0%B8%D0%BE%D0%B3%D1%80%D0%B0%D1%84%D0%B8%D1%87%D0%B5%D1%81%D0%BA%D0%B8%D0%B9 %D0%BE%D1%82%D0%B4%D0%B5%D0%BB":MAILTO:ib-otd@mbstver.ru
END:VEVENT
BEGIN:VEVENT
DTSTART;VALUE=DATE:20241212
DTEND;VALUE=DATE:20250114
DTSTAMP:20260421T202253
CREATED:20241125T140409Z
LAST-MODIFIED:20241125T140409Z
UID:58911-1733961600-1736812799@mbstver.ru
SUMMARY:«Взгляд на мир моими руками» выставка вышитых работ Марины Гуттиной / Выставочный зал / с 12 декабря по 13 января
DESCRIPTION:
URL:https://mbstver.ru/event/vzglyad-na-mir-moimi-rukami-vystavka-vyshityh-rabot-mariny-guttinoj-vystavochnyj-zal-s-12-dekabrya-po-13-yanvarya/
LOCATION:Выставочный зал\, Тверской пр-т\, д. 5\, Тверь\, Российская Федерация
CATEGORIES:Выставка
ORGANIZER;CN="%D0%9E%D1%82%D0%B4%D0%B5%D0%BB %D0%B1%D0%B8%D0%B1%D0%BB%D0%B8%D0%BE%D1%82%D0%B5%D1%87%D0%BD%D0%BE%D0%B3%D0%BE %D0%BC%D0%B0%D1%80%D0%BA%D0%B5%D1%82%D0%B8%D0%BD%D0%B3%D0%B0 %D0%B8 %D0%BA%D1%83%D0%BB%D1%8C%D1%82%D1%83%D1%80%D0%BD%D0%BE-%D0%B4%D0%BE%D1%81%D1%83%D0%B3%D0%BE%D0%B2%D0%BE%D0%B9 %D0%B4%D0%B5%D1%8F%D1%82%D0%B5%D0%BB%D1%8C%D0%BD%D0%BE%D1%81%D1%82%D0%B8":MAILTO:o_dosugd@mbstver.ru
END:VEVENT
BEGIN:VEVENT
DTSTART;VALUE=DATE:20241222
DTEND;VALUE=DATE:20250131
DTSTAMP:20260421T202253
CREATED:20250120T113936Z
LAST-MODIFIED:20250120T113936Z
UID:60178-1734825600-1738281599@mbstver.ru
SUMMARY:«Красота на кончике кисти» выставка картин тверских художников Анны Гренковой\, Елизаветы Денисовой и Анатолия Вдовенко / Библиотека семейного чтения им. П.А. Кропоткина / с 22 декабря по 30 января
DESCRIPTION:
URL:https://mbstver.ru/event/krasota-na-konchike-kisti-vystavka-kartin-tverskih-hudozhnikov-anny-grenkovoj-elizavety-denisovoj-i-anatoliya-vdovenko-biblioteka-semejnogo-chteniya-im-p-a-kropotkina-s-22-dekabrya/
LOCATION:Библиотека семейного чтения им. П.А. Кропоткина\, ул. Фурманова\, д. 1\, корп. А\, Тверь\, Российская Федерация
CATEGORIES:Выставка живописи
ORGANIZER;CN="%D0%91%D0%B8%D0%B1%D0%BB%D0%B8%D0%BE%D1%82%D0%B5%D0%BA%D0%B0 %D1%81%D0%B5%D0%BC%D0%B5%D0%B9%D0%BD%D0%BE%D0%B3%D0%BE %D1%87%D1%82%D0%B5%D0%BD%D0%B8%D1%8F %D0%B8%D0%BC. %D0%9F.%D0%90. %D0%9A%D1%80%D0%BE%D0%BF%D0%BE%D1%82%D0%BA%D0%B8%D0%BD%D0%B0":MAILTO:f1tver@yandex.ru; library_f1@mbstver.ru
END:VEVENT
BEGIN:VEVENT
DTSTART;TZID=Europe/Moscow:20241222T120000
DTEND;TZID=Europe/Moscow:20241222T130000
DTSTAMP:20260421T202253
CREATED:20241125T134119Z
LAST-MODIFIED:20241125T134119Z
UID:58889-1734868800-1734872400@mbstver.ru
SUMMARY:«Новогодний сюрприз» мастер-класс по изготовлению праздничной открытки / Детский зал
DESCRIPTION:
URL:https://mbstver.ru/event/novogodnij-syurpriz-master-klass-po-izgotovleniyu-prazdnichnoj-otkrytki-detskij-zal/
LOCATION:Детский зал\, Тверской пр-т\, д. 5\, Тверь\, Российская Федерация
CATEGORIES:Мастер-класс
ORGANIZER;CN="%D0%9E%D1%82%D0%B4%D0%B5%D0%BB %D0%BE%D0%B1%D1%81%D0%BB%D1%83%D0%B6%D0%B8%D0%B2%D0%B0%D0%BD%D0%B8%D1%8F %D0%B4%D0%B5%D1%82%D0%B5%D0%B9":MAILTO:detsky-otd@mbstver.ru
END:VEVENT
BEGIN:VEVENT
DTSTART;TZID=Europe/Moscow:20241222T130000
DTEND;TZID=Europe/Moscow:20241222T143000
DTSTAMP:20260421T202253
CREATED:20241125T134755Z
LAST-MODIFIED:20241202T070339Z
UID:58893-1734872400-1734877800@mbstver.ru
SUMMARY:«Вечер юмора» театрализованная читка в любительском театре «Золотое руно» / Конференц-зал
DESCRIPTION:
URL:https://mbstver.ru/event/vecher-yumora-teatralizovannaya-chitka-v-lyubitelskom-teatre-zolotoe-runo-konferencz-zal/
LOCATION:Конференц-зал\, Тверской пр-т\, д. 5\, Тверь\, Российская Федерация
CATEGORIES:Театрализованная читка
ORGANIZER;CN="%D0%9E%D1%82%D0%B4%D0%B5%D0%BB %D0%B1%D0%B8%D0%B1%D0%BB%D0%B8%D0%BE%D1%82%D0%B5%D1%87%D0%BD%D0%BE%D0%B3%D0%BE %D0%BC%D0%B0%D1%80%D0%BA%D0%B5%D1%82%D0%B8%D0%BD%D0%B3%D0%B0 %D0%B8 %D0%BA%D1%83%D0%BB%D1%8C%D1%82%D1%83%D1%80%D0%BD%D0%BE-%D0%B4%D0%BE%D1%81%D1%83%D0%B3%D0%BE%D0%B2%D0%BE%D0%B9 %D0%B4%D0%B5%D1%8F%D1%82%D0%B5%D0%BB%D1%8C%D0%BD%D0%BE%D1%81%D1%82%D0%B8":MAILTO:o_dosugd@mbstver.ru
END:VEVENT
BEGIN:VEVENT
DTSTART;TZID=Europe/Moscow:20241222T133000
DTEND;TZID=Europe/Moscow:20241222T143000
DTSTAMP:20260421T202253
CREATED:20241202T084530Z
LAST-MODIFIED:20241202T084530Z
UID:59075-1734874200-1734877800@mbstver.ru
SUMMARY:«Загадочная конфета» мастер-класс / Детская библиотека им. Виталия Бианки
DESCRIPTION:
URL:https://mbstver.ru/event/zagadochnaya-konfeta-master-klass-detskaya-biblioteka-im-vitaliya-bianki/
LOCATION:Детская библиотека им. Виталия Бианки\, ул. Богданова\, д. 22\, корп. 1\, Тверь\, Российская Федерация
CATEGORIES:Мастер-класс
ORGANIZER;CN="%D0%94%D0%B5%D1%82%D1%81%D0%BA%D0%B0%D1%8F %D0%B1%D0%B8%D0%B1%D0%BB%D0%B8%D0%BE%D1%82%D0%B5%D0%BA%D0%B0 %D0%B8%D0%BC. %D0%92%D0%B8%D1%82%D0%B0%D0%BB%D0%B8%D1%8F %D0%91%D0%B8%D0%B0%D0%BD%D0%BA%D0%B8":MAILTO:library_f29@mbstver.ru
END:VEVENT
BEGIN:VEVENT
DTSTART;TZID=Europe/Moscow:20241222T140000
DTEND;TZID=Europe/Moscow:20241222T150000
DTSTAMP:20260421T202253
CREATED:20241125T134348Z
LAST-MODIFIED:20241202T081859Z
UID:58891-1734876000-1734879600@mbstver.ru
SUMMARY:«Новогодняя звездочка из бумаги» мастер-класс / Музей книги
DESCRIPTION:
URL:https://mbstver.ru/event/novogodnyaya-zvezdochka-iz-bumagi-master-klass-detskij-zal/
LOCATION:Музей книги\, Тверской пр-т\, д. 5\, Тверь\, Российская Федерация
CATEGORIES:Мастер-класс
ORGANIZER;CN="%D0%9E%D1%82%D0%B4%D0%B5%D0%BB %D1%80%D0%B5%D0%B4%D0%BA%D0%BE%D0%B3%D0%BE %D1%84%D0%BE%D0%BD%D0%B4%D0%B0":MAILTO:orgfond-otd@mbstver.ru
END:VEVENT
BEGIN:VEVENT
DTSTART;TZID=Europe/Moscow:20241222T160000
DTEND;TZID=Europe/Moscow:20241222T170000
DTSTAMP:20260421T202253
CREATED:20241212T133234Z
LAST-MODIFIED:20241212T133234Z
UID:59298-1734883200-1734886800@mbstver.ru
SUMMARY:«Музыкальный снегопад» новогодний концерт  литературно-музыкального объединения «Странник» / Конференц-зал
DESCRIPTION:
URL:https://mbstver.ru/event/muzykalnyj-snegopad-novogodnij-konczert-literaturno-muzykalnogo-obedineniya-strannik-konferencz-zal/
LOCATION:Конференц-зал\, Тверской пр-т\, д. 5\, Тверь\, Российская Федерация
CATEGORIES:Концерт
ORGANIZER;CN="%D0%9E%D1%82%D0%B4%D0%B5%D0%BB %D0%B1%D0%B8%D0%B1%D0%BB%D0%B8%D0%BE%D1%82%D0%B5%D1%87%D0%BD%D0%BE%D0%B3%D0%BE %D0%BC%D0%B0%D1%80%D0%BA%D0%B5%D1%82%D0%B8%D0%BD%D0%B3%D0%B0 %D0%B8 %D0%BA%D1%83%D0%BB%D1%8C%D1%82%D1%83%D1%80%D0%BD%D0%BE-%D0%B4%D0%BE%D1%81%D1%83%D0%B3%D0%BE%D0%B2%D0%BE%D0%B9 %D0%B4%D0%B5%D1%8F%D1%82%D0%B5%D0%BB%D1%8C%D0%BD%D0%BE%D1%81%D1%82%D0%B8":MAILTO:o_dosugd@mbstver.ru
END:VEVENT
END:VCALENDAR