BEGIN:VCALENDAR
VERSION:2.0
PRODID:-//Муниципальная библиотечная система города Твери - ECPv6.11.2.1//NONSGML v1.0//EN
CALSCALE:GREGORIAN
METHOD:PUBLISH
X-WR-CALNAME:Муниципальная библиотечная система города Твери
X-ORIGINAL-URL:https://mbstver.ru
X-WR-CALDESC:Мероприятия для Муниципальная библиотечная система города Твери
REFRESH-INTERVAL;VALUE=DURATION:PT1H
X-Robots-Tag:noindex
X-PUBLISHED-TTL:PT1H
BEGIN:VTIMEZONE
TZID:Europe/Moscow
BEGIN:STANDARD
TZOFFSETFROM:+0300
TZOFFSETTO:+0300
TZNAME:MSK
DTSTART:20240101T000000
END:STANDARD
END:VTIMEZONE
BEGIN:VEVENT
DTSTART;VALUE=DATE:20241212
DTEND;VALUE=DATE:20250114
DTSTAMP:20260422T081345
CREATED:20241125T140409Z
LAST-MODIFIED:20241125T140409Z
UID:58911-1733961600-1736812799@mbstver.ru
SUMMARY:«Взгляд на мир моими руками» выставка вышитых работ Марины Гуттиной / Выставочный зал / с 12 декабря по 13 января
DESCRIPTION:
URL:https://mbstver.ru/event/vzglyad-na-mir-moimi-rukami-vystavka-vyshityh-rabot-mariny-guttinoj-vystavochnyj-zal-s-12-dekabrya-po-13-yanvarya/
LOCATION:Выставочный зал\, Тверской пр-т\, д. 5\, Тверь\, Российская Федерация
CATEGORIES:Выставка
ORGANIZER;CN="%D0%9E%D1%82%D0%B4%D0%B5%D0%BB %D0%B1%D0%B8%D0%B1%D0%BB%D0%B8%D0%BE%D1%82%D0%B5%D1%87%D0%BD%D0%BE%D0%B3%D0%BE %D0%BC%D0%B0%D1%80%D0%BA%D0%B5%D1%82%D0%B8%D0%BD%D0%B3%D0%B0 %D0%B8 %D0%BA%D1%83%D0%BB%D1%8C%D1%82%D1%83%D1%80%D0%BD%D0%BE-%D0%B4%D0%BE%D1%81%D1%83%D0%B3%D0%BE%D0%B2%D0%BE%D0%B9 %D0%B4%D0%B5%D1%8F%D1%82%D0%B5%D0%BB%D1%8C%D0%BD%D0%BE%D1%81%D1%82%D0%B8":MAILTO:o_dosugd@mbstver.ru
END:VEVENT
BEGIN:VEVENT
DTSTART;VALUE=DATE:20241222
DTEND;VALUE=DATE:20250131
DTSTAMP:20260422T081345
CREATED:20250120T113936Z
LAST-MODIFIED:20250120T113936Z
UID:60178-1734825600-1738281599@mbstver.ru
SUMMARY:«Красота на кончике кисти» выставка картин тверских художников Анны Гренковой\, Елизаветы Денисовой и Анатолия Вдовенко / Библиотека семейного чтения им. П.А. Кропоткина / с 22 декабря по 30 января
DESCRIPTION:
URL:https://mbstver.ru/event/krasota-na-konchike-kisti-vystavka-kartin-tverskih-hudozhnikov-anny-grenkovoj-elizavety-denisovoj-i-anatoliya-vdovenko-biblioteka-semejnogo-chteniya-im-p-a-kropotkina-s-22-dekabrya/
LOCATION:Библиотека семейного чтения им. П.А. Кропоткина\, ул. Фурманова\, д. 1\, корп. А\, Тверь\, Российская Федерация
CATEGORIES:Выставка живописи
ORGANIZER;CN="%D0%91%D0%B8%D0%B1%D0%BB%D0%B8%D0%BE%D1%82%D0%B5%D0%BA%D0%B0 %D1%81%D0%B5%D0%BC%D0%B5%D0%B9%D0%BD%D0%BE%D0%B3%D0%BE %D1%87%D1%82%D0%B5%D0%BD%D0%B8%D1%8F %D0%B8%D0%BC. %D0%9F.%D0%90. %D0%9A%D1%80%D0%BE%D0%BF%D0%BE%D1%82%D0%BA%D0%B8%D0%BD%D0%B0":MAILTO:f1tver@yandex.ru; library_f1@mbstver.ru
END:VEVENT
BEGIN:VEVENT
DTSTART;VALUE=DATE:20241225
DTEND;VALUE=DATE:20250117
DTSTAMP:20260422T081345
CREATED:20241223T122137Z
LAST-MODIFIED:20250105T100130Z
UID:59705-1735084800-1737071999@mbstver.ru
SUMMARY:«В волшебном мире новогодних историй» выставка рукоделия / Холл Детского зала / с 25 декабря по 16 января
DESCRIPTION:
URL:https://mbstver.ru/event/v-volshebnom-mire-novogodnih-istorij-vystavka-rukodeliya-holl-detskogo-zala-s-25-dekabrya-po-16-yanvarya/
LOCATION:Холл Детского зала\, Тверской пр-т\, д. 5\, Тверь\, Российская Федерация
CATEGORIES:Выставка
ORGANIZER;CN="%D0%9E%D1%82%D0%B4%D0%B5%D0%BB %D0%BE%D0%B1%D1%81%D0%BB%D1%83%D0%B6%D0%B8%D0%B2%D0%B0%D0%BD%D0%B8%D1%8F %D0%B8 %D0%BA%D0%BD%D0%B8%D0%B3%D0%BE%D1%85%D1%80%D0%B0%D0%BD%D0%B5%D0%BD%D0%B8%D1%8F":MAILTO:otd-obsl@mbstver.ru
END:VEVENT
BEGIN:VEVENT
DTSTART;TZID=Europe/Moscow:20241228T120000
DTEND;TZID=Europe/Moscow:20241228T130000
DTSTAMP:20260422T081345
CREATED:20241125T135702Z
LAST-MODIFIED:20241125T135702Z
UID:58903-1735387200-1735390800@mbstver.ru
SUMMARY:«Поясок живучий\, голосок шипучий» мастер-класс по изготовлению новогодней открытки с символом года / Детский зал
DESCRIPTION:
URL:https://mbstver.ru/event/poyasok-zhivuchij-golosok-shipuchij-master-klass-po-izgotovleniyu-novogodnej-otkrytki-s-simvolom-goda-detskij-zal/
LOCATION:Детский зал\, Тверской пр-т\, д. 5\, Тверь\, Российская Федерация
CATEGORIES:Мастер-класс
ORGANIZER;CN="%D0%9E%D1%82%D0%B4%D0%B5%D0%BB %D0%BE%D0%B1%D1%81%D0%BB%D1%83%D0%B6%D0%B8%D0%B2%D0%B0%D0%BD%D0%B8%D1%8F %D0%B4%D0%B5%D1%82%D0%B5%D0%B9":MAILTO:detsky-otd@mbstver.ru
END:VEVENT
BEGIN:VEVENT
DTSTART;TZID=Europe/Moscow:20241228T133000
DTEND;TZID=Europe/Moscow:20241228T143000
DTSTAMP:20260422T081345
CREATED:20241202T084958Z
LAST-MODIFIED:20241202T084958Z
UID:59081-1735392600-1735396200@mbstver.ru
SUMMARY:«Как встречают Новый год люди всех земных широт» познавательный час / Детская библиотека им. Виталия Бианки
DESCRIPTION:
URL:https://mbstver.ru/event/kak-vstrechayut-novyj-god-lyudi-vseh-zemnyh-shirot-poznavatelnyj-chas-detskaya-biblioteka-im-vitaliya-bianki/
LOCATION:Детская библиотека им. Виталия Бианки\, ул. Богданова\, д. 22\, корп. 1\, Тверь\, Российская Федерация
CATEGORIES:Познавательный час
ORGANIZER;CN="%D0%94%D0%B5%D1%82%D1%81%D0%BA%D0%B0%D1%8F %D0%B1%D0%B8%D0%B1%D0%BB%D0%B8%D0%BE%D1%82%D0%B5%D0%BA%D0%B0 %D0%B8%D0%BC. %D0%92%D0%B8%D1%82%D0%B0%D0%BB%D0%B8%D1%8F %D0%91%D0%B8%D0%B0%D0%BD%D0%BA%D0%B8":MAILTO:library_f29@mbstver.ru
END:VEVENT
BEGIN:VEVENT
DTSTART;TZID=Europe/Moscow:20241228T140000
DTEND;TZID=Europe/Moscow:20241228T150000
DTSTAMP:20260422T081345
CREATED:20241125T135750Z
LAST-MODIFIED:20241125T135750Z
UID:58905-1735394400-1735398000@mbstver.ru
SUMMARY:«Новогодняя звездочка из бумаги» мастер-класс / Музей книги
DESCRIPTION:
URL:https://mbstver.ru/event/novogodnyaya-zvezdochka-iz-bumagi-master-klass-muzej-knigi/
LOCATION:Музей книги\, Тверской пр-т\, д. 5\, Тверь\, Российская Федерация
CATEGORIES:Мастер-класс
ORGANIZER;CN="%D0%9E%D1%82%D0%B4%D0%B5%D0%BB %D1%80%D0%B5%D0%B4%D0%BA%D0%BE%D0%B3%D0%BE %D1%84%D0%BE%D0%BD%D0%B4%D0%B0":MAILTO:orgfond-otd@mbstver.ru
END:VEVENT
BEGIN:VEVENT
DTSTART;TZID=Europe/Moscow:20241228T160000
DTEND;TZID=Europe/Moscow:20241228T180000
DTSTAMP:20260422T081345
CREATED:20241125T140026Z
LAST-MODIFIED:20241125T140026Z
UID:58907-1735401600-1735408800@mbstver.ru
SUMMARY:«Замок к Рождеству» кинолекторий в клубе «Диалог» / Конференц-зал
DESCRIPTION:/реж. Мэри Ламберт\, США\, Великобритания\, Шотландия\, 2021 г./
URL:https://mbstver.ru/event/zamok-k-rozhdestvu-kinolektorij-v-klube-dialog-konferencz-zal/
LOCATION:Конференц-зал\, Тверской пр-т\, д. 5\, Тверь\, Российская Федерация
CATEGORIES:Кинолекторий
ORGANIZER;CN="%D0%9E%D1%82%D0%B4%D0%B5%D0%BB %D0%B1%D0%B8%D0%B1%D0%BB%D0%B8%D0%BE%D1%82%D0%B5%D1%87%D0%BD%D0%BE%D0%B3%D0%BE %D0%BC%D0%B0%D1%80%D0%BA%D0%B5%D1%82%D0%B8%D0%BD%D0%B3%D0%B0 %D0%B8 %D0%BA%D1%83%D0%BB%D1%8C%D1%82%D1%83%D1%80%D0%BD%D0%BE-%D0%B4%D0%BE%D1%81%D1%83%D0%B3%D0%BE%D0%B2%D0%BE%D0%B9 %D0%B4%D0%B5%D1%8F%D1%82%D0%B5%D0%BB%D1%8C%D0%BD%D0%BE%D1%81%D1%82%D0%B8":MAILTO:o_dosugd@mbstver.ru
END:VEVENT
BEGIN:VEVENT
DTSTART;TZID=Europe/Moscow:20241228T170000
DTEND;TZID=Europe/Moscow:20241228T180000
DTSTAMP:20260422T081345
CREATED:20241125T140235Z
LAST-MODIFIED:20241229T101242Z
UID:58909-1735405200-1735408800@mbstver.ru
SUMMARY:«АнтиФормат: лекция по фильму «Чародеи» и произведению братьев Стругацких «Понедельник начинается в субботу» / Музей книги
DESCRIPTION:
URL:https://mbstver.ru/event/antiformat-lekcziya-po-filmu-charodei-i-proizvedeniyu-bratev-strugaczkih-ponedelnik-nachinaetsya-v-subbotu-muzej-knigi/
LOCATION:Музей книги\, Тверской пр-т\, д. 5\, Тверь\, Российская Федерация
CATEGORIES:Лекция
ORGANIZER;CN="%D0%9E%D1%82%D0%B4%D0%B5%D0%BB %D1%80%D0%B5%D0%B4%D0%BA%D0%BE%D0%B3%D0%BE %D1%84%D0%BE%D0%BD%D0%B4%D0%B0":MAILTO:orgfond-otd@mbstver.ru
END:VEVENT
END:VCALENDAR