BEGIN:VCALENDAR
VERSION:2.0
PRODID:-//Муниципальная библиотечная система города Твери - ECPv6.11.2.1//NONSGML v1.0//EN
CALSCALE:GREGORIAN
METHOD:PUBLISH
X-ORIGINAL-URL:https://mbstver.ru
X-WR-CALDESC:Мероприятия для Муниципальная библиотечная система города Твери
REFRESH-INTERVAL;VALUE=DURATION:PT1H
X-Robots-Tag:noindex
X-PUBLISHED-TTL:PT1H
BEGIN:VTIMEZONE
TZID:Europe/Moscow
BEGIN:STANDARD
TZOFFSETFROM:+0300
TZOFFSETTO:+0300
TZNAME:MSK
DTSTART:20240101T000000
END:STANDARD
END:VTIMEZONE
BEGIN:VEVENT
DTSTART;VALUE=DATE:20241212
DTEND;VALUE=DATE:20250114
DTSTAMP:20260422T102411
CREATED:20241125T140409Z
LAST-MODIFIED:20241125T140409Z
UID:58911-1733961600-1736812799@mbstver.ru
SUMMARY:«Взгляд на мир моими руками» выставка вышитых работ Марины Гуттиной / Выставочный зал / с 12 декабря по 13 января
DESCRIPTION:
URL:https://mbstver.ru/event/vzglyad-na-mir-moimi-rukami-vystavka-vyshityh-rabot-mariny-guttinoj-vystavochnyj-zal-s-12-dekabrya-po-13-yanvarya/
LOCATION:Выставочный зал\, Тверской пр-т\, д. 5\, Тверь\, Российская Федерация
CATEGORIES:Выставка
ORGANIZER;CN="%D0%9E%D1%82%D0%B4%D0%B5%D0%BB %D0%B1%D0%B8%D0%B1%D0%BB%D0%B8%D0%BE%D1%82%D0%B5%D1%87%D0%BD%D0%BE%D0%B3%D0%BE %D0%BC%D0%B0%D1%80%D0%BA%D0%B5%D1%82%D0%B8%D0%BD%D0%B3%D0%B0 %D0%B8 %D0%BA%D1%83%D0%BB%D1%8C%D1%82%D1%83%D1%80%D0%BD%D0%BE-%D0%B4%D0%BE%D1%81%D1%83%D0%B3%D0%BE%D0%B2%D0%BE%D0%B9 %D0%B4%D0%B5%D1%8F%D1%82%D0%B5%D0%BB%D1%8C%D0%BD%D0%BE%D1%81%D1%82%D0%B8":MAILTO:o_dosugd@mbstver.ru
END:VEVENT
BEGIN:VEVENT
DTSTART;VALUE=DATE:20241222
DTEND;VALUE=DATE:20250131
DTSTAMP:20260422T102411
CREATED:20250120T113936Z
LAST-MODIFIED:20250120T113936Z
UID:60178-1734825600-1738281599@mbstver.ru
SUMMARY:«Красота на кончике кисти» выставка картин тверских художников Анны Гренковой\, Елизаветы Денисовой и Анатолия Вдовенко / Библиотека семейного чтения им. П.А. Кропоткина / с 22 декабря по 30 января
DESCRIPTION:
URL:https://mbstver.ru/event/krasota-na-konchike-kisti-vystavka-kartin-tverskih-hudozhnikov-anny-grenkovoj-elizavety-denisovoj-i-anatoliya-vdovenko-biblioteka-semejnogo-chteniya-im-p-a-kropotkina-s-22-dekabrya/
LOCATION:Библиотека семейного чтения им. П.А. Кропоткина\, ул. Фурманова\, д. 1\, корп. А\, Тверь\, Российская Федерация
CATEGORIES:Выставка живописи
ORGANIZER;CN="%D0%91%D0%B8%D0%B1%D0%BB%D0%B8%D0%BE%D1%82%D0%B5%D0%BA%D0%B0 %D1%81%D0%B5%D0%BC%D0%B5%D0%B9%D0%BD%D0%BE%D0%B3%D0%BE %D1%87%D1%82%D0%B5%D0%BD%D0%B8%D1%8F %D0%B8%D0%BC. %D0%9F.%D0%90. %D0%9A%D1%80%D0%BE%D0%BF%D0%BE%D1%82%D0%BA%D0%B8%D0%BD%D0%B0":MAILTO:f1tver@yandex.ru; library_f1@mbstver.ru
END:VEVENT
BEGIN:VEVENT
DTSTART;VALUE=DATE:20241225
DTEND;VALUE=DATE:20250117
DTSTAMP:20260422T102411
CREATED:20241223T122137Z
LAST-MODIFIED:20250105T100130Z
UID:59705-1735084800-1737071999@mbstver.ru
SUMMARY:«В волшебном мире новогодних историй» выставка рукоделия / Холл Детского зала / с 25 декабря по 16 января
DESCRIPTION:
URL:https://mbstver.ru/event/v-volshebnom-mire-novogodnih-istorij-vystavka-rukodeliya-holl-detskogo-zala-s-25-dekabrya-po-16-yanvarya/
LOCATION:Холл Детского зала\, Тверской пр-т\, д. 5\, Тверь\, Российская Федерация
CATEGORIES:Выставка
ORGANIZER;CN="%D0%9E%D1%82%D0%B4%D0%B5%D0%BB %D0%BE%D0%B1%D1%81%D0%BB%D1%83%D0%B6%D0%B8%D0%B2%D0%B0%D0%BD%D0%B8%D1%8F %D0%B8 %D0%BA%D0%BD%D0%B8%D0%B3%D0%BE%D1%85%D1%80%D0%B0%D0%BD%D0%B5%D0%BD%D0%B8%D1%8F":MAILTO:otd-obsl@mbstver.ru
END:VEVENT
BEGIN:VEVENT
DTSTART;TZID=Europe/Moscow:20241229T120000
DTEND;TZID=Europe/Moscow:20241229T130000
DTSTAMP:20260422T102411
CREATED:20241125T135559Z
LAST-MODIFIED:20241125T135559Z
UID:58901-1735473600-1735477200@mbstver.ru
SUMMARY:«Кружатся снежинки...» мастер-класс по изготовлению украшений к Новому году / Детский зал
DESCRIPTION:
URL:https://mbstver.ru/event/kruzhatsya-snezhinki-master-klass-po-izgotovleniyu-ukrashenij-k-novomu-godu-detskij-zal/
LOCATION:Детский зал\, Тверской пр-т\, д. 5\, Тверь\, Российская Федерация
CATEGORIES:Мастер-класс
ORGANIZER;CN="%D0%9E%D1%82%D0%B4%D0%B5%D0%BB %D0%BE%D0%B1%D1%81%D0%BB%D1%83%D0%B6%D0%B8%D0%B2%D0%B0%D0%BD%D0%B8%D1%8F %D0%B4%D0%B5%D1%82%D0%B5%D0%B9":MAILTO:detsky-otd@mbstver.ru
END:VEVENT
BEGIN:VEVENT
DTSTART;TZID=Europe/Moscow:20241229T130000
DTEND;TZID=Europe/Moscow:20241229T140000
DTSTAMP:20260422T102411
CREATED:20241223T113844Z
LAST-MODIFIED:20241223T113844Z
UID:59683-1735477200-1735480800@mbstver.ru
SUMMARY:«Книги дарят чудеса» интерактивная игра / Горница
DESCRIPTION:
URL:https://mbstver.ru/event/knigi-daryat-chudesa-interaktivnaya-igra-gornicza-2/
LOCATION:Горница\, Тверской пр-т\, д. 5\, Тверь\, Российская Федерация
CATEGORIES:Интерактивная игра
ORGANIZER;CN="%D0%9E%D1%82%D0%B4%D0%B5%D0%BB %D0%B1%D0%B8%D0%B1%D0%BB%D0%B8%D0%BE%D1%82%D0%B5%D1%87%D0%BD%D0%BE%D0%B3%D0%BE %D0%BC%D0%B0%D1%80%D0%BA%D0%B5%D1%82%D0%B8%D0%BD%D0%B3%D0%B0 %D0%B8 %D0%BA%D1%83%D0%BB%D1%8C%D1%82%D1%83%D1%80%D0%BD%D0%BE-%D0%B4%D0%BE%D1%81%D1%83%D0%B3%D0%BE%D0%B2%D0%BE%D0%B9 %D0%B4%D0%B5%D1%8F%D1%82%D0%B5%D0%BB%D1%8C%D0%BD%D0%BE%D1%81%D1%82%D0%B8":MAILTO:o_dosugd@mbstver.ru
END:VEVENT
BEGIN:VEVENT
DTSTART;TZID=Europe/Moscow:20241229T133000
DTEND;TZID=Europe/Moscow:20241229T143000
DTSTAMP:20260422T102411
CREATED:20241202T085104Z
LAST-MODIFIED:20241202T085104Z
UID:59083-1735479000-1735482600@mbstver.ru
SUMMARY:«Как встречают Новый год люди всех земных широт» познавательный час / Детская библиотека им. Виталия Бианки
DESCRIPTION:
URL:https://mbstver.ru/event/kak-vstrechayut-novyj-god-lyudi-vseh-zemnyh-shirot-poznavatelnyj-chas-detskaya-biblioteka-im-vitaliya-bianki-2/
LOCATION:Детская библиотека им. Виталия Бианки\, ул. Богданова\, д. 22\, корп. 1\, Тверь\, Российская Федерация
CATEGORIES:Познавательный час
ORGANIZER;CN="%D0%94%D0%B5%D1%82%D1%81%D0%BA%D0%B0%D1%8F %D0%B1%D0%B8%D0%B1%D0%BB%D0%B8%D0%BE%D1%82%D0%B5%D0%BA%D0%B0 %D0%B8%D0%BC. %D0%92%D0%B8%D1%82%D0%B0%D0%BB%D0%B8%D1%8F %D0%91%D0%B8%D0%B0%D0%BD%D0%BA%D0%B8":MAILTO:library_f29@mbstver.ru
END:VEVENT
BEGIN:VEVENT
DTSTART;TZID=Europe/Moscow:20241229T150000
DTEND;TZID=Europe/Moscow:20241229T163000
DTSTAMP:20260422T102411
CREATED:20241223T114012Z
LAST-MODIFIED:20241223T114012Z
UID:59685-1735484400-1735489800@mbstver.ru
SUMMARY:«Новогодняя кинорулетка» показ / Конференц-зал
DESCRIPTION:
URL:https://mbstver.ru/event/novogodnyaya-kinoruletka-pokaz-konferencz-zal-6/
LOCATION:Конференц-зал\, Тверской пр-т\, д. 5\, Тверь\, Российская Федерация
CATEGORIES:Показ
ORGANIZER;CN="%D0%9E%D1%82%D0%B4%D0%B5%D0%BB %D0%B1%D0%B8%D0%B1%D0%BB%D0%B8%D0%BE%D1%82%D0%B5%D1%87%D0%BD%D0%BE%D0%B3%D0%BE %D0%BC%D0%B0%D1%80%D0%BA%D0%B5%D1%82%D0%B8%D0%BD%D0%B3%D0%B0 %D0%B8 %D0%BA%D1%83%D0%BB%D1%8C%D1%82%D1%83%D1%80%D0%BD%D0%BE-%D0%B4%D0%BE%D1%81%D1%83%D0%B3%D0%BE%D0%B2%D0%BE%D0%B9 %D0%B4%D0%B5%D1%8F%D1%82%D0%B5%D0%BB%D1%8C%D0%BD%D0%BE%D1%81%D1%82%D0%B8":MAILTO:o_dosugd@mbstver.ru
END:VEVENT
END:VCALENDAR