BEGIN:VCALENDAR
VERSION:2.0
PRODID:-//Муниципальная библиотечная система города Твери - ECPv6.11.2.1//NONSGML v1.0//EN
CALSCALE:GREGORIAN
METHOD:PUBLISH
X-WR-CALNAME:Муниципальная библиотечная система города Твери
X-ORIGINAL-URL:https://mbstver.ru
X-WR-CALDESC:Мероприятия для Муниципальная библиотечная система города Твери
REFRESH-INTERVAL;VALUE=DURATION:PT1H
X-Robots-Tag:noindex
X-PUBLISHED-TTL:PT1H
BEGIN:VTIMEZONE
TZID:Europe/Moscow
BEGIN:STANDARD
TZOFFSETFROM:+0300
TZOFFSETTO:+0300
TZNAME:MSK
DTSTART:20240101T000000
END:STANDARD
END:VTIMEZONE
BEGIN:VEVENT
DTSTART;VALUE=DATE:20241212
DTEND;VALUE=DATE:20250114
DTSTAMP:20260422T193543
CREATED:20241125T140409Z
LAST-MODIFIED:20241125T140409Z
UID:58911-1733961600-1736812799@mbstver.ru
SUMMARY:«Взгляд на мир моими руками» выставка вышитых работ Марины Гуттиной / Выставочный зал / с 12 декабря по 13 января
DESCRIPTION:
URL:https://mbstver.ru/event/vzglyad-na-mir-moimi-rukami-vystavka-vyshityh-rabot-mariny-guttinoj-vystavochnyj-zal-s-12-dekabrya-po-13-yanvarya/
LOCATION:Выставочный зал\, Тверской пр-т\, д. 5\, Тверь\, Российская Федерация
CATEGORIES:Выставка
ORGANIZER;CN="%D0%9E%D1%82%D0%B4%D0%B5%D0%BB %D0%B1%D0%B8%D0%B1%D0%BB%D0%B8%D0%BE%D1%82%D0%B5%D1%87%D0%BD%D0%BE%D0%B3%D0%BE %D0%BC%D0%B0%D1%80%D0%BA%D0%B5%D1%82%D0%B8%D0%BD%D0%B3%D0%B0 %D0%B8 %D0%BA%D1%83%D0%BB%D1%8C%D1%82%D1%83%D1%80%D0%BD%D0%BE-%D0%B4%D0%BE%D1%81%D1%83%D0%B3%D0%BE%D0%B2%D0%BE%D0%B9 %D0%B4%D0%B5%D1%8F%D1%82%D0%B5%D0%BB%D1%8C%D0%BD%D0%BE%D1%81%D1%82%D0%B8":MAILTO:o_dosugd@mbstver.ru
END:VEVENT
BEGIN:VEVENT
DTSTART;VALUE=DATE:20241222
DTEND;VALUE=DATE:20250131
DTSTAMP:20260422T193543
CREATED:20250120T113936Z
LAST-MODIFIED:20250120T113936Z
UID:60178-1734825600-1738281599@mbstver.ru
SUMMARY:«Красота на кончике кисти» выставка картин тверских художников Анны Гренковой\, Елизаветы Денисовой и Анатолия Вдовенко / Библиотека семейного чтения им. П.А. Кропоткина / с 22 декабря по 30 января
DESCRIPTION:
URL:https://mbstver.ru/event/krasota-na-konchike-kisti-vystavka-kartin-tverskih-hudozhnikov-anny-grenkovoj-elizavety-denisovoj-i-anatoliya-vdovenko-biblioteka-semejnogo-chteniya-im-p-a-kropotkina-s-22-dekabrya/
LOCATION:Библиотека семейного чтения им. П.А. Кропоткина\, ул. Фурманова\, д. 1\, корп. А\, Тверь\, Российская Федерация
CATEGORIES:Выставка живописи
ORGANIZER;CN="%D0%91%D0%B8%D0%B1%D0%BB%D0%B8%D0%BE%D1%82%D0%B5%D0%BA%D0%B0 %D1%81%D0%B5%D0%BC%D0%B5%D0%B9%D0%BD%D0%BE%D0%B3%D0%BE %D1%87%D1%82%D0%B5%D0%BD%D0%B8%D1%8F %D0%B8%D0%BC. %D0%9F.%D0%90. %D0%9A%D1%80%D0%BE%D0%BF%D0%BE%D1%82%D0%BA%D0%B8%D0%BD%D0%B0":MAILTO:f1tver@yandex.ru; library_f1@mbstver.ru
END:VEVENT
BEGIN:VEVENT
DTSTART;VALUE=DATE:20241225
DTEND;VALUE=DATE:20250117
DTSTAMP:20260422T193543
CREATED:20241223T122137Z
LAST-MODIFIED:20250105T100130Z
UID:59705-1735084800-1737071999@mbstver.ru
SUMMARY:«В волшебном мире новогодних историй» выставка рукоделия / Холл Детского зала / с 25 декабря по 16 января
DESCRIPTION:
URL:https://mbstver.ru/event/v-volshebnom-mire-novogodnih-istorij-vystavka-rukodeliya-holl-detskogo-zala-s-25-dekabrya-po-16-yanvarya/
LOCATION:Холл Детского зала\, Тверской пр-т\, д. 5\, Тверь\, Российская Федерация
CATEGORIES:Выставка
ORGANIZER;CN="%D0%9E%D1%82%D0%B4%D0%B5%D0%BB %D0%BE%D0%B1%D1%81%D0%BB%D1%83%D0%B6%D0%B8%D0%B2%D0%B0%D0%BD%D0%B8%D1%8F %D0%B8 %D0%BA%D0%BD%D0%B8%D0%B3%D0%BE%D1%85%D1%80%D0%B0%D0%BD%D0%B5%D0%BD%D0%B8%D1%8F":MAILTO:otd-obsl@mbstver.ru
END:VEVENT
BEGIN:VEVENT
DTSTART;VALUE=DATE:20250103
DTEND;VALUE=DATE:20250201
DTSTAMP:20260422T193543
CREATED:20250105T100018Z
LAST-MODIFIED:20250105T100048Z
UID:59798-1735862400-1738367999@mbstver.ru
SUMMARY:«Новогодняя сказка» выставка скульптурных работ учащихся изостудии «Ультрамарин» / Библиотека семейного чтения имени П.А. Кропоткина / с 3 по 31 января
DESCRIPTION:
URL:https://mbstver.ru/event/novogodnyaya-skazka-vystavka-skulpturnyh-rabot-uchashhihsya-izostudii-ultramarin-biblioteka-semejnogo-chteniya-imeni-p-a-kropotkina-s-3-po-31-yanvarya/
LOCATION:Библиотека семейного чтения им. П.А. Кропоткина\, ул. Фурманова\, д. 1\, корп. А\, Тверь\, Российская Федерация
CATEGORIES:Выставка
ORGANIZER;CN="%D0%91%D0%B8%D0%B1%D0%BB%D0%B8%D0%BE%D1%82%D0%B5%D0%BA%D0%B0 %D1%81%D0%B5%D0%BC%D0%B5%D0%B9%D0%BD%D0%BE%D0%B3%D0%BE %D1%87%D1%82%D0%B5%D0%BD%D0%B8%D1%8F %D0%B8%D0%BC. %D0%9F.%D0%90. %D0%9A%D1%80%D0%BE%D0%BF%D0%BE%D1%82%D0%BA%D0%B8%D0%BD%D0%B0":MAILTO:f1tver@yandex.ru; library_f1@mbstver.ru
END:VEVENT
BEGIN:VEVENT
DTSTART;TZID=Europe/Moscow:20250103T110000
DTEND;TZID=Europe/Moscow:20250103T190000
DTSTAMP:20260422T193543
CREATED:20241218T131640Z
LAST-MODIFIED:20241220T120528Z
UID:59425-1735902000-1735930800@mbstver.ru
SUMMARY:«Новогодний книжный карнавал» обзорная экскурсия / Музей книги
DESCRIPTION:
URL:https://mbstver.ru/event/obzornye-ekskursii-muzej-knigi/
LOCATION:Музей книги\, Тверской пр-т\, д. 5\, Тверь\, Российская Федерация
CATEGORIES:Экскурсия по выставке
ORGANIZER;CN="%D0%9E%D1%82%D0%B4%D0%B5%D0%BB %D1%80%D0%B5%D0%B4%D0%BA%D0%BE%D0%B3%D0%BE %D1%84%D0%BE%D0%BD%D0%B4%D0%B0":MAILTO:orgfond-otd@mbstver.ru
END:VEVENT
BEGIN:VEVENT
DTSTART;TZID=Europe/Moscow:20250103T110000
DTEND;TZID=Europe/Moscow:20250103T190000
DTSTAMP:20260422T193543
CREATED:20241218T131853Z
LAST-MODIFIED:20241218T131853Z
UID:59427-1735902000-1735930800@mbstver.ru
SUMMARY:«Сюрприз под елкой» акция книгодарения / Михайловский зал
DESCRIPTION:
URL:https://mbstver.ru/event/syurpriz-pod-elkoj-akcziya-knigodareniya-mihajlovskij-zal-2/
LOCATION:Михайловский зал\, Тверской пр-т\, д. 5\, Тверь\, Российская Федерация
CATEGORIES:Акция
ORGANIZER;CN="%D0%9E%D1%82%D0%B4%D0%B5%D0%BB %D0%BE%D0%B1%D1%81%D0%BB%D1%83%D0%B6%D0%B8%D0%B2%D0%B0%D0%BD%D0%B8%D1%8F %D0%B8 %D0%BA%D0%BD%D0%B8%D0%B3%D0%BE%D1%85%D1%80%D0%B0%D0%BD%D0%B5%D0%BD%D0%B8%D1%8F":MAILTO:otd-obsl@mbstver.ru
END:VEVENT
BEGIN:VEVENT
DTSTART;TZID=Europe/Moscow:20250103T120000
DTEND;TZID=Europe/Moscow:20250103T130000
DTSTAMP:20260422T193543
CREATED:20241218T132149Z
LAST-MODIFIED:20241218T132149Z
UID:59429-1735905600-1735909200@mbstver.ru
SUMMARY:«Сказка зимнего города» мастер-класс по изготовлению объемного панно / Предварительная запись по тел.: 63-02-84 / Детский зал
DESCRIPTION:
URL:https://mbstver.ru/event/skazka-zimnego-goroda-master-klass-po-izgotovleniyu-obemnogo-panno-predvaritelnaya-zapis-po-tel-63-02-84-detskij-zal/
LOCATION:Детский зал\, Тверской пр-т\, д. 5\, Тверь\, Российская Федерация
CATEGORIES:Мастер-класс
ORGANIZER;CN="%D0%9E%D1%82%D0%B4%D0%B5%D0%BB %D0%BE%D0%B1%D1%81%D0%BB%D1%83%D0%B6%D0%B8%D0%B2%D0%B0%D0%BD%D0%B8%D1%8F %D0%B4%D0%B5%D1%82%D0%B5%D0%B9":MAILTO:detsky-otd@mbstver.ru
END:VEVENT
BEGIN:VEVENT
DTSTART;TZID=Europe/Moscow:20250103T120000
DTEND;TZID=Europe/Moscow:20250103T130000
DTSTAMP:20260422T193543
CREATED:20241218T132348Z
LAST-MODIFIED:20241218T132348Z
UID:59431-1735905600-1735909200@mbstver.ru
SUMMARY:Клуб «Азбука психологии» занятие / Конференц-зал
DESCRIPTION:
URL:https://mbstver.ru/event/klub-azbuka-psihologii-zanyatie-konferencz-zal/
LOCATION:Конференц-зал\, Тверской пр-т\, д. 5\, Тверь\, Российская Федерация
CATEGORIES:Занятие
ORGANIZER;CN="%D0%9E%D1%82%D0%B4%D0%B5%D0%BB %D0%B1%D0%B8%D0%B1%D0%BB%D0%B8%D0%BE%D1%82%D0%B5%D1%87%D0%BD%D0%BE%D0%B3%D0%BE %D0%BC%D0%B0%D1%80%D0%BA%D0%B5%D1%82%D0%B8%D0%BD%D0%B3%D0%B0 %D0%B8 %D0%BA%D1%83%D0%BB%D1%8C%D1%82%D1%83%D1%80%D0%BD%D0%BE-%D0%B4%D0%BE%D1%81%D1%83%D0%B3%D0%BE%D0%B2%D0%BE%D0%B9 %D0%B4%D0%B5%D1%8F%D1%82%D0%B5%D0%BB%D1%8C%D0%BD%D0%BE%D1%81%D1%82%D0%B8":MAILTO:o_dosugd@mbstver.ru
END:VEVENT
BEGIN:VEVENT
DTSTART;TZID=Europe/Moscow:20250103T140000
DTEND;TZID=Europe/Moscow:20250103T150000
DTSTAMP:20260422T193543
CREATED:20241218T132507Z
LAST-MODIFIED:20241218T132507Z
UID:59433-1735912800-1735916400@mbstver.ru
SUMMARY:«Вопросы из зимнего сундучка» викторина / Детский зал
DESCRIPTION:
URL:https://mbstver.ru/event/voprosy-iz-zimnego-sunduchka-viktorina-detskij-zal/
LOCATION:Детский зал\, Тверской пр-т\, д. 5\, Тверь\, Российская Федерация
CATEGORIES:Викторина
ORGANIZER;CN="%D0%9E%D1%82%D0%B4%D0%B5%D0%BB %D0%BE%D0%B1%D1%81%D0%BB%D1%83%D0%B6%D0%B8%D0%B2%D0%B0%D0%BD%D0%B8%D1%8F %D0%B4%D0%B5%D1%82%D0%B5%D0%B9":MAILTO:detsky-otd@mbstver.ru
END:VEVENT
BEGIN:VEVENT
DTSTART;TZID=Europe/Moscow:20250103T150000
DTEND;TZID=Europe/Moscow:20250103T160000
DTSTAMP:20260422T193543
CREATED:20241218T132616Z
LAST-MODIFIED:20241218T132616Z
UID:59435-1735916400-1735920000@mbstver.ru
SUMMARY:«Новогодняя кинорулетка» показ / Конференц-зал
DESCRIPTION:
URL:https://mbstver.ru/event/novogodnyaya-kinoruletka-pokaz-konferencz-zal/
LOCATION:Конференц-зал\, Тверской пр-т\, д. 5\, Тверь\, Российская Федерация
CATEGORIES:Показ
ORGANIZER;CN="%D0%9E%D1%82%D0%B4%D0%B5%D0%BB %D0%B1%D0%B8%D0%B1%D0%BB%D0%B8%D0%BE%D1%82%D0%B5%D1%87%D0%BD%D0%BE%D0%B3%D0%BE %D0%BC%D0%B0%D1%80%D0%BA%D0%B5%D1%82%D0%B8%D0%BD%D0%B3%D0%B0 %D0%B8 %D0%BA%D1%83%D0%BB%D1%8C%D1%82%D1%83%D1%80%D0%BD%D0%BE-%D0%B4%D0%BE%D1%81%D1%83%D0%B3%D0%BE%D0%B2%D0%BE%D0%B9 %D0%B4%D0%B5%D1%8F%D1%82%D0%B5%D0%BB%D1%8C%D0%BD%D0%BE%D1%81%D1%82%D0%B8":MAILTO:o_dosugd@mbstver.ru
END:VEVENT
BEGIN:VEVENT
DTSTART;TZID=Europe/Moscow:20250103T160000
DTEND;TZID=Europe/Moscow:20250103T170000
DTSTAMP:20260422T193543
CREATED:20241218T132732Z
LAST-MODIFIED:20241218T132732Z
UID:59437-1735920000-1735923600@mbstver.ru
SUMMARY:«Из истории сказок на пленке» путешествие в историю диафильмов / Детский зал
DESCRIPTION:
URL:https://mbstver.ru/event/iz-istorii-skazok-na-plenke-puteshestvie-v-istoriyu-diafilmov-detskij-zal-2/
LOCATION:Детский зал\, Тверской пр-т\, д. 5\, Тверь\, Российская Федерация
CATEGORIES:просмотр диафильмов
ORGANIZER;CN="%D0%9E%D1%82%D0%B4%D0%B5%D0%BB %D0%BE%D0%B1%D1%81%D0%BB%D1%83%D0%B6%D0%B8%D0%B2%D0%B0%D0%BD%D0%B8%D1%8F %D0%B4%D0%B5%D1%82%D0%B5%D0%B9":MAILTO:detsky-otd@mbstver.ru
END:VEVENT
BEGIN:VEVENT
DTSTART;TZID=Europe/Moscow:20250103T170000
DTEND;TZID=Europe/Moscow:20250103T180000
DTSTAMP:20260422T193543
CREATED:20241218T132854Z
LAST-MODIFIED:20241218T132854Z
UID:59439-1735923600-1735927200@mbstver.ru
SUMMARY:«Уроки художественного слова» лекция / Музей книги
DESCRIPTION:
URL:https://mbstver.ru/event/uroki-hudozhestvennogo-slova-lekcziya-muzej-knigi-7/
LOCATION:Музей книги\, Тверской пр-т\, д. 5\, Тверь\, Российская Федерация
CATEGORIES:Лекция
ORGANIZER;CN="%D0%9E%D1%82%D0%B4%D0%B5%D0%BB %D1%80%D0%B5%D0%B4%D0%BA%D0%BE%D0%B3%D0%BE %D1%84%D0%BE%D0%BD%D0%B4%D0%B0":MAILTO:orgfond-otd@mbstver.ru
END:VEVENT
END:VCALENDAR