BEGIN:VCALENDAR
VERSION:2.0
PRODID:-//Муниципальная библиотечная система города Твери - ECPv6.11.2.1//NONSGML v1.0//EN
CALSCALE:GREGORIAN
METHOD:PUBLISH
X-WR-CALNAME:Муниципальная библиотечная система города Твери
X-ORIGINAL-URL:https://mbstver.ru
X-WR-CALDESC:Мероприятия для Муниципальная библиотечная система города Твери
REFRESH-INTERVAL;VALUE=DURATION:PT1H
X-Robots-Tag:noindex
X-PUBLISHED-TTL:PT1H
BEGIN:VTIMEZONE
TZID:Europe/Moscow
BEGIN:STANDARD
TZOFFSETFROM:+0300
TZOFFSETTO:+0300
TZNAME:MSK
DTSTART:20240101T000000
END:STANDARD
END:VTIMEZONE
BEGIN:VEVENT
DTSTART;VALUE=DATE:20241222
DTEND;VALUE=DATE:20250131
DTSTAMP:20260423T232021
CREATED:20250120T113936Z
LAST-MODIFIED:20250120T113936Z
UID:60178-1734825600-1738281599@mbstver.ru
SUMMARY:«Красота на кончике кисти» выставка картин тверских художников Анны Гренковой\, Елизаветы Денисовой и Анатолия Вдовенко / Библиотека семейного чтения им. П.А. Кропоткина / с 22 декабря по 30 января
DESCRIPTION:
URL:https://mbstver.ru/event/krasota-na-konchike-kisti-vystavka-kartin-tverskih-hudozhnikov-anny-grenkovoj-elizavety-denisovoj-i-anatoliya-vdovenko-biblioteka-semejnogo-chteniya-im-p-a-kropotkina-s-22-dekabrya/
LOCATION:Библиотека семейного чтения им. П.А. Кропоткина\, ул. Фурманова\, д. 1\, корп. А\, Тверь\, Российская Федерация
CATEGORIES:Выставка живописи
ORGANIZER;CN="%D0%91%D0%B8%D0%B1%D0%BB%D0%B8%D0%BE%D1%82%D0%B5%D0%BA%D0%B0 %D1%81%D0%B5%D0%BC%D0%B5%D0%B9%D0%BD%D0%BE%D0%B3%D0%BE %D1%87%D1%82%D0%B5%D0%BD%D0%B8%D1%8F %D0%B8%D0%BC. %D0%9F.%D0%90. %D0%9A%D1%80%D0%BE%D0%BF%D0%BE%D1%82%D0%BA%D0%B8%D0%BD%D0%B0":MAILTO:f1tver@yandex.ru; library_f1@mbstver.ru
END:VEVENT
BEGIN:VEVENT
DTSTART;VALUE=DATE:20250103
DTEND;VALUE=DATE:20250201
DTSTAMP:20260423T232021
CREATED:20250105T100018Z
LAST-MODIFIED:20250105T100048Z
UID:59798-1735862400-1738367999@mbstver.ru
SUMMARY:«Новогодняя сказка» выставка скульптурных работ учащихся изостудии «Ультрамарин» / Библиотека семейного чтения имени П.А. Кропоткина / с 3 по 31 января
DESCRIPTION:
URL:https://mbstver.ru/event/novogodnyaya-skazka-vystavka-skulpturnyh-rabot-uchashhihsya-izostudii-ultramarin-biblioteka-semejnogo-chteniya-imeni-p-a-kropotkina-s-3-po-31-yanvarya/
LOCATION:Библиотека семейного чтения им. П.А. Кропоткина\, ул. Фурманова\, д. 1\, корп. А\, Тверь\, Российская Федерация
CATEGORIES:Выставка
ORGANIZER;CN="%D0%91%D0%B8%D0%B1%D0%BB%D0%B8%D0%BE%D1%82%D0%B5%D0%BA%D0%B0 %D1%81%D0%B5%D0%BC%D0%B5%D0%B9%D0%BD%D0%BE%D0%B3%D0%BE %D1%87%D1%82%D0%B5%D0%BD%D0%B8%D1%8F %D0%B8%D0%BC. %D0%9F.%D0%90. %D0%9A%D1%80%D0%BE%D0%BF%D0%BE%D1%82%D0%BA%D0%B8%D0%BD%D0%B0":MAILTO:f1tver@yandex.ru; library_f1@mbstver.ru
END:VEVENT
BEGIN:VEVENT
DTSTART;VALUE=DATE:20250114
DTEND;VALUE=DATE:20250205
DTSTAMP:20260423T232021
CREATED:20250105T130734Z
LAST-MODIFIED:20250109T122511Z
UID:59819-1736812800-1738713599@mbstver.ru
SUMMARY:«Мир глазами художников» выставка работ арт-студии «Мастерская Идей» / Выставочный зал / с 14 января по 4 февраля
DESCRIPTION:
URL:https://mbstver.ru/event/mir-glazami-hudozhnikov-vystavka-rabot-art-studii-masterskaya-idej-vystavochnyj-zal-s-14-yanvarya-po-4-fevralya/
LOCATION:Выставочный зал\, Тверской пр-т\, д. 5\, Тверь\, Российская Федерация
CATEGORIES:Выставка
ORGANIZER;CN="%D0%9E%D1%82%D0%B4%D0%B5%D0%BB %D0%B1%D0%B8%D0%B1%D0%BB%D0%B8%D0%BE%D1%82%D0%B5%D1%87%D0%BD%D0%BE%D0%B3%D0%BE %D0%BC%D0%B0%D1%80%D0%BA%D0%B5%D1%82%D0%B8%D0%BD%D0%B3%D0%B0 %D0%B8 %D0%BA%D1%83%D0%BB%D1%8C%D1%82%D1%83%D1%80%D0%BD%D0%BE-%D0%B4%D0%BE%D1%81%D1%83%D0%B3%D0%BE%D0%B2%D0%BE%D0%B9 %D0%B4%D0%B5%D1%8F%D1%82%D0%B5%D0%BB%D1%8C%D0%BD%D0%BE%D1%81%D1%82%D0%B8":MAILTO:o_dosugd@mbstver.ru
END:VEVENT
BEGIN:VEVENT
DTSTART;VALUE=DATE:20250117
DTEND;VALUE=DATE:20250208
DTSTAMP:20260423T232021
CREATED:20241219T084308Z
LAST-MODIFIED:20241219T084308Z
UID:59518-1737072000-1738972799@mbstver.ru
SUMMARY:«Каждый может стать творцом» выставка керамических изделий гончарной школы «Колокол» / Холл Детского зала / с 17 января по 7 февраля
DESCRIPTION:
URL:https://mbstver.ru/event/kazhdyj-mozhet-stat-tvorczom-vystavka-keramicheskih-izdelij-goncharnoj-shkoly-kolokol-holl-detskogo-zala-s-17-yanvarya-po-7-fevralya/
LOCATION:Холл Детского зала\, Тверской пр-т\, д. 5\, Тверь\, Российская Федерация
CATEGORIES:Выставка
ORGANIZER;CN="%D0%9E%D1%82%D0%B4%D0%B5%D0%BB %D0%B1%D0%B8%D0%B1%D0%BB%D0%B8%D0%BE%D1%82%D0%B5%D1%87%D0%BD%D0%BE%D0%B3%D0%BE %D0%BC%D0%B0%D1%80%D0%BA%D0%B5%D1%82%D0%B8%D0%BD%D0%B3%D0%B0 %D0%B8 %D0%BA%D1%83%D0%BB%D1%8C%D1%82%D1%83%D1%80%D0%BD%D0%BE-%D0%B4%D0%BE%D1%81%D1%83%D0%B3%D0%BE%D0%B2%D0%BE%D0%B9 %D0%B4%D0%B5%D1%8F%D1%82%D0%B5%D0%BB%D1%8C%D0%BD%D0%BE%D1%81%D1%82%D0%B8":MAILTO:o_dosugd@mbstver.ru
END:VEVENT
BEGIN:VEVENT
DTSTART;TZID=Europe/Moscow:20250118T120000
DTEND;TZID=Europe/Moscow:20250118T130000
DTSTAMP:20260423T232021
CREATED:20250114T093852Z
LAST-MODIFIED:20250114T093852Z
UID:59981-1737201600-1737205200@mbstver.ru
SUMMARY:"Рыжий\, но честный..." мастер-класс по изготовлению поделки из бумаги и помпонов по книге Я.Экхольма "Тутта Карлссон первая и единственная\, Людвиг четырнадцатый и др. " / Детский зал
DESCRIPTION:
URL:https://mbstver.ru/event/ryzhij-no-chestnyj-master-klass-po-izgotovleniyu-podelki-iz-bumagi-i-pomponov-po-knige-ya-ekholma-tutta-karlsson-pervaya-i-edinstvennaya-lyudvig-chetyrnadczatyj-i-dr-detskij-zal/
LOCATION:Детский зал\, Тверской пр-т\, д. 5\, Тверь\, Российская Федерация
CATEGORIES:Мастер-класс
ORGANIZER;CN="%D0%9E%D1%82%D0%B4%D0%B5%D0%BB %D0%BE%D0%B1%D1%81%D0%BB%D1%83%D0%B6%D0%B8%D0%B2%D0%B0%D0%BD%D0%B8%D1%8F %D0%B4%D0%B5%D1%82%D0%B5%D0%B9":MAILTO:detsky-otd@mbstver.ru
END:VEVENT
BEGIN:VEVENT
DTSTART;TZID=Europe/Moscow:20250118T133000
DTEND;TZID=Europe/Moscow:20250118T143000
DTSTAMP:20260423T232021
CREATED:20250115T120748Z
LAST-MODIFIED:20250115T120748Z
UID:60012-1737207000-1737210600@mbstver.ru
SUMMARY:«В гостях у Красной Шапочки» беседа / Детская библиотека им. Виталия Бианки
DESCRIPTION:/к 397-летию со дня рождения Шарля Перро (1628-1703)\, французского поэта и детского сказочника — 12 января/
URL:https://mbstver.ru/event/v-gostyah-u-krasnoj-shapochki-beseda-detskaya-biblioteka-im-vitaliya-bianki/
LOCATION:Детская библиотека им. Виталия Бианки\, ул. Богданова\, д. 22\, корп. 1\, Тверь\, Российская Федерация
CATEGORIES:Беседа
ORGANIZER;CN="%D0%94%D0%B5%D1%82%D1%81%D0%BA%D0%B0%D1%8F %D0%B1%D0%B8%D0%B1%D0%BB%D0%B8%D0%BE%D1%82%D0%B5%D0%BA%D0%B0 %D0%B8%D0%BC. %D0%92%D0%B8%D1%82%D0%B0%D0%BB%D0%B8%D1%8F %D0%91%D0%B8%D0%B0%D0%BD%D0%BA%D0%B8":MAILTO:library_f29@mbstver.ru
END:VEVENT
BEGIN:VEVENT
DTSTART;TZID=Europe/Moscow:20250118T140000
DTEND;TZID=Europe/Moscow:20250118T150000
DTSTAMP:20260423T232021
CREATED:20241220T130228Z
LAST-MODIFIED:20250110T110310Z
UID:59607-1737208800-1737212400@mbstver.ru
SUMMARY:«Маленький принц» спектакль Детской театральной студии «Раек» (предварительная запись по телефону: 34-82-14) / Конференц-зал
DESCRIPTION:
URL:https://mbstver.ru/event/malenkij-princz-spektakl-detskoj-teatralnoj-studii-raek-predvaritelnaya-zapis-po-telefonu-34-82-14-konferencz-zal/
LOCATION:Конференц-зал\, Тверской пр-т\, д. 5\, Тверь\, Российская Федерация
CATEGORIES:Спектакль
ORGANIZER;CN="%D0%9E%D1%82%D0%B4%D0%B5%D0%BB %D0%B1%D0%B8%D0%B1%D0%BB%D0%B8%D0%BE%D1%82%D0%B5%D1%87%D0%BD%D0%BE%D0%B3%D0%BE %D0%BC%D0%B0%D1%80%D0%BA%D0%B5%D1%82%D0%B8%D0%BD%D0%B3%D0%B0 %D0%B8 %D0%BA%D1%83%D0%BB%D1%8C%D1%82%D1%83%D1%80%D0%BD%D0%BE-%D0%B4%D0%BE%D1%81%D1%83%D0%B3%D0%BE%D0%B2%D0%BE%D0%B9 %D0%B4%D0%B5%D1%8F%D1%82%D0%B5%D0%BB%D1%8C%D0%BD%D0%BE%D1%81%D1%82%D0%B8":MAILTO:o_dosugd@mbstver.ru
END:VEVENT
BEGIN:VEVENT
DTSTART;TZID=Europe/Moscow:20250118T140000
DTEND;TZID=Europe/Moscow:20250118T150000
DTSTAMP:20260423T232021
CREATED:20250115T120837Z
LAST-MODIFIED:20250115T120837Z
UID:60014-1737208800-1737212400@mbstver.ru
SUMMARY:«Спасти Рождество» квест / Библиотека семейного чтения им. С.Д. Дрожжина
DESCRIPTION:
URL:https://mbstver.ru/event/spasti-rozhdestvo-kvest-biblioteka-semejnogo-chteniya-im-s-d-drozhzhina-2/
LOCATION:Библиотека семейного чтения им. С.Д. Дрожжина\, пр-т Чайковского\, д. 84\, Тверь\, Российская Федерация
CATEGORIES:Квест
ORGANIZER;CN="%D0%91%D0%B8%D0%B1%D0%BB%D0%B8%D0%BE%D1%82%D0%B5%D0%BA%D0%B0 %D1%81%D0%B5%D0%BC%D0%B5%D0%B9%D0%BD%D0%BE%D0%B3%D0%BE %D1%87%D1%82%D0%B5%D0%BD%D0%B8%D1%8F %D0%B8%D0%BC. %D0%A1.%D0%94. %D0%94%D1%80%D0%BE%D0%B6%D0%B6%D0%B8%D0%BD%D0%B0":MAILTO:vfilial5@yandex.ru
END:VEVENT
BEGIN:VEVENT
DTSTART;TZID=Europe/Moscow:20250118T150000
DTEND;TZID=Europe/Moscow:20250118T160000
DTSTAMP:20260423T232021
CREATED:20250115T120948Z
LAST-MODIFIED:20250115T120948Z
UID:60017-1737212400-1737216000@mbstver.ru
SUMMARY:«По странам и континентам» познавательная лингвистическая игра на английском языке / Библиотека семейного чтения микрорайона Южный
DESCRIPTION:
URL:https://mbstver.ru/event/po-stranam-i-kontinentam-poznavatelnaya-lingvisticheskaya-igra-na-anglijskom-yazyke-biblioteka-semejnogo-chteniya-mikrorajona-yuzhnyj/
LOCATION:Библиотека семейного чтения микрорайона Южный\, б-р Гусева\, д. 8\, Тверь\, Российская Федерация
CATEGORIES:Познавательная игра
ORGANIZER;CN="%D0%91%D0%B8%D0%B1%D0%BB%D0%B8%D0%BE%D1%82%D0%B5%D0%BA%D0%B0 %D1%81%D0%B5%D0%BC%D0%B5%D0%B9%D0%BD%D0%BE%D0%B3%D0%BE %D1%87%D1%82%D0%B5%D0%BD%D0%B8%D1%8F %D0%BC%D0%B8%D0%BA%D1%80%D0%BE%D1%80%D0%B0%D0%B9%D0%BE%D0%BD%D0%B0 %D0%AE%D0%B6%D0%BD%D1%8B%D0%B9":MAILTO:library_f27@mbstver.ru
END:VEVENT
BEGIN:VEVENT
DTSTART;TZID=Europe/Moscow:20250118T160000
DTEND;TZID=Europe/Moscow:20250118T180000
DTSTAMP:20260423T232021
CREATED:20241220T130351Z
LAST-MODIFIED:20250102T102308Z
UID:59609-1737216000-1737223200@mbstver.ru
SUMMARY:«Равновесие правды» презентация исторического романа Александра Старкова-Борковского / Горница
DESCRIPTION:
URL:https://mbstver.ru/event/ravnovesie-pravdy-prezentacziya-istoricheskogo-romana-aleksandra-starkova-barkovskogo-gornicza/
LOCATION:Горница\, Тверской пр-т\, д. 5\, Тверь\, Российская Федерация
CATEGORIES:Презентация книги
ORGANIZER;CN="%D0%9E%D1%82%D0%B4%D0%B5%D0%BB %D0%B1%D0%B8%D0%B1%D0%BB%D0%B8%D0%BE%D1%82%D0%B5%D1%87%D0%BD%D0%BE%D0%B3%D0%BE %D0%BC%D0%B0%D1%80%D0%BA%D0%B5%D1%82%D0%B8%D0%BD%D0%B3%D0%B0 %D0%B8 %D0%BA%D1%83%D0%BB%D1%8C%D1%82%D1%83%D1%80%D0%BD%D0%BE-%D0%B4%D0%BE%D1%81%D1%83%D0%B3%D0%BE%D0%B2%D0%BE%D0%B9 %D0%B4%D0%B5%D1%8F%D1%82%D0%B5%D0%BB%D1%8C%D0%BD%D0%BE%D1%81%D1%82%D0%B8":MAILTO:o_dosugd@mbstver.ru
END:VEVENT
END:VCALENDAR