BEGIN:VCALENDAR
VERSION:2.0
PRODID:-//Муниципальная библиотечная система города Твери - ECPv6.11.2.1//NONSGML v1.0//EN
CALSCALE:GREGORIAN
METHOD:PUBLISH
X-ORIGINAL-URL:https://mbstver.ru
X-WR-CALDESC:Мероприятия для Муниципальная библиотечная система города Твери
REFRESH-INTERVAL;VALUE=DURATION:PT1H
X-Robots-Tag:noindex
X-PUBLISHED-TTL:PT1H
BEGIN:VTIMEZONE
TZID:Europe/Moscow
BEGIN:STANDARD
TZOFFSETFROM:+0300
TZOFFSETTO:+0300
TZNAME:MSK
DTSTART:20250101T000000
END:STANDARD
END:VTIMEZONE
BEGIN:VEVENT
DTSTART;VALUE=DATE:20250114
DTEND;VALUE=DATE:20250205
DTSTAMP:20260425T004916
CREATED:20250105T130734Z
LAST-MODIFIED:20250109T122511Z
UID:59819-1736812800-1738713599@mbstver.ru
SUMMARY:«Мир глазами художников» выставка работ арт-студии «Мастерская Идей» / Выставочный зал / с 14 января по 4 февраля
DESCRIPTION:
URL:https://mbstver.ru/event/mir-glazami-hudozhnikov-vystavka-rabot-art-studii-masterskaya-idej-vystavochnyj-zal-s-14-yanvarya-po-4-fevralya/
LOCATION:Выставочный зал\, Тверской пр-т\, д. 5\, Тверь\, Российская Федерация
CATEGORIES:Выставка
ORGANIZER;CN="%D0%9E%D1%82%D0%B4%D0%B5%D0%BB %D0%B1%D0%B8%D0%B1%D0%BB%D0%B8%D0%BE%D1%82%D0%B5%D1%87%D0%BD%D0%BE%D0%B3%D0%BE %D0%BC%D0%B0%D1%80%D0%BA%D0%B5%D1%82%D0%B8%D0%BD%D0%B3%D0%B0 %D0%B8 %D0%BA%D1%83%D0%BB%D1%8C%D1%82%D1%83%D1%80%D0%BD%D0%BE-%D0%B4%D0%BE%D1%81%D1%83%D0%B3%D0%BE%D0%B2%D0%BE%D0%B9 %D0%B4%D0%B5%D1%8F%D1%82%D0%B5%D0%BB%D1%8C%D0%BD%D0%BE%D1%81%D1%82%D0%B8":MAILTO:o_dosugd@mbstver.ru
END:VEVENT
BEGIN:VEVENT
DTSTART;VALUE=DATE:20250117
DTEND;VALUE=DATE:20250208
DTSTAMP:20260425T004916
CREATED:20241219T084308Z
LAST-MODIFIED:20241219T084308Z
UID:59518-1737072000-1738972799@mbstver.ru
SUMMARY:«Каждый может стать творцом» выставка керамических изделий гончарной школы «Колокол» / Холл Детского зала / с 17 января по 7 февраля
DESCRIPTION:
URL:https://mbstver.ru/event/kazhdyj-mozhet-stat-tvorczom-vystavka-keramicheskih-izdelij-goncharnoj-shkoly-kolokol-holl-detskogo-zala-s-17-yanvarya-po-7-fevralya/
LOCATION:Холл Детского зала\, Тверской пр-т\, д. 5\, Тверь\, Российская Федерация
CATEGORIES:Выставка
ORGANIZER;CN="%D0%9E%D1%82%D0%B4%D0%B5%D0%BB %D0%B1%D0%B8%D0%B1%D0%BB%D0%B8%D0%BE%D1%82%D0%B5%D1%87%D0%BD%D0%BE%D0%B3%D0%BE %D0%BC%D0%B0%D1%80%D0%BA%D0%B5%D1%82%D0%B8%D0%BD%D0%B3%D0%B0 %D0%B8 %D0%BA%D1%83%D0%BB%D1%8C%D1%82%D1%83%D1%80%D0%BD%D0%BE-%D0%B4%D0%BE%D1%81%D1%83%D0%B3%D0%BE%D0%B2%D0%BE%D0%B9 %D0%B4%D0%B5%D1%8F%D1%82%D0%B5%D0%BB%D1%8C%D0%BD%D0%BE%D1%81%D1%82%D0%B8":MAILTO:o_dosugd@mbstver.ru
END:VEVENT
BEGIN:VEVENT
DTSTART;TZID=Europe/Moscow:20250201T120000
DTEND;TZID=Europe/Moscow:20250201T130000
DTSTAMP:20260425T004916
CREATED:20250120T110840Z
LAST-MODIFIED:20250120T110840Z
UID:60153-1738411200-1738414800@mbstver.ru
SUMMARY:«В гостях у сказки» викторина по русским народным сказкам / Детский зал
DESCRIPTION:
URL:https://mbstver.ru/event/v-gostyah-u-skazki-viktorina-po-russkim-narodnym-skazkam-detskij-zal/
LOCATION:Детский зал\, Тверской пр-т\, д. 5\, Тверь\, Российская Федерация
CATEGORIES:Викторина
ORGANIZER;CN="%D0%9E%D1%82%D0%B4%D0%B5%D0%BB %D0%BE%D0%B1%D1%81%D0%BB%D1%83%D0%B6%D0%B8%D0%B2%D0%B0%D0%BD%D0%B8%D1%8F %D0%B4%D0%B5%D1%82%D0%B5%D0%B9":MAILTO:detsky-otd@mbstver.ru
END:VEVENT
BEGIN:VEVENT
DTSTART;TZID=Europe/Moscow:20250201T120000
DTEND;TZID=Europe/Moscow:20250201T130000
DTSTAMP:20260425T004916
CREATED:20250121T121918Z
LAST-MODIFIED:20250121T121918Z
UID:60278-1738411200-1738414800@mbstver.ru
SUMMARY:«Что ты знаешь о Сталинграде?» викторина / Библиотека семейного чтения на Горбатке
DESCRIPTION:/ко Дню воинской славы России — Дню разгрома советскими войсками немецко-фашистских войск в Сталинградской битве (1943) — 2 февраля/
URL:https://mbstver.ru/event/chto-ty-znaesh-o-stalingrade-viktorina-biblioteka-semejnogo-chteniya-na-gorbatke/
LOCATION:Библиотека семейного чтения на Горбатке\, Петербургское ш.\, д. 69\, Тверь\, Российская Федерация
CATEGORIES:Викторина
ORGANIZER;CN="%D0%91%D0%B8%D0%B1%D0%BB%D0%B8%D0%BE%D1%82%D0%B5%D0%BA%D0%B0 %D1%81%D0%B5%D0%BC%D0%B5%D0%B9%D0%BD%D0%BE%D0%B3%D0%BE %D1%87%D1%82%D0%B5%D0%BD%D0%B8%D1%8F %D0%BD%D0%B0 %D0%93%D0%BE%D1%80%D0%B1%D0%B0%D1%82%D0%BA%D0%B5":MAILTO:mbsfil12@yandex.ru
END:VEVENT
BEGIN:VEVENT
DTSTART;TZID=Europe/Moscow:20250201T133000
DTEND;TZID=Europe/Moscow:20250201T143000
DTSTAMP:20260425T004916
CREATED:20250121T122146Z
LAST-MODIFIED:20250121T122146Z
UID:60280-1738416600-1738420200@mbstver.ru
SUMMARY:«Зимние виды спорта» познавательный час / Детская библиотека им. Виталия Бианки
DESCRIPTION:/к Всероссийскому дню зимних видов спорта — 7 февраля/
URL:https://mbstver.ru/event/zimnie-vidy-sporta-poznavatelnyj-chas-detskaya-biblioteka-im-vitaliya-bianki/
LOCATION:Детская библиотека им. Виталия Бианки\, ул. Богданова\, д. 22\, корп. 1\, Тверь\, Российская Федерация
CATEGORIES:Познавательный час
ORGANIZER;CN="%D0%94%D0%B5%D1%82%D1%81%D0%BA%D0%B0%D1%8F %D0%B1%D0%B8%D0%B1%D0%BB%D0%B8%D0%BE%D1%82%D0%B5%D0%BA%D0%B0 %D0%B8%D0%BC. %D0%92%D0%B8%D1%82%D0%B0%D0%BB%D0%B8%D1%8F %D0%91%D0%B8%D0%B0%D0%BD%D0%BA%D0%B8":MAILTO:library_f29@mbstver.ru
END:VEVENT
BEGIN:VEVENT
DTSTART;TZID=Europe/Moscow:20250201T150000
DTEND;TZID=Europe/Moscow:20250201T160000
DTSTAMP:20260425T004916
CREATED:20250121T122314Z
LAST-MODIFIED:20250121T122314Z
UID:60282-1738422000-1738425600@mbstver.ru
SUMMARY:«Вечный огонь Сталинграда» час памяти / Библиотека семейного чтения на Мигаловской набережной
DESCRIPTION:/ко Дню воинской славы России — Дню разгрома советскими войсками немецко-фашистских войск в Сталинградской битве (1943) — 2 февраля/
URL:https://mbstver.ru/event/vechnyj-ogon-stalingrada-chas-pamyati-biblioteka-semejnogo-chteniya-na-migalovskoj-naberezhnoj/
LOCATION:Библиотека семейного чтения на Мигаловской набережной\, Мигаловская наб.\, д. 4\, Тверь\, Российская Федерация
CATEGORIES:Час памяти
ORGANIZER;CN="%D0%91%D0%B8%D0%B1%D0%BB%D0%B8%D0%BE%D1%82%D0%B5%D0%BA%D0%B0 %D1%81%D0%B5%D0%BC%D0%B5%D0%B9%D0%BD%D0%BE%D0%B3%D0%BE %D1%87%D1%82%D0%B5%D0%BD%D0%B8%D1%8F %D0%BD%D0%B0 %D0%9C%D0%B8%D0%B3%D0%B0%D0%BB%D0%BE%D0%B2%D1%81%D0%BA%D0%BE%D0%B9 %D0%BD%D0%B0%D0%B1%D0%B5%D1%80%D0%B5%D0%B6%D0%BD%D0%BE%D0%B9":MAILTO:library_f25@mbstver.ru
END:VEVENT
BEGIN:VEVENT
DTSTART;TZID=Europe/Moscow:20250201T150000
DTEND;TZID=Europe/Moscow:20250201T180000
DTSTAMP:20260425T004916
CREATED:20250128T060055Z
LAST-MODIFIED:20250128T060055Z
UID:60450-1738422000-1738432800@mbstver.ru
SUMMARY:Знакомство с интернет-ресурсом «ВепКар» (Открытый корпус вепсского и карельского языков) - встреча в языковом клубе «Karielan kielellä vaštah» («Навстречу карель-скому языку»)
DESCRIPTION:
URL:https://mbstver.ru/event/znakomstvo-s-internet-resursom-vepkar-otkrytyj-korpus-vepsskogo-i-karelskogo-yazykov-vstrecha-v-yazykovom-klube-karielan-kielella-vastah-navstrechu-karel-skomu-yazyk/
LOCATION:Конференц-зал\, Тверской пр-т\, д. 5\, Тверь\, Российская Федерация
CATEGORIES:Встреча
ORGANIZER;CN="%D0%9E%D1%82%D0%B4%D0%B5%D0%BB %D0%B1%D0%B8%D0%B1%D0%BB%D0%B8%D0%BE%D1%82%D0%B5%D1%87%D0%BD%D0%BE%D0%B3%D0%BE %D0%BC%D0%B0%D1%80%D0%BA%D0%B5%D1%82%D0%B8%D0%BD%D0%B3%D0%B0 %D0%B8 %D0%BA%D1%83%D0%BB%D1%8C%D1%82%D1%83%D1%80%D0%BD%D0%BE-%D0%B4%D0%BE%D1%81%D1%83%D0%B3%D0%BE%D0%B2%D0%BE%D0%B9 %D0%B4%D0%B5%D1%8F%D1%82%D0%B5%D0%BB%D1%8C%D0%BD%D0%BE%D1%81%D1%82%D0%B8":MAILTO:o_dosugd@mbstver.ru
END:VEVENT
END:VCALENDAR