BEGIN:VCALENDAR
VERSION:2.0
PRODID:-//Муниципальная библиотечная система города Твери - ECPv6.11.2.1//NONSGML v1.0//EN
CALSCALE:GREGORIAN
METHOD:PUBLISH
X-ORIGINAL-URL:https://mbstver.ru
X-WR-CALDESC:Мероприятия для Муниципальная библиотечная система города Твери
REFRESH-INTERVAL;VALUE=DURATION:PT1H
X-Robots-Tag:noindex
X-PUBLISHED-TTL:PT1H
BEGIN:VTIMEZONE
TZID:Europe/Moscow
BEGIN:STANDARD
TZOFFSETFROM:+0300
TZOFFSETTO:+0300
TZNAME:MSK
DTSTART:20250101T000000
END:STANDARD
END:VTIMEZONE
BEGIN:VEVENT
DTSTART;VALUE=DATE:20250114
DTEND;VALUE=DATE:20250205
DTSTAMP:20260425T024910
CREATED:20250105T130734Z
LAST-MODIFIED:20250109T122511Z
UID:59819-1736812800-1738713599@mbstver.ru
SUMMARY:«Мир глазами художников» выставка работ арт-студии «Мастерская Идей» / Выставочный зал / с 14 января по 4 февраля
DESCRIPTION:
URL:https://mbstver.ru/event/mir-glazami-hudozhnikov-vystavka-rabot-art-studii-masterskaya-idej-vystavochnyj-zal-s-14-yanvarya-po-4-fevralya/
LOCATION:Выставочный зал\, Тверской пр-т\, д. 5\, Тверь\, Российская Федерация
CATEGORIES:Выставка
ORGANIZER;CN="%D0%9E%D1%82%D0%B4%D0%B5%D0%BB %D0%B1%D0%B8%D0%B1%D0%BB%D0%B8%D0%BE%D1%82%D0%B5%D1%87%D0%BD%D0%BE%D0%B3%D0%BE %D0%BC%D0%B0%D1%80%D0%BA%D0%B5%D1%82%D0%B8%D0%BD%D0%B3%D0%B0 %D0%B8 %D0%BA%D1%83%D0%BB%D1%8C%D1%82%D1%83%D1%80%D0%BD%D0%BE-%D0%B4%D0%BE%D1%81%D1%83%D0%B3%D0%BE%D0%B2%D0%BE%D0%B9 %D0%B4%D0%B5%D1%8F%D1%82%D0%B5%D0%BB%D1%8C%D0%BD%D0%BE%D1%81%D1%82%D0%B8":MAILTO:o_dosugd@mbstver.ru
END:VEVENT
BEGIN:VEVENT
DTSTART;VALUE=DATE:20250117
DTEND;VALUE=DATE:20250208
DTSTAMP:20260425T024910
CREATED:20241219T084308Z
LAST-MODIFIED:20241219T084308Z
UID:59518-1737072000-1738972799@mbstver.ru
SUMMARY:«Каждый может стать творцом» выставка керамических изделий гончарной школы «Колокол» / Холл Детского зала / с 17 января по 7 февраля
DESCRIPTION:
URL:https://mbstver.ru/event/kazhdyj-mozhet-stat-tvorczom-vystavka-keramicheskih-izdelij-goncharnoj-shkoly-kolokol-holl-detskogo-zala-s-17-yanvarya-po-7-fevralya/
LOCATION:Холл Детского зала\, Тверской пр-т\, д. 5\, Тверь\, Российская Федерация
CATEGORIES:Выставка
ORGANIZER;CN="%D0%9E%D1%82%D0%B4%D0%B5%D0%BB %D0%B1%D0%B8%D0%B1%D0%BB%D0%B8%D0%BE%D1%82%D0%B5%D1%87%D0%BD%D0%BE%D0%B3%D0%BE %D0%BC%D0%B0%D1%80%D0%BA%D0%B5%D1%82%D0%B8%D0%BD%D0%B3%D0%B0 %D0%B8 %D0%BA%D1%83%D0%BB%D1%8C%D1%82%D1%83%D1%80%D0%BD%D0%BE-%D0%B4%D0%BE%D1%81%D1%83%D0%B3%D0%BE%D0%B2%D0%BE%D0%B9 %D0%B4%D0%B5%D1%8F%D1%82%D0%B5%D0%BB%D1%8C%D0%BD%D0%BE%D1%81%D1%82%D0%B8":MAILTO:o_dosugd@mbstver.ru
END:VEVENT
BEGIN:VEVENT
DTSTART;TZID=Europe/Moscow:20250202T120000
DTEND;TZID=Europe/Moscow:20250202T130000
DTSTAMP:20260425T024910
CREATED:20250120T111014Z
LAST-MODIFIED:20250120T111014Z
UID:60155-1738497600-1738501200@mbstver.ru
SUMMARY:«Меч Победы ковал Сталинград» беседа у выставки /ко Дню воинской славы России - Дню разгрома советскими войсками немецко-фашистских войск в Сталинградской битве (1943) - 2 февраля/ Детский зал
DESCRIPTION:
URL:https://mbstver.ru/event/mech-pobedy-koval-stalingrad-beseda-u-vystavki-ko-dnyu-voinskoj-slavy-rossii-dnyu-razgroma-sovetskimi-vojskami-nemeczko-fashistskih-vojsk-v-stalingradskoj-bitve-1943-2-fevralya-det/
LOCATION:Детский зал\, Тверской пр-т\, д. 5\, Тверь\, Российская Федерация
CATEGORIES:Беседа у выставки
ORGANIZER;CN="%D0%9E%D1%82%D0%B4%D0%B5%D0%BB %D0%BE%D0%B1%D1%81%D0%BB%D1%83%D0%B6%D0%B8%D0%B2%D0%B0%D0%BD%D0%B8%D1%8F %D0%B4%D0%B5%D1%82%D0%B5%D0%B9":MAILTO:detsky-otd@mbstver.ru
END:VEVENT
BEGIN:VEVENT
DTSTART;TZID=Europe/Moscow:20250202T120000
DTEND;TZID=Europe/Moscow:20250202T133000
DTSTAMP:20260425T024910
CREATED:20250120T111130Z
LAST-MODIFIED:20250120T111130Z
UID:60157-1738497600-1738503000@mbstver.ru
SUMMARY:«Михайловские чтения» лекция в Библейско-богословском лектории / Горница
DESCRIPTION:
URL:https://mbstver.ru/event/mihajlovskie-chteniya-lekcziya-v-biblejsko-bogoslovskom-lektorii-gornicza-2/
LOCATION:Горница\, Тверской пр-т\, д. 5\, Тверь\, Российская Федерация
CATEGORIES:Лекция
ORGANIZER;CN="%D0%9E%D1%82%D0%B4%D0%B5%D0%BB %D0%B1%D0%B8%D0%B1%D0%BB%D0%B8%D0%BE%D1%82%D0%B5%D1%87%D0%BD%D0%BE%D0%B3%D0%BE %D0%BC%D0%B0%D1%80%D0%BA%D0%B5%D1%82%D0%B8%D0%BD%D0%B3%D0%B0 %D0%B8 %D0%BA%D1%83%D0%BB%D1%8C%D1%82%D1%83%D1%80%D0%BD%D0%BE-%D0%B4%D0%BE%D1%81%D1%83%D0%B3%D0%BE%D0%B2%D0%BE%D0%B9 %D0%B4%D0%B5%D1%8F%D1%82%D0%B5%D0%BB%D1%8C%D0%BD%D0%BE%D1%81%D1%82%D0%B8":MAILTO:o_dosugd@mbstver.ru
END:VEVENT
BEGIN:VEVENT
DTSTART;TZID=Europe/Moscow:20250202T130000
DTEND;TZID=Europe/Moscow:20250202T150000
DTSTAMP:20260425T024910
CREATED:20250120T111413Z
LAST-MODIFIED:20250120T111413Z
UID:60159-1738501200-1738508400@mbstver.ru
SUMMARY:«Дни и ночи» кинолекторий /ко Дню воинской славы России - Дню разгрома советскими войсками немецко-фашистских войск в Сталинградской битве (1943) - 2 февраля/ Конференц-зал
DESCRIPTION:(реж. Александр Столпер\, 1944 г.\, СССР)
URL:https://mbstver.ru/event/dni-i-nochi-kinolektorij-ko-dnyu-voinskoj-slavy-rossii-dnyu-razgroma-sovetskimi-vojskami-nemeczko-fashistskih-vojsk-v-stalingradskoj-bitve-1943-2-fevralya-konferencz-zal/
LOCATION:Конференц-зал\, Тверской пр-т\, д. 5\, Тверь\, Российская Федерация
CATEGORIES:Кинолекторий
ORGANIZER;CN="%D0%9E%D1%82%D0%B4%D0%B5%D0%BB %D0%B1%D0%B8%D0%B1%D0%BB%D0%B8%D0%BE%D1%82%D0%B5%D1%87%D0%BD%D0%BE%D0%B3%D0%BE %D0%BC%D0%B0%D1%80%D0%BA%D0%B5%D1%82%D0%B8%D0%BD%D0%B3%D0%B0 %D0%B8 %D0%BA%D1%83%D0%BB%D1%8C%D1%82%D1%83%D1%80%D0%BD%D0%BE-%D0%B4%D0%BE%D1%81%D1%83%D0%B3%D0%BE%D0%B2%D0%BE%D0%B9 %D0%B4%D0%B5%D1%8F%D1%82%D0%B5%D0%BB%D1%8C%D0%BD%D0%BE%D1%81%D1%82%D0%B8":MAILTO:o_dosugd@mbstver.ru
END:VEVENT
BEGIN:VEVENT
DTSTART;TZID=Europe/Moscow:20250202T133000
DTEND;TZID=Europe/Moscow:20250202T143000
DTSTAMP:20260425T024910
CREATED:20250121T123008Z
LAST-MODIFIED:20250121T123008Z
UID:60284-1738503000-1738506600@mbstver.ru
SUMMARY:«Зимние виды спорта» познавательный час / Детская библиотека им. Виталия Бианки
DESCRIPTION:/к Всероссийскому дню зимних видов спорта — 7 февраля/
URL:https://mbstver.ru/event/zimnie-vidy-sporta-poznavatelnyj-chas-detskaya-biblioteka-im-vitaliya-bianki-2/
LOCATION:Детская библиотека им. Виталия Бианки\, ул. Богданова\, д. 22\, корп. 1\, Тверь\, Российская Федерация
CATEGORIES:Познавательный час
ORGANIZER;CN="%D0%94%D0%B5%D1%82%D1%81%D0%BA%D0%B0%D1%8F %D0%B1%D0%B8%D0%B1%D0%BB%D0%B8%D0%BE%D1%82%D0%B5%D0%BA%D0%B0 %D0%B8%D0%BC. %D0%92%D0%B8%D1%82%D0%B0%D0%BB%D0%B8%D1%8F %D0%91%D0%B8%D0%B0%D0%BD%D0%BA%D0%B8":MAILTO:library_f29@mbstver.ru
END:VEVENT
END:VCALENDAR