BEGIN:VCALENDAR
VERSION:2.0
PRODID:-//Муниципальная библиотечная система города Твери - ECPv6.11.2.1//NONSGML v1.0//EN
CALSCALE:GREGORIAN
METHOD:PUBLISH
X-ORIGINAL-URL:https://mbstver.ru
X-WR-CALDESC:Мероприятия для Муниципальная библиотечная система города Твери
REFRESH-INTERVAL;VALUE=DURATION:PT1H
X-Robots-Tag:noindex
X-PUBLISHED-TTL:PT1H
BEGIN:VTIMEZONE
TZID:Europe/Moscow
BEGIN:STANDARD
TZOFFSETFROM:+0300
TZOFFSETTO:+0300
TZNAME:MSK
DTSTART:20250101T000000
END:STANDARD
END:VTIMEZONE
BEGIN:VEVENT
DTSTART;VALUE=DATE:20250114
DTEND;VALUE=DATE:20250205
DTSTAMP:20260425T061025
CREATED:20250105T130734Z
LAST-MODIFIED:20250109T122511Z
UID:59819-1736812800-1738713599@mbstver.ru
SUMMARY:«Мир глазами художников» выставка работ арт-студии «Мастерская Идей» / Выставочный зал / с 14 января по 4 февраля
DESCRIPTION:
URL:https://mbstver.ru/event/mir-glazami-hudozhnikov-vystavka-rabot-art-studii-masterskaya-idej-vystavochnyj-zal-s-14-yanvarya-po-4-fevralya/
LOCATION:Выставочный зал\, Тверской пр-т\, д. 5\, Тверь\, Российская Федерация
CATEGORIES:Выставка
ORGANIZER;CN="%D0%9E%D1%82%D0%B4%D0%B5%D0%BB %D0%B1%D0%B8%D0%B1%D0%BB%D0%B8%D0%BE%D1%82%D0%B5%D1%87%D0%BD%D0%BE%D0%B3%D0%BE %D0%BC%D0%B0%D1%80%D0%BA%D0%B5%D1%82%D0%B8%D0%BD%D0%B3%D0%B0 %D0%B8 %D0%BA%D1%83%D0%BB%D1%8C%D1%82%D1%83%D1%80%D0%BD%D0%BE-%D0%B4%D0%BE%D1%81%D1%83%D0%B3%D0%BE%D0%B2%D0%BE%D0%B9 %D0%B4%D0%B5%D1%8F%D1%82%D0%B5%D0%BB%D1%8C%D0%BD%D0%BE%D1%81%D1%82%D0%B8":MAILTO:o_dosugd@mbstver.ru
END:VEVENT
BEGIN:VEVENT
DTSTART;VALUE=DATE:20250117
DTEND;VALUE=DATE:20250208
DTSTAMP:20260425T061025
CREATED:20241219T084308Z
LAST-MODIFIED:20241219T084308Z
UID:59518-1737072000-1738972799@mbstver.ru
SUMMARY:«Каждый может стать творцом» выставка керамических изделий гончарной школы «Колокол» / Холл Детского зала / с 17 января по 7 февраля
DESCRIPTION:
URL:https://mbstver.ru/event/kazhdyj-mozhet-stat-tvorczom-vystavka-keramicheskih-izdelij-goncharnoj-shkoly-kolokol-holl-detskogo-zala-s-17-yanvarya-po-7-fevralya/
LOCATION:Холл Детского зала\, Тверской пр-т\, д. 5\, Тверь\, Российская Федерация
CATEGORIES:Выставка
ORGANIZER;CN="%D0%9E%D1%82%D0%B4%D0%B5%D0%BB %D0%B1%D0%B8%D0%B1%D0%BB%D0%B8%D0%BE%D1%82%D0%B5%D1%87%D0%BD%D0%BE%D0%B3%D0%BE %D0%BC%D0%B0%D1%80%D0%BA%D0%B5%D1%82%D0%B8%D0%BD%D0%B3%D0%B0 %D0%B8 %D0%BA%D1%83%D0%BB%D1%8C%D1%82%D1%83%D1%80%D0%BD%D0%BE-%D0%B4%D0%BE%D1%81%D1%83%D0%B3%D0%BE%D0%B2%D0%BE%D0%B9 %D0%B4%D0%B5%D1%8F%D1%82%D0%B5%D0%BB%D1%8C%D0%BD%D0%BE%D1%81%D1%82%D0%B8":MAILTO:o_dosugd@mbstver.ru
END:VEVENT
BEGIN:VEVENT
DTSTART;TZID=Europe/Moscow:20250204T120000
DTEND;TZID=Europe/Moscow:20250204T130000
DTSTAMP:20260425T061025
CREATED:20250120T112358Z
LAST-MODIFIED:20250120T112358Z
UID:60161-1738670400-1738674000@mbstver.ru
SUMMARY:Обзорная экскурсия в Музее книги / Музей книги
DESCRIPTION:
URL:https://mbstver.ru/event/obzornaya-ekskursiya-v-muzee-knigi-muzej-knigi/
LOCATION:Музей книги\, Тверской пр-т\, д. 5\, Тверь\, Российская Федерация
CATEGORIES:Экскурсия
ORGANIZER;CN="%D0%9E%D1%82%D0%B4%D0%B5%D0%BB %D1%80%D0%B5%D0%B4%D0%BA%D0%BE%D0%B3%D0%BE %D1%84%D0%BE%D0%BD%D0%B4%D0%B0":MAILTO:orgfond-otd@mbstver.ru
END:VEVENT
BEGIN:VEVENT
DTSTART;TZID=Europe/Moscow:20250204T120000
DTEND;TZID=Europe/Moscow:20250204T130000
DTSTAMP:20260425T061025
CREATED:20250121T123738Z
LAST-MODIFIED:20250121T123738Z
UID:60286-1738670400-1738674000@mbstver.ru
SUMMARY:«Сталинград: 200 дней мужества» урок мужества / Библиотека семейного чтения им. Николая Гумилева
DESCRIPTION:/ко Дню воинской славы России — Дню разгрома советскими войсками немецко-фашистских войск в Сталинградской битве (1943) — 2 февраля/
URL:https://mbstver.ru/event/stalingrad-200-dnej-muzhestva-urok-muzhestva-biblioteka-semejnogo-chteniya-im-nikolaya-gumileva-2/
LOCATION:Библиотека семейного чтения им. Николая Гумилева\, пос. Литвинки\, д. МДК\, Тверь\, Российская Федерация
CATEGORIES:Урок мужества
ORGANIZER;CN="%D0%91%D0%B8%D0%B1%D0%BB%D0%B8%D0%BE%D1%82%D0%B5%D0%BA%D0%B0 %D1%81%D0%B5%D0%BC%D0%B5%D0%B9%D0%BD%D0%BE%D0%B3%D0%BE %D1%87%D1%82%D0%B5%D0%BD%D0%B8%D1%8F %D0%B8%D0%BC. %D0%9D%D0%B8%D0%BA%D0%BE%D0%BB%D0%B0%D1%8F %D0%93%D1%83%D0%BC%D0%B8%D0%BB%D0%B5%D0%B2%D0%B0":MAILTO:litvinki36@yandex.ru
END:VEVENT
BEGIN:VEVENT
DTSTART;TZID=Europe/Moscow:20250204T170000
DTEND;TZID=Europe/Moscow:20250204T190000
DTSTAMP:20260425T061025
CREATED:20250120T113334Z
LAST-MODIFIED:20250120T113334Z
UID:60173-1738688400-1738695600@mbstver.ru
SUMMARY:«Тверской клуб краеведов» заседание  / Горница
DESCRIPTION:
URL:https://mbstver.ru/event/tverskoj-klub-kraevedov-zasedanie-gornicza-18/
LOCATION:Горница\, Тверской пр-т\, д. 5\, Тверь\, Российская Федерация
CATEGORIES:Заседание
ORGANIZER;CN="%D0%9E%D1%82%D0%B4%D0%B5%D0%BB %D0%B1%D0%B8%D0%B1%D0%BB%D0%B8%D0%BE%D1%82%D0%B5%D1%87%D0%BD%D0%BE%D0%B3%D0%BE %D0%BC%D0%B0%D1%80%D0%BA%D0%B5%D1%82%D0%B8%D0%BD%D0%B3%D0%B0 %D0%B8 %D0%BA%D1%83%D0%BB%D1%8C%D1%82%D1%83%D1%80%D0%BD%D0%BE-%D0%B4%D0%BE%D1%81%D1%83%D0%B3%D0%BE%D0%B2%D0%BE%D0%B9 %D0%B4%D0%B5%D1%8F%D1%82%D0%B5%D0%BB%D1%8C%D0%BD%D0%BE%D1%81%D1%82%D0%B8":MAILTO:o_dosugd@mbstver.ru
END:VEVENT
END:VCALENDAR