BEGIN:VCALENDAR
VERSION:2.0
PRODID:-//Муниципальная библиотечная система города Твери - ECPv6.11.2.1//NONSGML v1.0//EN
CALSCALE:GREGORIAN
METHOD:PUBLISH
X-ORIGINAL-URL:https://mbstver.ru
X-WR-CALDESC:Мероприятия для Муниципальная библиотечная система города Твери
REFRESH-INTERVAL;VALUE=DURATION:PT1H
X-Robots-Tag:noindex
X-PUBLISHED-TTL:PT1H
BEGIN:VTIMEZONE
TZID:Europe/Moscow
BEGIN:STANDARD
TZOFFSETFROM:+0300
TZOFFSETTO:+0300
TZNAME:MSK
DTSTART:20250101T000000
END:STANDARD
END:VTIMEZONE
BEGIN:VEVENT
DTSTART;VALUE=DATE:20250205
DTEND;VALUE=DATE:20250227
DTSTAMP:20260425T132428
CREATED:20250204T070810Z
LAST-MODIFIED:20250204T070810Z
UID:60627-1738713600-1740614399@mbstver.ru
SUMMARY:«АРТ-КАБИНЕТ» выставка живописи Маргариты Прошаковой и Анны Дробот / Выставочный зал / с 5 по 26 февраля
DESCRIPTION:
URL:https://mbstver.ru/event/art-kabinet-vystavka-zhivopisi-margarity-proshakovoj-i-anny-drobot-vystavochnyj-zal-s-5-po-26-fevralya/
LOCATION:Выставочный зал\, Тверской пр-т\, д. 5\, Тверь\, Российская Федерация
CATEGORIES:Выставка живописи
ORGANIZER;CN="%D0%9E%D1%82%D0%B4%D0%B5%D0%BB %D0%B1%D0%B8%D0%B1%D0%BB%D0%B8%D0%BE%D1%82%D0%B5%D1%87%D0%BD%D0%BE%D0%B3%D0%BE %D0%BC%D0%B0%D1%80%D0%BA%D0%B5%D1%82%D0%B8%D0%BD%D0%B3%D0%B0 %D0%B8 %D0%BA%D1%83%D0%BB%D1%8C%D1%82%D1%83%D1%80%D0%BD%D0%BE-%D0%B4%D0%BE%D1%81%D1%83%D0%B3%D0%BE%D0%B2%D0%BE%D0%B9 %D0%B4%D0%B5%D1%8F%D1%82%D0%B5%D0%BB%D1%8C%D0%BD%D0%BE%D1%81%D1%82%D0%B8":MAILTO:o_dosugd@mbstver.ru
END:VEVENT
BEGIN:VEVENT
DTSTART;VALUE=DATE:20250208
DTEND;VALUE=DATE:20250302
DTSTAMP:20260425T132428
CREATED:20250129T110235Z
LAST-MODIFIED:20250129T110235Z
UID:60518-1738972800-1740873599@mbstver.ru
SUMMARY:«Филумения. Зеркало эпохи» выставка советских спичечных этикеток 50-60-х годов XX в. из коллекции Елены Гутниковой / Холл Детского зала / с 8 февраля по 1 марта
DESCRIPTION:
URL:https://mbstver.ru/event/filumeniya-zerkalo-epohi-vystavka-sovetskih-spichechnyh-etiketok-50-60-h-godov-xx-v-iz-kollekczii-eleny-gutnikovoj-holl-detskogo-zala-s-8-fevralya-po-1-marta/
LOCATION:Холл Детского зала\, Тверской пр-т\, д. 5\, Тверь\, Российская Федерация
CATEGORIES:Выставка
ORGANIZER;CN="%D0%9E%D1%82%D0%B4%D0%B5%D0%BB %D0%B1%D0%B8%D0%B1%D0%BB%D0%B8%D0%BE%D1%82%D0%B5%D1%87%D0%BD%D0%BE%D0%B3%D0%BE %D0%BC%D0%B0%D1%80%D0%BA%D0%B5%D1%82%D0%B8%D0%BD%D0%B3%D0%B0 %D0%B8 %D0%BA%D1%83%D0%BB%D1%8C%D1%82%D1%83%D1%80%D0%BD%D0%BE-%D0%B4%D0%BE%D1%81%D1%83%D0%B3%D0%BE%D0%B2%D0%BE%D0%B9 %D0%B4%D0%B5%D1%8F%D1%82%D0%B5%D0%BB%D1%8C%D0%BD%D0%BE%D1%81%D1%82%D0%B8":MAILTO:o_dosugd@mbstver.ru
END:VEVENT
BEGIN:VEVENT
DTSTART;TZID=Europe/Moscow:20250208T120000
DTEND;TZID=Europe/Moscow:20250208T130000
DTSTAMP:20260425T132428
CREATED:20250120T113740Z
LAST-MODIFIED:20250120T113740Z
UID:60182-1739016000-1739019600@mbstver.ru
SUMMARY:«Подсказки в кармашек» викторина по этикету / Детский зал
DESCRIPTION:
URL:https://mbstver.ru/event/podskazki-v-karmashek-viktorina-po-etiketu-detskij-zal/
LOCATION:Детский зал\, Тверской пр-т\, д. 5\, Тверь\, Российская Федерация
CATEGORIES:Викторина
ORGANIZER;CN="%D0%9E%D1%82%D0%B4%D0%B5%D0%BB %D0%BE%D0%B1%D1%81%D0%BB%D1%83%D0%B6%D0%B8%D0%B2%D0%B0%D0%BD%D0%B8%D1%8F %D0%B4%D0%B5%D1%82%D0%B5%D0%B9":MAILTO:detsky-otd@mbstver.ru
END:VEVENT
BEGIN:VEVENT
DTSTART;TZID=Europe/Moscow:20250208T120000
DTEND;TZID=Europe/Moscow:20250208T130000
DTSTAMP:20260425T132428
CREATED:20250121T124214Z
LAST-MODIFIED:20250121T124214Z
UID:60290-1739016000-1739019600@mbstver.ru
SUMMARY:«Золотая рыбка» мастер-класс / Библиотека семейного чтения на Горбатке
DESCRIPTION:/ко Дню памяти А.С. Пушкина — 10 февраля/
URL:https://mbstver.ru/event/zolotaya-rybka-master-klass-biblioteka-semejnogo-chteniya-na-gorbatke/
LOCATION:Библиотека семейного чтения на Горбатке\, Петербургское ш.\, д. 69\, Тверь\, Российская Федерация
CATEGORIES:Мастер-класс
ORGANIZER;CN="%D0%91%D0%B8%D0%B1%D0%BB%D0%B8%D0%BE%D1%82%D0%B5%D0%BA%D0%B0 %D1%81%D0%B5%D0%BC%D0%B5%D0%B9%D0%BD%D0%BE%D0%B3%D0%BE %D1%87%D1%82%D0%B5%D0%BD%D0%B8%D1%8F %D0%BD%D0%B0 %D0%93%D0%BE%D1%80%D0%B1%D0%B0%D1%82%D0%BA%D0%B5":MAILTO:mbsfil12@yandex.ru
END:VEVENT
BEGIN:VEVENT
DTSTART;TZID=Europe/Moscow:20250208T130000
DTEND;TZID=Europe/Moscow:20250208T140000
DTSTAMP:20260425T132428
CREATED:20250121T124343Z
LAST-MODIFIED:20250121T124343Z
UID:60292-1739019600-1739023200@mbstver.ru
SUMMARY:«Три девицы под окном...» литературная игра / Детская библиотека им. Афанасия Никитина
DESCRIPTION:/ко Дню памяти А.С. Пушкина — 10 февраля/
URL:https://mbstver.ru/event/tri-deviczy-pod-oknom-literaturnaya-igra-detskaya-biblioteka-im-afanasiya-nikitina/
LOCATION:Детская библиотека им. Афанасия Никитина\, наб. А. Никитина\, д. 54\, Тверь\, Российская Федерация
CATEGORIES:Литературная игра
ORGANIZER;CN="%D0%94%D0%B5%D1%82%D1%81%D0%BA%D0%B0%D1%8F %D0%B1%D0%B8%D0%B1%D0%BB%D0%B8%D0%BE%D1%82%D0%B5%D0%BA%D0%B0 %D0%B8%D0%BC. %D0%90%D1%84%D0%B0%D0%BD%D0%B0%D1%81%D0%B8%D1%8F %D0%9D%D0%B8%D0%BA%D0%B8%D1%82%D0%B8%D0%BD%D0%B0":MAILTO:library_f18@mbstver.ru
END:VEVENT
BEGIN:VEVENT
DTSTART;TZID=Europe/Moscow:20250208T133000
DTEND;TZID=Europe/Moscow:20250208T143000
DTSTAMP:20260425T132428
CREATED:20250121T124455Z
LAST-MODIFIED:20250121T124455Z
UID:60294-1739021400-1739025000@mbstver.ru
SUMMARY:«На лесной полянке со сказками Бианки» беседа / Детская библиотека им. Виталия Бианки
DESCRIPTION:
URL:https://mbstver.ru/event/na-lesnoj-polyanke-so-skazkami-bianki-beseda-detskaya-biblioteka-im-vitaliya-bianki/
LOCATION:Детская библиотека им. Виталия Бианки\, ул. Богданова\, д. 22\, корп. 1\, Тверь\, Российская Федерация
CATEGORIES:Беседа
ORGANIZER;CN="%D0%94%D0%B5%D1%82%D1%81%D0%BA%D0%B0%D1%8F %D0%B1%D0%B8%D0%B1%D0%BB%D0%B8%D0%BE%D1%82%D0%B5%D0%BA%D0%B0 %D0%B8%D0%BC. %D0%92%D0%B8%D1%82%D0%B0%D0%BB%D0%B8%D1%8F %D0%91%D0%B8%D0%B0%D0%BD%D0%BA%D0%B8":MAILTO:library_f29@mbstver.ru
END:VEVENT
BEGIN:VEVENT
DTSTART;TZID=Europe/Moscow:20250208T140000
DTEND;TZID=Europe/Moscow:20250208T150000
DTSTAMP:20260425T132428
CREATED:20250120T113841Z
LAST-MODIFIED:20250120T113841Z
UID:60184-1739023200-1739026800@mbstver.ru
SUMMARY:«Европейский романтизм» лекция в рамках лектория «Буря и натиск» / Музей книги
DESCRIPTION:
URL:https://mbstver.ru/event/evropejskij-romantizm-lekcziya-v-ramkah-lektoriya-burya-i-natisk-muzej-knigi/
LOCATION:Музей книги\, Тверской пр-т\, д. 5\, Тверь\, Российская Федерация
CATEGORIES:Лекция
ORGANIZER;CN="%D0%9E%D1%82%D0%B4%D0%B5%D0%BB %D1%80%D0%B5%D0%B4%D0%BA%D0%BE%D0%B3%D0%BE %D1%84%D0%BE%D0%BD%D0%B4%D0%B0":MAILTO:orgfond-otd@mbstver.ru
END:VEVENT
BEGIN:VEVENT
DTSTART;TZID=Europe/Moscow:20250208T140000
DTEND;TZID=Europe/Moscow:20250208T150000
DTSTAMP:20260425T132428
CREATED:20250121T124613Z
LAST-MODIFIED:20250121T124613Z
UID:60296-1739023200-1739026800@mbstver.ru
SUMMARY:«В мире науки всё интересно» познавательная игра / Библиотека семейного чтения им. С.Д. Дрожжина
DESCRIPTION:/ко Дню российской науки — 8 февраля/
URL:https://mbstver.ru/event/v-mire-nauki-vsyo-interesno-poznavatelnaya-igra-biblioteka-semejnogo-chteniya-im-s-d-drozhzhina/
LOCATION:Библиотека семейного чтения им. С.Д. Дрожжина\, пр-т Чайковского\, д. 84\, Тверь\, Российская Федерация
CATEGORIES:Познавательная игра
ORGANIZER;CN="%D0%91%D0%B8%D0%B1%D0%BB%D0%B8%D0%BE%D1%82%D0%B5%D0%BA%D0%B0 %D1%81%D0%B5%D0%BC%D0%B5%D0%B9%D0%BD%D0%BE%D0%B3%D0%BE %D1%87%D1%82%D0%B5%D0%BD%D0%B8%D1%8F %D0%B8%D0%BC. %D0%A1.%D0%94. %D0%94%D1%80%D0%BE%D0%B6%D0%B6%D0%B8%D0%BD%D0%B0":MAILTO:vfilial5@yandex.ru
END:VEVENT
BEGIN:VEVENT
DTSTART;TZID=Europe/Moscow:20250208T140000
DTEND;TZID=Europe/Moscow:20250208T153000
DTSTAMP:20260425T132428
CREATED:20250120T113931Z
LAST-MODIFIED:20250120T113931Z
UID:60186-1739023200-1739028600@mbstver.ru
SUMMARY:«Служу Отечеству!» концерт ансамбля «Рассвет» /ко Дню защитника Отечества - 23 февраля/ Горница
DESCRIPTION:
URL:https://mbstver.ru/event/sluzhu-otechestvu-konczert-ansamblya-rassvet-ko-dnyu-zashhitnika-otechestva-23-fevralya-gornicza/
LOCATION:Горница\, Тверской пр-т\, д. 5\, Тверь\, Российская Федерация
CATEGORIES:Концерт
ORGANIZER;CN="%D0%9E%D1%82%D0%B4%D0%B5%D0%BB %D0%B1%D0%B8%D0%B1%D0%BB%D0%B8%D0%BE%D1%82%D0%B5%D1%87%D0%BD%D0%BE%D0%B3%D0%BE %D0%BC%D0%B0%D1%80%D0%BA%D0%B5%D1%82%D0%B8%D0%BD%D0%B3%D0%B0 %D0%B8 %D0%BA%D1%83%D0%BB%D1%8C%D1%82%D1%83%D1%80%D0%BD%D0%BE-%D0%B4%D0%BE%D1%81%D1%83%D0%B3%D0%BE%D0%B2%D0%BE%D0%B9 %D0%B4%D0%B5%D1%8F%D1%82%D0%B5%D0%BB%D1%8C%D0%BD%D0%BE%D1%81%D1%82%D0%B8":MAILTO:o_dosugd@mbstver.ru
END:VEVENT
BEGIN:VEVENT
DTSTART;TZID=Europe/Moscow:20250208T150000
DTEND;TZID=Europe/Moscow:20250208T160000
DTSTAMP:20260425T132428
CREATED:20250129T110400Z
LAST-MODIFIED:20250129T110400Z
UID:60520-1739026800-1739030400@mbstver.ru
SUMMARY:«Филумения. Зеркало эпохи» открытие выставки советских спичечных этикеток 50-60-х годов XX в. из коллекции Елены Гутниковой / Холл Детского зала
DESCRIPTION:
URL:https://mbstver.ru/event/filumeniya-zerkalo-epohi-otkrytie-vystavki-sovetskih-spichechnyh-etiketok-50-60-h-godov-xx-v-iz-kollekczii-eleny-gutnikovoj-holl-detskogo-zala/
LOCATION:Холл Детского зала\, Тверской пр-т\, д. 5\, Тверь\, Российская Федерация
CATEGORIES:Открытие выставки
ORGANIZER;CN="%D0%9E%D1%82%D0%B4%D0%B5%D0%BB %D0%B1%D0%B8%D0%B1%D0%BB%D0%B8%D0%BE%D1%82%D0%B5%D1%87%D0%BD%D0%BE%D0%B3%D0%BE %D0%BC%D0%B0%D1%80%D0%BA%D0%B5%D1%82%D0%B8%D0%BD%D0%B3%D0%B0 %D0%B8 %D0%BA%D1%83%D0%BB%D1%8C%D1%82%D1%83%D1%80%D0%BD%D0%BE-%D0%B4%D0%BE%D1%81%D1%83%D0%B3%D0%BE%D0%B2%D0%BE%D0%B9 %D0%B4%D0%B5%D1%8F%D1%82%D0%B5%D0%BB%D1%8C%D0%BD%D0%BE%D1%81%D1%82%D0%B8":MAILTO:o_dosugd@mbstver.ru
END:VEVENT
BEGIN:VEVENT
DTSTART;TZID=Europe/Moscow:20250208T160000
DTEND;TZID=Europe/Moscow:20250208T170000
DTSTAMP:20260425T132428
CREATED:20250204T074047Z
LAST-MODIFIED:20250204T074047Z
UID:60643-1739030400-1739034000@mbstver.ru
SUMMARY:«Пишущие неоромантики» творческая встреча
DESCRIPTION:
URL:https://mbstver.ru/event/pishushhie-neoromantiki-tvorcheskaya-vstrecha/
LOCATION:Музей книги\, Тверской пр-т\, д. 5\, Тверь\, Российская Федерация
CATEGORIES:Творческая встреча
ORGANIZER;CN="%D0%9E%D1%82%D0%B4%D0%B5%D0%BB %D1%80%D0%B5%D0%B4%D0%BA%D0%BE%D0%B3%D0%BE %D1%84%D0%BE%D0%BD%D0%B4%D0%B0":MAILTO:orgfond-otd@mbstver.ru
END:VEVENT
BEGIN:VEVENT
DTSTART;TZID=Europe/Moscow:20250208T160000
DTEND;TZID=Europe/Moscow:20250208T180000
DTSTAMP:20260425T132428
CREATED:20250120T114109Z
LAST-MODIFIED:20250120T114109Z
UID:60189-1739030400-1739037600@mbstver.ru
SUMMARY:«Женщина в золотом» кинолекторий в клубе «Диалог» /реж. Саймон Кёртис\, Великобритания\, 2015/ Конференц-зал
DESCRIPTION:
URL:https://mbstver.ru/event/zhenshhina-v-zolotom-kinolektorij-v-klube-dialog-rezh-sajmon-kyortis-velikobritaniya-2015-konferencz-zal/
LOCATION:Конференц-зал\, Тверской пр-т\, д. 5\, Тверь\, Российская Федерация
CATEGORIES:Кинолекторий
ORGANIZER;CN="%D0%9E%D1%82%D0%B4%D0%B5%D0%BB %D0%B1%D0%B8%D0%B1%D0%BB%D0%B8%D0%BE%D1%82%D0%B5%D1%87%D0%BD%D0%BE%D0%B3%D0%BE %D0%BC%D0%B0%D1%80%D0%BA%D0%B5%D1%82%D0%B8%D0%BD%D0%B3%D0%B0 %D0%B8 %D0%BA%D1%83%D0%BB%D1%8C%D1%82%D1%83%D1%80%D0%BD%D0%BE-%D0%B4%D0%BE%D1%81%D1%83%D0%B3%D0%BE%D0%B2%D0%BE%D0%B9 %D0%B4%D0%B5%D1%8F%D1%82%D0%B5%D0%BB%D1%8C%D0%BD%D0%BE%D1%81%D1%82%D0%B8":MAILTO:o_dosugd@mbstver.ru
END:VEVENT
END:VCALENDAR