BEGIN:VCALENDAR
VERSION:2.0
PRODID:-//Муниципальная библиотечная система города Твери - ECPv6.11.2.1//NONSGML v1.0//EN
CALSCALE:GREGORIAN
METHOD:PUBLISH
X-ORIGINAL-URL:https://mbstver.ru
X-WR-CALDESC:Мероприятия для Муниципальная библиотечная система города Твери
REFRESH-INTERVAL;VALUE=DURATION:PT1H
X-Robots-Tag:noindex
X-PUBLISHED-TTL:PT1H
BEGIN:VTIMEZONE
TZID:Europe/Moscow
BEGIN:STANDARD
TZOFFSETFROM:+0300
TZOFFSETTO:+0300
TZNAME:MSK
DTSTART:20250101T000000
END:STANDARD
END:VTIMEZONE
BEGIN:VEVENT
DTSTART;VALUE=DATE:20250205
DTEND;VALUE=DATE:20250227
DTSTAMP:20260425T185451
CREATED:20250204T070810Z
LAST-MODIFIED:20250204T070810Z
UID:60627-1738713600-1740614399@mbstver.ru
SUMMARY:«АРТ-КАБИНЕТ» выставка живописи Маргариты Прошаковой и Анны Дробот / Выставочный зал / с 5 по 26 февраля
DESCRIPTION:
URL:https://mbstver.ru/event/art-kabinet-vystavka-zhivopisi-margarity-proshakovoj-i-anny-drobot-vystavochnyj-zal-s-5-po-26-fevralya/
LOCATION:Выставочный зал\, Тверской пр-т\, д. 5\, Тверь\, Российская Федерация
CATEGORIES:Выставка живописи
ORGANIZER;CN="%D0%9E%D1%82%D0%B4%D0%B5%D0%BB %D0%B1%D0%B8%D0%B1%D0%BB%D0%B8%D0%BE%D1%82%D0%B5%D1%87%D0%BD%D0%BE%D0%B3%D0%BE %D0%BC%D0%B0%D1%80%D0%BA%D0%B5%D1%82%D0%B8%D0%BD%D0%B3%D0%B0 %D0%B8 %D0%BA%D1%83%D0%BB%D1%8C%D1%82%D1%83%D1%80%D0%BD%D0%BE-%D0%B4%D0%BE%D1%81%D1%83%D0%B3%D0%BE%D0%B2%D0%BE%D0%B9 %D0%B4%D0%B5%D1%8F%D1%82%D0%B5%D0%BB%D1%8C%D0%BD%D0%BE%D1%81%D1%82%D0%B8":MAILTO:o_dosugd@mbstver.ru
END:VEVENT
BEGIN:VEVENT
DTSTART;VALUE=DATE:20250208
DTEND;VALUE=DATE:20250302
DTSTAMP:20260425T185451
CREATED:20250129T110235Z
LAST-MODIFIED:20250129T110235Z
UID:60518-1738972800-1740873599@mbstver.ru
SUMMARY:«Филумения. Зеркало эпохи» выставка советских спичечных этикеток 50-60-х годов XX в. из коллекции Елены Гутниковой / Холл Детского зала / с 8 февраля по 1 марта
DESCRIPTION:
URL:https://mbstver.ru/event/filumeniya-zerkalo-epohi-vystavka-sovetskih-spichechnyh-etiketok-50-60-h-godov-xx-v-iz-kollekczii-eleny-gutnikovoj-holl-detskogo-zala-s-8-fevralya-po-1-marta/
LOCATION:Холл Детского зала\, Тверской пр-т\, д. 5\, Тверь\, Российская Федерация
CATEGORIES:Выставка
ORGANIZER;CN="%D0%9E%D1%82%D0%B4%D0%B5%D0%BB %D0%B1%D0%B8%D0%B1%D0%BB%D0%B8%D0%BE%D1%82%D0%B5%D1%87%D0%BD%D0%BE%D0%B3%D0%BE %D0%BC%D0%B0%D1%80%D0%BA%D0%B5%D1%82%D0%B8%D0%BD%D0%B3%D0%B0 %D0%B8 %D0%BA%D1%83%D0%BB%D1%8C%D1%82%D1%83%D1%80%D0%BD%D0%BE-%D0%B4%D0%BE%D1%81%D1%83%D0%B3%D0%BE%D0%B2%D0%BE%D0%B9 %D0%B4%D0%B5%D1%8F%D1%82%D0%B5%D0%BB%D1%8C%D0%BD%D0%BE%D1%81%D1%82%D0%B8":MAILTO:o_dosugd@mbstver.ru
END:VEVENT
BEGIN:VEVENT
DTSTART;TZID=Europe/Moscow:20250211T120000
DTEND;TZID=Europe/Moscow:20250211T130000
DTSTAMP:20260425T185451
CREATED:20250121T072840Z
LAST-MODIFIED:20250121T072840Z
UID:60205-1739275200-1739278800@mbstver.ru
SUMMARY:Обзорная экскурсия / Музей книги
DESCRIPTION:
URL:https://mbstver.ru/event/obzornaya-ekskursiya-muzej-knigi/
LOCATION:Музей книги\, Тверской пр-т\, д. 5\, Тверь\, Российская Федерация
CATEGORIES:Экскурсия
ORGANIZER;CN="%D0%9E%D1%82%D0%B4%D0%B5%D0%BB %D1%80%D0%B5%D0%B4%D0%BA%D0%BE%D0%B3%D0%BE %D1%84%D0%BE%D0%BD%D0%B4%D0%B0":MAILTO:orgfond-otd@mbstver.ru
END:VEVENT
BEGIN:VEVENT
DTSTART;TZID=Europe/Moscow:20250211T120000
DTEND;TZID=Europe/Moscow:20250211T130000
DTSTAMP:20260425T185451
CREATED:20250121T124741Z
LAST-MODIFIED:20250121T124741Z
UID:60298-1739275200-1739278800@mbstver.ru
SUMMARY:«Путешествие по Лукоморью» литературная игра / Библиотека семейного чтения им. Николая Гумилева
DESCRIPTION:/ко Дню памяти А.С. Пушкина — 10 февраля/
URL:https://mbstver.ru/event/puteshestvie-po-lukomoryu-literaturnaya-igra-biblioteka-semejnogo-chteniya-im-nikolaya-gumileva-2/
LOCATION:Библиотека семейного чтения им. Николая Гумилева\, пос. Литвинки\, д. МДК\, Тверь\, Российская Федерация
CATEGORIES:Литературная игра
ORGANIZER;CN="%D0%91%D0%B8%D0%B1%D0%BB%D0%B8%D0%BE%D1%82%D0%B5%D0%BA%D0%B0 %D1%81%D0%B5%D0%BC%D0%B5%D0%B9%D0%BD%D0%BE%D0%B3%D0%BE %D1%87%D1%82%D0%B5%D0%BD%D0%B8%D1%8F %D0%B8%D0%BC. %D0%9D%D0%B8%D0%BA%D0%BE%D0%BB%D0%B0%D1%8F %D0%93%D1%83%D0%BC%D0%B8%D0%BB%D0%B5%D0%B2%D0%B0":MAILTO:litvinki36@yandex.ru
END:VEVENT
BEGIN:VEVENT
DTSTART;TZID=Europe/Moscow:20250211T173000
DTEND;TZID=Europe/Moscow:20250211T193000
DTSTAMP:20260425T185451
CREATED:20250121T073018Z
LAST-MODIFIED:20250121T073018Z
UID:60207-1739295000-1739302200@mbstver.ru
SUMMARY:Поэтический клуб «Роса» заседание / Горница
DESCRIPTION:
URL:https://mbstver.ru/event/poeticheskij-klub-rosa-zasedanie-gornicza-15/
LOCATION:Горница\, Тверской пр-т\, д. 5\, Тверь\, Российская Федерация
CATEGORIES:Заседание
ORGANIZER;CN="%D0%9E%D1%82%D0%B4%D0%B5%D0%BB %D0%B1%D0%B8%D0%B1%D0%BB%D0%B8%D0%BE%D1%82%D0%B5%D1%87%D0%BD%D0%BE%D0%B3%D0%BE %D0%BC%D0%B0%D1%80%D0%BA%D0%B5%D1%82%D0%B8%D0%BD%D0%B3%D0%B0 %D0%B8 %D0%BA%D1%83%D0%BB%D1%8C%D1%82%D1%83%D1%80%D0%BD%D0%BE-%D0%B4%D0%BE%D1%81%D1%83%D0%B3%D0%BE%D0%B2%D0%BE%D0%B9 %D0%B4%D0%B5%D1%8F%D1%82%D0%B5%D0%BB%D1%8C%D0%BD%D0%BE%D1%81%D1%82%D0%B8":MAILTO:o_dosugd@mbstver.ru
END:VEVENT
END:VCALENDAR