BEGIN:VCALENDAR
VERSION:2.0
PRODID:-//Муниципальная библиотечная система города Твери - ECPv6.11.2.1//NONSGML v1.0//EN
CALSCALE:GREGORIAN
METHOD:PUBLISH
X-WR-CALNAME:Муниципальная библиотечная система города Твери
X-ORIGINAL-URL:https://mbstver.ru
X-WR-CALDESC:Мероприятия для Муниципальная библиотечная система города Твери
REFRESH-INTERVAL;VALUE=DURATION:PT1H
X-Robots-Tag:noindex
X-PUBLISHED-TTL:PT1H
BEGIN:VTIMEZONE
TZID:Europe/Moscow
BEGIN:STANDARD
TZOFFSETFROM:+0300
TZOFFSETTO:+0300
TZNAME:MSK
DTSTART:20250101T000000
END:STANDARD
END:VTIMEZONE
BEGIN:VEVENT
DTSTART;VALUE=DATE:20250205
DTEND;VALUE=DATE:20250227
DTSTAMP:20260425T222640
CREATED:20250204T070810Z
LAST-MODIFIED:20250204T070810Z
UID:60627-1738713600-1740614399@mbstver.ru
SUMMARY:«АРТ-КАБИНЕТ» выставка живописи Маргариты Прошаковой и Анны Дробот / Выставочный зал / с 5 по 26 февраля
DESCRIPTION:
URL:https://mbstver.ru/event/art-kabinet-vystavka-zhivopisi-margarity-proshakovoj-i-anny-drobot-vystavochnyj-zal-s-5-po-26-fevralya/
LOCATION:Выставочный зал\, Тверской пр-т\, д. 5\, Тверь\, Российская Федерация
CATEGORIES:Выставка живописи
ORGANIZER;CN="%D0%9E%D1%82%D0%B4%D0%B5%D0%BB %D0%B1%D0%B8%D0%B1%D0%BB%D0%B8%D0%BE%D1%82%D0%B5%D1%87%D0%BD%D0%BE%D0%B3%D0%BE %D0%BC%D0%B0%D1%80%D0%BA%D0%B5%D1%82%D0%B8%D0%BD%D0%B3%D0%B0 %D0%B8 %D0%BA%D1%83%D0%BB%D1%8C%D1%82%D1%83%D1%80%D0%BD%D0%BE-%D0%B4%D0%BE%D1%81%D1%83%D0%B3%D0%BE%D0%B2%D0%BE%D0%B9 %D0%B4%D0%B5%D1%8F%D1%82%D0%B5%D0%BB%D1%8C%D0%BD%D0%BE%D1%81%D1%82%D0%B8":MAILTO:o_dosugd@mbstver.ru
END:VEVENT
BEGIN:VEVENT
DTSTART;VALUE=DATE:20250208
DTEND;VALUE=DATE:20250302
DTSTAMP:20260425T222640
CREATED:20250129T110235Z
LAST-MODIFIED:20250129T110235Z
UID:60518-1738972800-1740873599@mbstver.ru
SUMMARY:«Филумения. Зеркало эпохи» выставка советских спичечных этикеток 50-60-х годов XX в. из коллекции Елены Гутниковой / Холл Детского зала / с 8 февраля по 1 марта
DESCRIPTION:
URL:https://mbstver.ru/event/filumeniya-zerkalo-epohi-vystavka-sovetskih-spichechnyh-etiketok-50-60-h-godov-xx-v-iz-kollekczii-eleny-gutnikovoj-holl-detskogo-zala-s-8-fevralya-po-1-marta/
LOCATION:Холл Детского зала\, Тверской пр-т\, д. 5\, Тверь\, Российская Федерация
CATEGORIES:Выставка
ORGANIZER;CN="%D0%9E%D1%82%D0%B4%D0%B5%D0%BB %D0%B1%D0%B8%D0%B1%D0%BB%D0%B8%D0%BE%D1%82%D0%B5%D1%87%D0%BD%D0%BE%D0%B3%D0%BE %D0%BC%D0%B0%D1%80%D0%BA%D0%B5%D1%82%D0%B8%D0%BD%D0%B3%D0%B0 %D0%B8 %D0%BA%D1%83%D0%BB%D1%8C%D1%82%D1%83%D1%80%D0%BD%D0%BE-%D0%B4%D0%BE%D1%81%D1%83%D0%B3%D0%BE%D0%B2%D0%BE%D0%B9 %D0%B4%D0%B5%D1%8F%D1%82%D0%B5%D0%BB%D1%8C%D0%BD%D0%BE%D1%81%D1%82%D0%B8":MAILTO:o_dosugd@mbstver.ru
END:VEVENT
BEGIN:VEVENT
DTSTART;TZID=Europe/Moscow:20250213T120000
DTEND;TZID=Europe/Moscow:20250213T130000
DTSTAMP:20260425T222640
CREATED:20250121T073511Z
LAST-MODIFIED:20250121T073511Z
UID:60213-1739448000-1739451600@mbstver.ru
SUMMARY:Обзорная экскурсия / Музей книги
DESCRIPTION:
URL:https://mbstver.ru/event/obzornaya-ekskursiya-muzej-knigi-2/
LOCATION:Музей книги\, Тверской пр-т\, д. 5\, Тверь\, Российская Федерация
CATEGORIES:Экскурсия
ORGANIZER;CN="%D0%9E%D1%82%D0%B4%D0%B5%D0%BB %D1%80%D0%B5%D0%B4%D0%BA%D0%BE%D0%B3%D0%BE %D1%84%D0%BE%D0%BD%D0%B4%D0%B0":MAILTO:orgfond-otd@mbstver.ru
END:VEVENT
BEGIN:VEVENT
DTSTART;TZID=Europe/Moscow:20250213T170000
DTEND;TZID=Europe/Moscow:20250213T180000
DTSTAMP:20260425T222640
CREATED:20250121T073616Z
LAST-MODIFIED:20250121T073616Z
UID:60215-1739466000-1739469600@mbstver.ru
SUMMARY:«Когнифит» психологический тренинг в рамках программы «Серебряный возраст» / Михайловский зал
DESCRIPTION:
URL:https://mbstver.ru/event/kognifit-psihologicheskij-trening-v-ramkah-programmy-serebryanyj-vozrast-mihajlovskij-zal/
LOCATION:Михайловский зал\, Тверской пр-т\, д. 5\, Тверь\, Российская Федерация
CATEGORIES:Психологический тренинг
ORGANIZER;CN="%D0%9E%D1%82%D0%B4%D0%B5%D0%BB %D0%BE%D0%B1%D1%81%D0%BB%D1%83%D0%B6%D0%B8%D0%B2%D0%B0%D0%BD%D0%B8%D1%8F %D0%B8 %D0%BA%D0%BD%D0%B8%D0%B3%D0%BE%D1%85%D1%80%D0%B0%D0%BD%D0%B5%D0%BD%D0%B8%D1%8F":MAILTO:otd-obsl@mbstver.ru
END:VEVENT
BEGIN:VEVENT
DTSTART;TZID=Europe/Moscow:20250213T180000
DTEND;TZID=Europe/Moscow:20250213T190000
DTSTAMP:20260425T222640
CREATED:20250204T071356Z
LAST-MODIFIED:20250204T071356Z
UID:60631-1739469600-1739473200@mbstver.ru
SUMMARY:«Владислав Ходасевич: замолчавший на вершине» поэтическая гостиная
DESCRIPTION:
URL:https://mbstver.ru/event/vladislav-hodasevich-zamolchavshij-na-vershine-poeticheskaya-gostinaya/
LOCATION:Михайловский зал\, Тверской пр-т\, д. 5\, Тверь\, Российская Федерация
CATEGORIES:Поэтическая гостиная
ORGANIZER;CN="%D0%9E%D1%82%D0%B4%D0%B5%D0%BB %D0%BE%D0%B1%D1%81%D0%BB%D1%83%D0%B6%D0%B8%D0%B2%D0%B0%D0%BD%D0%B8%D1%8F %D0%B8 %D0%BA%D0%BD%D0%B8%D0%B3%D0%BE%D1%85%D1%80%D0%B0%D0%BD%D0%B5%D0%BD%D0%B8%D1%8F":MAILTO:otd-obsl@mbstver.ru
END:VEVENT
END:VCALENDAR