BEGIN:VCALENDAR
VERSION:2.0
PRODID:-//Муниципальная библиотечная система города Твери - ECPv6.11.2.1//NONSGML v1.0//EN
CALSCALE:GREGORIAN
METHOD:PUBLISH
X-ORIGINAL-URL:https://mbstver.ru
X-WR-CALDESC:Мероприятия для Муниципальная библиотечная система города Твери
REFRESH-INTERVAL;VALUE=DURATION:PT1H
X-Robots-Tag:noindex
X-PUBLISHED-TTL:PT1H
BEGIN:VTIMEZONE
TZID:Europe/Moscow
BEGIN:STANDARD
TZOFFSETFROM:+0300
TZOFFSETTO:+0300
TZNAME:MSK
DTSTART:20250101T000000
END:STANDARD
END:VTIMEZONE
BEGIN:VEVENT
DTSTART;VALUE=DATE:20250205
DTEND;VALUE=DATE:20250227
DTSTAMP:20260426T002438
CREATED:20250204T070810Z
LAST-MODIFIED:20250204T070810Z
UID:60627-1738713600-1740614399@mbstver.ru
SUMMARY:«АРТ-КАБИНЕТ» выставка живописи Маргариты Прошаковой и Анны Дробот / Выставочный зал / с 5 по 26 февраля
DESCRIPTION:
URL:https://mbstver.ru/event/art-kabinet-vystavka-zhivopisi-margarity-proshakovoj-i-anny-drobot-vystavochnyj-zal-s-5-po-26-fevralya/
LOCATION:Выставочный зал\, Тверской пр-т\, д. 5\, Тверь\, Российская Федерация
CATEGORIES:Выставка живописи
ORGANIZER;CN="%D0%9E%D1%82%D0%B4%D0%B5%D0%BB %D0%B1%D0%B8%D0%B1%D0%BB%D0%B8%D0%BE%D1%82%D0%B5%D1%87%D0%BD%D0%BE%D0%B3%D0%BE %D0%BC%D0%B0%D1%80%D0%BA%D0%B5%D1%82%D0%B8%D0%BD%D0%B3%D0%B0 %D0%B8 %D0%BA%D1%83%D0%BB%D1%8C%D1%82%D1%83%D1%80%D0%BD%D0%BE-%D0%B4%D0%BE%D1%81%D1%83%D0%B3%D0%BE%D0%B2%D0%BE%D0%B9 %D0%B4%D0%B5%D1%8F%D1%82%D0%B5%D0%BB%D1%8C%D0%BD%D0%BE%D1%81%D1%82%D0%B8":MAILTO:o_dosugd@mbstver.ru
END:VEVENT
BEGIN:VEVENT
DTSTART;VALUE=DATE:20250208
DTEND;VALUE=DATE:20250302
DTSTAMP:20260426T002438
CREATED:20250129T110235Z
LAST-MODIFIED:20250129T110235Z
UID:60518-1738972800-1740873599@mbstver.ru
SUMMARY:«Филумения. Зеркало эпохи» выставка советских спичечных этикеток 50-60-х годов XX в. из коллекции Елены Гутниковой / Холл Детского зала / с 8 февраля по 1 марта
DESCRIPTION:
URL:https://mbstver.ru/event/filumeniya-zerkalo-epohi-vystavka-sovetskih-spichechnyh-etiketok-50-60-h-godov-xx-v-iz-kollekczii-eleny-gutnikovoj-holl-detskogo-zala-s-8-fevralya-po-1-marta/
LOCATION:Холл Детского зала\, Тверской пр-т\, д. 5\, Тверь\, Российская Федерация
CATEGORIES:Выставка
ORGANIZER;CN="%D0%9E%D1%82%D0%B4%D0%B5%D0%BB %D0%B1%D0%B8%D0%B1%D0%BB%D0%B8%D0%BE%D1%82%D0%B5%D1%87%D0%BD%D0%BE%D0%B3%D0%BE %D0%BC%D0%B0%D1%80%D0%BA%D0%B5%D1%82%D0%B8%D0%BD%D0%B3%D0%B0 %D0%B8 %D0%BA%D1%83%D0%BB%D1%8C%D1%82%D1%83%D1%80%D0%BD%D0%BE-%D0%B4%D0%BE%D1%81%D1%83%D0%B3%D0%BE%D0%B2%D0%BE%D0%B9 %D0%B4%D0%B5%D1%8F%D1%82%D0%B5%D0%BB%D1%8C%D0%BD%D0%BE%D1%81%D1%82%D0%B8":MAILTO:o_dosugd@mbstver.ru
END:VEVENT
BEGIN:VEVENT
DTSTART;TZID=Europe/Moscow:20250214T100000
DTEND;TZID=Europe/Moscow:20250214T190000
DTSTAMP:20260426T002438
CREATED:20250121T073715Z
LAST-MODIFIED:20250121T073715Z
UID:60217-1739527200-1739559600@mbstver.ru
SUMMARY:«Дарите книги с любовью» акция /к Международному дню дарения книг - 14 февраля/ Михайловский зал
DESCRIPTION:
URL:https://mbstver.ru/event/darite-knigi-s-lyubovyu-akcziya-k-mezhdunarodnomu-dnyu-dareniya-knig-14-fevralya-mihajlovskij-zal/
LOCATION:Михайловский зал\, Тверской пр-т\, д. 5\, Тверь\, Российская Федерация
CATEGORIES:Акция
ORGANIZER;CN="%D0%9E%D1%82%D0%B4%D0%B5%D0%BB %D0%BE%D0%B1%D1%81%D0%BB%D1%83%D0%B6%D0%B8%D0%B2%D0%B0%D0%BD%D0%B8%D1%8F %D0%B8 %D0%BA%D0%BD%D0%B8%D0%B3%D0%BE%D1%85%D1%80%D0%B0%D0%BD%D0%B5%D0%BD%D0%B8%D1%8F":MAILTO:otd-obsl@mbstver.ru
END:VEVENT
BEGIN:VEVENT
DTSTART;TZID=Europe/Moscow:20250214T110000
DTEND;TZID=Europe/Moscow:20250214T120000
DTSTAMP:20260426T002438
CREATED:20250121T124858Z
LAST-MODIFIED:20250121T124858Z
UID:60300-1739530800-1739534400@mbstver.ru
SUMMARY:«Дарите книги с любовью» акция / Библиотека семейного чтения на Мигаловской набережной
DESCRIPTION:/к Международному дню дарения книг — 14 февраля/
URL:https://mbstver.ru/event/darite-knigi-s-lyubovyu-akcziya-biblioteka-semejnogo-chteniya-na-migalovskoj-naberezhnoj/
LOCATION:Библиотека семейного чтения на Мигаловской набережной\, Мигаловская наб.\, д. 4\, Тверь\, Российская Федерация
CATEGORIES:Акция
ORGANIZER;CN="%D0%91%D0%B8%D0%B1%D0%BB%D0%B8%D0%BE%D1%82%D0%B5%D0%BA%D0%B0 %D1%81%D0%B5%D0%BC%D0%B5%D0%B9%D0%BD%D0%BE%D0%B3%D0%BE %D1%87%D1%82%D0%B5%D0%BD%D0%B8%D1%8F %D0%BD%D0%B0 %D0%9C%D0%B8%D0%B3%D0%B0%D0%BB%D0%BE%D0%B2%D1%81%D0%BA%D0%BE%D0%B9 %D0%BD%D0%B0%D0%B1%D0%B5%D1%80%D0%B5%D0%B6%D0%BD%D0%BE%D0%B9":MAILTO:library_f25@mbstver.ru
END:VEVENT
BEGIN:VEVENT
DTSTART;TZID=Europe/Moscow:20250214T110000
DTEND;TZID=Europe/Moscow:20250214T120000
DTSTAMP:20260426T002438
CREATED:20250121T125015Z
LAST-MODIFIED:20250121T125015Z
UID:60302-1739530800-1739534400@mbstver.ru
SUMMARY:«Праздник книгодарения» акция / Библиотека семейного чтения им. Николая Гумилева
DESCRIPTION:/к Международному дню дарения книг — 14 февраля/
URL:https://mbstver.ru/event/prazdnik-knigodareniya-akcziya-biblioteka-semejnogo-chteniya-im-nikolaya-gumileva/
LOCATION:Библиотека семейного чтения им. Николая Гумилева\, пос. Литвинки\, д. МДК\, Тверь\, Российская Федерация
CATEGORIES:Акция
ORGANIZER;CN="%D0%91%D0%B8%D0%B1%D0%BB%D0%B8%D0%BE%D1%82%D0%B5%D0%BA%D0%B0 %D1%81%D0%B5%D0%BC%D0%B5%D0%B9%D0%BD%D0%BE%D0%B3%D0%BE %D1%87%D1%82%D0%B5%D0%BD%D0%B8%D1%8F %D0%B8%D0%BC. %D0%9D%D0%B8%D0%BA%D0%BE%D0%BB%D0%B0%D1%8F %D0%93%D1%83%D0%BC%D0%B8%D0%BB%D0%B5%D0%B2%D0%B0":MAILTO:litvinki36@yandex.ru
END:VEVENT
BEGIN:VEVENT
DTSTART;TZID=Europe/Moscow:20250214T120000
DTEND;TZID=Europe/Moscow:20250214T140000
DTSTAMP:20260426T002438
CREATED:20250121T073907Z
LAST-MODIFIED:20250121T075106Z
UID:60219-1739534400-1739541600@mbstver.ru
SUMMARY:«Книжная рулетка» акция книгодарения /к Международному дню дарения книг - 14 февраля/ Детский зал
DESCRIPTION:
URL:https://mbstver.ru/event/knizhnaya-ruletka-akcziya-knigodareniya-k-mezhdunarodnomu-dnyu-dareniya-knig-14-fevralya-detskij-zal/
LOCATION:Детский зал\, Тверской пр-т\, д. 5\, Тверь\, Российская Федерация
CATEGORIES:Акция
ORGANIZER;CN="%D0%9E%D1%82%D0%B4%D0%B5%D0%BB %D0%BE%D0%B1%D1%81%D0%BB%D1%83%D0%B6%D0%B8%D0%B2%D0%B0%D0%BD%D0%B8%D1%8F %D0%B4%D0%B5%D1%82%D0%B5%D0%B9":MAILTO:detsky-otd@mbstver.ru
END:VEVENT
BEGIN:VEVENT
DTSTART;TZID=Europe/Moscow:20250214T130000
DTEND;TZID=Europe/Moscow:20250214T140000
DTSTAMP:20260426T002438
CREATED:20250121T111119Z
LAST-MODIFIED:20250121T111119Z
UID:60273-1739538000-1739541600@mbstver.ru
SUMMARY:«Нотариус консультирует…» консультация / Зал информационно-библиографического обслуживания
DESCRIPTION:
URL:https://mbstver.ru/event/notarius-konsultiruet-konsultacziya-zal-informaczionno-bibliograficheskogo-obsluzhivaniya-4/
LOCATION:Зал информационно-библиографического обслуживания\, Тверской пр-т\, д. 5\, Тверь\, Российская Федерация
CATEGORIES:Консультация
ORGANIZER;CN="%D0%98%D0%BD%D1%84%D0%BE%D1%80%D0%BC%D0%B0%D1%86%D0%B8%D0%BE%D0%BD%D0%BD%D0%BE-%D0%B1%D0%B8%D0%B1%D0%BB%D0%B8%D0%BE%D0%B3%D1%80%D0%B0%D1%84%D0%B8%D1%87%D0%B5%D1%81%D0%BA%D0%B8%D0%B9 %D0%BE%D1%82%D0%B4%D0%B5%D0%BB":MAILTO:ib-otd@mbstver.ru
END:VEVENT
BEGIN:VEVENT
DTSTART;TZID=Europe/Moscow:20250214T180000
DTEND;TZID=Europe/Moscow:20250214T190000
DTSTAMP:20260426T002438
CREATED:20250121T074004Z
LAST-MODIFIED:20250212T123050Z
UID:60221-1739556000-1739559600@mbstver.ru
SUMMARY:«Находка для шпиона» игротека / Музей книги
DESCRIPTION:
URL:https://mbstver.ru/event/nahodka-dlya-shpiona-igroteka-muzej-knigi-2/
LOCATION:Музей книги\, Тверской пр-т\, д. 5\, Тверь\, Российская Федерация
CATEGORIES:Игротека
ORGANIZER;CN="%D0%9E%D1%82%D0%B4%D0%B5%D0%BB %D1%80%D0%B5%D0%B4%D0%BA%D0%BE%D0%B3%D0%BE %D1%84%D0%BE%D0%BD%D0%B4%D0%B0":MAILTO:orgfond-otd@mbstver.ru
END:VEVENT
END:VCALENDAR