BEGIN:VCALENDAR
VERSION:2.0
PRODID:-//Муниципальная библиотечная система города Твери - ECPv6.11.2.1//NONSGML v1.0//EN
CALSCALE:GREGORIAN
METHOD:PUBLISH
X-ORIGINAL-URL:https://mbstver.ru
X-WR-CALDESC:Мероприятия для Муниципальная библиотечная система города Твери
REFRESH-INTERVAL;VALUE=DURATION:PT1H
X-Robots-Tag:noindex
X-PUBLISHED-TTL:PT1H
BEGIN:VTIMEZONE
TZID:Europe/Moscow
BEGIN:STANDARD
TZOFFSETFROM:+0300
TZOFFSETTO:+0300
TZNAME:MSK
DTSTART:20250101T000000
END:STANDARD
END:VTIMEZONE
BEGIN:VEVENT
DTSTART;VALUE=DATE:20250205
DTEND;VALUE=DATE:20250227
DTSTAMP:20260426T040451
CREATED:20250204T070810Z
LAST-MODIFIED:20250204T070810Z
UID:60627-1738713600-1740614399@mbstver.ru
SUMMARY:«АРТ-КАБИНЕТ» выставка живописи Маргариты Прошаковой и Анны Дробот / Выставочный зал / с 5 по 26 февраля
DESCRIPTION:
URL:https://mbstver.ru/event/art-kabinet-vystavka-zhivopisi-margarity-proshakovoj-i-anny-drobot-vystavochnyj-zal-s-5-po-26-fevralya/
LOCATION:Выставочный зал\, Тверской пр-т\, д. 5\, Тверь\, Российская Федерация
CATEGORIES:Выставка живописи
ORGANIZER;CN="%D0%9E%D1%82%D0%B4%D0%B5%D0%BB %D0%B1%D0%B8%D0%B1%D0%BB%D0%B8%D0%BE%D1%82%D0%B5%D1%87%D0%BD%D0%BE%D0%B3%D0%BE %D0%BC%D0%B0%D1%80%D0%BA%D0%B5%D1%82%D0%B8%D0%BD%D0%B3%D0%B0 %D0%B8 %D0%BA%D1%83%D0%BB%D1%8C%D1%82%D1%83%D1%80%D0%BD%D0%BE-%D0%B4%D0%BE%D1%81%D1%83%D0%B3%D0%BE%D0%B2%D0%BE%D0%B9 %D0%B4%D0%B5%D1%8F%D1%82%D0%B5%D0%BB%D1%8C%D0%BD%D0%BE%D1%81%D1%82%D0%B8":MAILTO:o_dosugd@mbstver.ru
END:VEVENT
BEGIN:VEVENT
DTSTART;VALUE=DATE:20250208
DTEND;VALUE=DATE:20250302
DTSTAMP:20260426T040451
CREATED:20250129T110235Z
LAST-MODIFIED:20250129T110235Z
UID:60518-1738972800-1740873599@mbstver.ru
SUMMARY:«Филумения. Зеркало эпохи» выставка советских спичечных этикеток 50-60-х годов XX в. из коллекции Елены Гутниковой / Холл Детского зала / с 8 февраля по 1 марта
DESCRIPTION:
URL:https://mbstver.ru/event/filumeniya-zerkalo-epohi-vystavka-sovetskih-spichechnyh-etiketok-50-60-h-godov-xx-v-iz-kollekczii-eleny-gutnikovoj-holl-detskogo-zala-s-8-fevralya-po-1-marta/
LOCATION:Холл Детского зала\, Тверской пр-т\, д. 5\, Тверь\, Российская Федерация
CATEGORIES:Выставка
ORGANIZER;CN="%D0%9E%D1%82%D0%B4%D0%B5%D0%BB %D0%B1%D0%B8%D0%B1%D0%BB%D0%B8%D0%BE%D1%82%D0%B5%D1%87%D0%BD%D0%BE%D0%B3%D0%BE %D0%BC%D0%B0%D1%80%D0%BA%D0%B5%D1%82%D0%B8%D0%BD%D0%B3%D0%B0 %D0%B8 %D0%BA%D1%83%D0%BB%D1%8C%D1%82%D1%83%D1%80%D0%BD%D0%BE-%D0%B4%D0%BE%D1%81%D1%83%D0%B3%D0%BE%D0%B2%D0%BE%D0%B9 %D0%B4%D0%B5%D1%8F%D1%82%D0%B5%D0%BB%D1%8C%D0%BD%D0%BE%D1%81%D1%82%D0%B8":MAILTO:o_dosugd@mbstver.ru
END:VEVENT
BEGIN:VEVENT
DTSTART;TZID=Europe/Moscow:20250216T120000
DTEND;TZID=Europe/Moscow:20250216T130000
DTSTAMP:20260426T040451
CREATED:20250121T074154Z
LAST-MODIFIED:20250121T074154Z
UID:60225-1739707200-1739710800@mbstver.ru
SUMMARY:«Мастерская рукоделия» мастер-класс по изготовлению поделки в технике декупаж / Детский зал
DESCRIPTION:
URL:https://mbstver.ru/event/masterskaya-rukodeliya-master-klass-po-izgotovleniyu-podelki-v-tehnike-dekupazh-detskij-zal/
LOCATION:Детский зал\, Тверской пр-т\, д. 5\, Тверь\, Российская Федерация
CATEGORIES:Мастер-класс
ORGANIZER;CN="%D0%9E%D1%82%D0%B4%D0%B5%D0%BB %D0%BE%D0%B1%D1%81%D0%BB%D1%83%D0%B6%D0%B8%D0%B2%D0%B0%D0%BD%D0%B8%D1%8F %D0%B4%D0%B5%D1%82%D0%B5%D0%B9":MAILTO:detsky-otd@mbstver.ru
END:VEVENT
BEGIN:VEVENT
DTSTART;TZID=Europe/Moscow:20250216T120000
DTEND;TZID=Europe/Moscow:20250216T140000
DTSTAMP:20260426T040451
CREATED:20250121T074259Z
LAST-MODIFIED:20250121T074259Z
UID:60227-1739707200-1739714400@mbstver.ru
SUMMARY:«Михайловские чтения» лекция в Библейско-богословском лектории / Горница
DESCRIPTION:
URL:https://mbstver.ru/event/mihajlovskie-chteniya-lekcziya-v-biblejsko-bogoslovskom-lektorii-gornicza-3/
LOCATION:Горница\, Тверской пр-т\, д. 5\, Тверь\, Российская Федерация
CATEGORIES:Лекторий
ORGANIZER;CN="%D0%9E%D1%82%D0%B4%D0%B5%D0%BB %D0%B1%D0%B8%D0%B1%D0%BB%D0%B8%D0%BE%D1%82%D0%B5%D1%87%D0%BD%D0%BE%D0%B3%D0%BE %D0%BC%D0%B0%D1%80%D0%BA%D0%B5%D1%82%D0%B8%D0%BD%D0%B3%D0%B0 %D0%B8 %D0%BA%D1%83%D0%BB%D1%8C%D1%82%D1%83%D1%80%D0%BD%D0%BE-%D0%B4%D0%BE%D1%81%D1%83%D0%B3%D0%BE%D0%B2%D0%BE%D0%B9 %D0%B4%D0%B5%D1%8F%D1%82%D0%B5%D0%BB%D1%8C%D0%BD%D0%BE%D1%81%D1%82%D0%B8":MAILTO:o_dosugd@mbstver.ru
END:VEVENT
BEGIN:VEVENT
DTSTART;TZID=Europe/Moscow:20250216T130000
DTEND;TZID=Europe/Moscow:20250216T140000
DTSTAMP:20260426T040451
CREATED:20250121T125913Z
LAST-MODIFIED:20250121T125913Z
UID:60309-1739710800-1739714400@mbstver.ru
SUMMARY:«День защитника Отечества» концерт музыкальной студии «Модест» / Библиотека семейного чтения им. П.А. Кропоткина
DESCRIPTION:/ко Дню защитника Отечества — 23 февраля/
URL:https://mbstver.ru/event/den-zashhitnika-otechestva-konczert-muzykalnoj-studii-modest-biblioteka-semejnogo-chteniya-im-p-a-kropotkina/
LOCATION:Библиотека семейного чтения им. П.А. Кропоткина\, ул. Фурманова\, д. 1\, корп. А\, Тверь\, Российская Федерация
CATEGORIES:Концерт
ORGANIZER;CN="%D0%91%D0%B8%D0%B1%D0%BB%D0%B8%D0%BE%D1%82%D0%B5%D0%BA%D0%B0 %D1%81%D0%B5%D0%BC%D0%B5%D0%B9%D0%BD%D0%BE%D0%B3%D0%BE %D1%87%D1%82%D0%B5%D0%BD%D0%B8%D1%8F %D0%B8%D0%BC. %D0%9F.%D0%90. %D0%9A%D1%80%D0%BE%D0%BF%D0%BE%D1%82%D0%BA%D0%B8%D0%BD%D0%B0":MAILTO:f1tver@yandex.ru; library_f1@mbstver.ru
END:VEVENT
BEGIN:VEVENT
DTSTART;TZID=Europe/Moscow:20250216T130000
DTEND;TZID=Europe/Moscow:20250216T143000
DTSTAMP:20260426T040451
CREATED:20250121T074422Z
LAST-MODIFIED:20250121T074422Z
UID:60229-1739710800-1739716200@mbstver.ru
SUMMARY:Театрализованная читка в любительском театре «Золотое руно» / Конференц-зал
DESCRIPTION:
URL:https://mbstver.ru/event/teatralizovannaya-chitka-v-lyubitelskom-teatre-zolotoe-runo-konferencz-zal/
LOCATION:Конференц-зал\, Тверской пр-т\, д. 5\, Тверь\, Российская Федерация
CATEGORIES:Театрализованная читка
ORGANIZER;CN="%D0%9E%D1%82%D0%B4%D0%B5%D0%BB %D0%B1%D0%B8%D0%B1%D0%BB%D0%B8%D0%BE%D1%82%D0%B5%D1%87%D0%BD%D0%BE%D0%B3%D0%BE %D0%BC%D0%B0%D1%80%D0%BA%D0%B5%D1%82%D0%B8%D0%BD%D0%B3%D0%B0 %D0%B8 %D0%BA%D1%83%D0%BB%D1%8C%D1%82%D1%83%D1%80%D0%BD%D0%BE-%D0%B4%D0%BE%D1%81%D1%83%D0%B3%D0%BE%D0%B2%D0%BE%D0%B9 %D0%B4%D0%B5%D1%8F%D1%82%D0%B5%D0%BB%D1%8C%D0%BD%D0%BE%D1%81%D1%82%D0%B8":MAILTO:o_dosugd@mbstver.ru
END:VEVENT
BEGIN:VEVENT
DTSTART;TZID=Europe/Moscow:20250216T133000
DTEND;TZID=Europe/Moscow:20250216T143000
DTSTAMP:20260426T040451
CREATED:20250121T130021Z
LAST-MODIFIED:20250121T130021Z
UID:60311-1739712600-1739716200@mbstver.ru
SUMMARY:«Любимый друг детства Агния Барто» беседа / Детская библиотека им. Виталия Бианки
DESCRIPTION:
URL:https://mbstver.ru/event/lyubimyj-drug-detstva-agniya-barto-beseda-detskaya-biblioteka-im-vitaliya-bianki-2/
LOCATION:Детская библиотека им. Виталия Бианки\, ул. Богданова\, д. 22\, корп. 1\, Тверь\, Российская Федерация
CATEGORIES:Беседа
ORGANIZER;CN="%D0%94%D0%B5%D1%82%D1%81%D0%BA%D0%B0%D1%8F %D0%B1%D0%B8%D0%B1%D0%BB%D0%B8%D0%BE%D1%82%D0%B5%D0%BA%D0%B0 %D0%B8%D0%BC. %D0%92%D0%B8%D1%82%D0%B0%D0%BB%D0%B8%D1%8F %D0%91%D0%B8%D0%B0%D0%BD%D0%BA%D0%B8":MAILTO:library_f29@mbstver.ru
END:VEVENT
BEGIN:VEVENT
DTSTART;TZID=Europe/Moscow:20250216T160000
DTEND;TZID=Europe/Moscow:20250216T173000
DTSTAMP:20260426T040451
CREATED:20250121T074746Z
LAST-MODIFIED:20250121T074746Z
UID:60231-1739721600-1739727000@mbstver.ru
SUMMARY:«Для вас\, любимые мужчины!» концерт ансамбля «Душа» /ко Дню защитника Отечества - 23 февраля/ Горница
DESCRIPTION:
URL:https://mbstver.ru/event/dlya-vas-lyubimye-muzhchiny-konczert-ansamblya-dusha-ko-dnyu-zashhitnika-otechestva-23-fevralya-gornicza/
LOCATION:Горница\, Тверской пр-т\, д. 5\, Тверь\, Российская Федерация
CATEGORIES:Концерт
ORGANIZER;CN="%D0%9E%D1%82%D0%B4%D0%B5%D0%BB %D0%B1%D0%B8%D0%B1%D0%BB%D0%B8%D0%BE%D1%82%D0%B5%D1%87%D0%BD%D0%BE%D0%B3%D0%BE %D0%BC%D0%B0%D1%80%D0%BA%D0%B5%D1%82%D0%B8%D0%BD%D0%B3%D0%B0 %D0%B8 %D0%BA%D1%83%D0%BB%D1%8C%D1%82%D1%83%D1%80%D0%BD%D0%BE-%D0%B4%D0%BE%D1%81%D1%83%D0%B3%D0%BE%D0%B2%D0%BE%D0%B9 %D0%B4%D0%B5%D1%8F%D1%82%D0%B5%D0%BB%D1%8C%D0%BD%D0%BE%D1%81%D1%82%D0%B8":MAILTO:o_dosugd@mbstver.ru
END:VEVENT
END:VCALENDAR