BEGIN:VCALENDAR
VERSION:2.0
PRODID:-//Муниципальная библиотечная система города Твери - ECPv6.11.2.1//NONSGML v1.0//EN
CALSCALE:GREGORIAN
METHOD:PUBLISH
X-ORIGINAL-URL:https://mbstver.ru
X-WR-CALDESC:Мероприятия для Муниципальная библиотечная система города Твери
REFRESH-INTERVAL;VALUE=DURATION:PT1H
X-Robots-Tag:noindex
X-PUBLISHED-TTL:PT1H
BEGIN:VTIMEZONE
TZID:Europe/Moscow
BEGIN:STANDARD
TZOFFSETFROM:+0300
TZOFFSETTO:+0300
TZNAME:MSK
DTSTART:20250101T000000
END:STANDARD
END:VTIMEZONE
BEGIN:VEVENT
DTSTART;VALUE=DATE:20250525
DTEND;VALUE=DATE:20250620
DTSTAMP:20260426T061831
CREATED:20250523T125607Z
LAST-MODIFIED:20250523T125607Z
UID:64401-1748131200-1750377599@mbstver.ru
SUMMARY:«Для вас\, библиотекари!» выставка журналов из редкого фонда / Музей книги / с 25 мая по 19 июня
DESCRIPTION:  \n 
URL:https://mbstver.ru/event/dlya-vas-bibliotekari-vystavka-zhurnalov-iz-redkogo-fonda-muzej-knigi-s-25-maya-po-19-iyunya/
LOCATION:Музей книги\, Тверской пр-т\, д. 5\, Тверь\, Российская Федерация
CATEGORIES:Выставка
ORGANIZER;CN="%D0%9E%D1%82%D0%B4%D0%B5%D0%BB %D1%80%D0%B5%D0%B4%D0%BA%D0%BE%D0%B3%D0%BE %D1%84%D0%BE%D0%BD%D0%B4%D0%B0":MAILTO:orgfond-otd@mbstver.ru
END:VEVENT
BEGIN:VEVENT
DTSTART;VALUE=DATE:20250526
DTEND;VALUE=DATE:20250617
DTSTAMP:20260426T061831
CREATED:20250522T063136Z
LAST-MODIFIED:20250522T063136Z
UID:64273-1748217600-1750118399@mbstver.ru
SUMMARY:«Космическое Человечество» выставка живописи Ольги Радионовой / Выставочный зал / с 26 мая по 16 июня
DESCRIPTION:
URL:https://mbstver.ru/event/kosmicheskoe-chelovechestvo-vystavka-zhivopisi-olgi-radionovoj-vystavochnyj-zal-s-26-maya-po-16-iyunya/
LOCATION:Выставочный зал\, Тверской пр-т\, д. 5\, Тверь\, Российская Федерация
CATEGORIES:Выставка живописи
ORGANIZER;CN="%D0%9E%D1%82%D0%B4%D0%B5%D0%BB %D0%B1%D0%B8%D0%B1%D0%BB%D0%B8%D0%BE%D1%82%D0%B5%D1%87%D0%BD%D0%BE%D0%B3%D0%BE %D0%BC%D0%B0%D1%80%D0%BA%D0%B5%D1%82%D0%B8%D0%BD%D0%B3%D0%B0 %D0%B8 %D0%BA%D1%83%D0%BB%D1%8C%D1%82%D1%83%D1%80%D0%BD%D0%BE-%D0%B4%D0%BE%D1%81%D1%83%D0%B3%D0%BE%D0%B2%D0%BE%D0%B9 %D0%B4%D0%B5%D1%8F%D1%82%D0%B5%D0%BB%D1%8C%D0%BD%D0%BE%D1%81%D1%82%D0%B8":MAILTO:o_dosugd@mbstver.ru
END:VEVENT
BEGIN:VEVENT
DTSTART;VALUE=DATE:20250529
DTEND;VALUE=DATE:20250620
DTSTAMP:20260426T061831
CREATED:20250522T085447Z
LAST-MODIFIED:20250526T090336Z
UID:64317-1748476800-1750377599@mbstver.ru
SUMMARY:«Страницы пушкинских творений» выставка книг из редкого фонда / Холл Детского зала / с 29 мая по 19 июня
DESCRIPTION:
URL:https://mbstver.ru/event/straniczy-pushkinskih-tvorenij-vystavka-knig-iz-redkogo-fonda-holl-detskogo-zala-s-29-maya-po-19-iyunya/
LOCATION:Холл Детского зала\, Тверской пр-т\, д. 5\, Тверь\, Российская Федерация
CATEGORIES:Выставка
ORGANIZER;CN="%D0%9E%D1%82%D0%B4%D0%B5%D0%BB %D1%80%D0%B5%D0%B4%D0%BA%D0%BE%D0%B3%D0%BE %D1%84%D0%BE%D0%BD%D0%B4%D0%B0":MAILTO:orgfond-otd@mbstver.ru
END:VEVENT
BEGIN:VEVENT
DTSTART;TZID=Europe/Moscow:20250606T100000
DTEND;TZID=Europe/Moscow:20250606T120000
DTSTAMP:20260426T061831
CREATED:20250522T085033Z
LAST-MODIFIED:20250522T085117Z
UID:64313-1749204000-1749211200@mbstver.ru
SUMMARY:«Давайте Пушкина читать!» праздничная программа / Городской сад
DESCRIPTION:/к Пушкинскому дню России. Дню русского языка — 6 июня/
URL:https://mbstver.ru/event/davajte-pushkina-chitat-prazdnichnaya-programma-gorodskoj-sad-2/
LOCATION:Городской сад\, Советская ул.\, д. 5\, корп. 4\, Тверь\, Российская Федерация
CATEGORIES:Праздничная программа
ORGANIZER;CN="%D0%9E%D1%82%D0%B4%D0%B5%D0%BB %D0%B1%D0%B8%D0%B1%D0%BB%D0%B8%D0%BE%D1%82%D0%B5%D1%87%D0%BD%D0%BE%D0%B3%D0%BE %D0%BC%D0%B0%D1%80%D0%BA%D0%B5%D1%82%D0%B8%D0%BD%D0%B3%D0%B0 %D0%B8 %D0%BA%D1%83%D0%BB%D1%8C%D1%82%D1%83%D1%80%D0%BD%D0%BE-%D0%B4%D0%BE%D1%81%D1%83%D0%B3%D0%BE%D0%B2%D0%BE%D0%B9 %D0%B4%D0%B5%D1%8F%D1%82%D0%B5%D0%BB%D1%8C%D0%BD%D0%BE%D1%81%D1%82%D0%B8":MAILTO:o_dosugd@mbstver.ru
END:VEVENT
BEGIN:VEVENT
DTSTART;TZID=Europe/Moscow:20250606T110000
DTEND;TZID=Europe/Moscow:20250606T120000
DTSTAMP:20260426T061831
CREATED:20250522T111851Z
LAST-MODIFIED:20250522T111851Z
UID:64360-1749207600-1749211200@mbstver.ru
SUMMARY:«В волшебной Пушкинской стране» час поэзии / Библиотека семейного чтения им. Б.Н. Полевого
DESCRIPTION:/к Пушкинскому дню России. Дню русского языка — 6 июня/
URL:https://mbstver.ru/event/v-volshebnoj-pushkinskoj-strane-chas-poezii-biblioteka-semejnogo-chteniya-im-b-n-polevogo/
LOCATION:Библиотека семейного чтения им. Б.Н. Полевого\, Пролетарская наб.\, д. 5\, Тверь\, Российская Федерация
CATEGORIES:Час поэзии
ORGANIZER;CN="%D0%91%D0%B8%D0%B1%D0%BB%D0%B8%D0%BE%D1%82%D0%B5%D0%BA%D0%B0 %D1%81%D0%B5%D0%BC%D0%B5%D0%B9%D0%BD%D0%BE%D0%B3%D0%BE %D1%87%D1%82%D0%B5%D0%BD%D0%B8%D1%8F %D0%B8%D0%BC. %D0%91.%D0%9D. %D0%9F%D0%BE%D0%BB%D0%B5%D0%B2%D0%BE%D0%B3%D0%BE":MAILTO:library_f21@mbstver.ru
END:VEVENT
BEGIN:VEVENT
DTSTART;TZID=Europe/Moscow:20250606T110000
DTEND;TZID=Europe/Moscow:20250606T120000
DTSTAMP:20260426T061831
CREATED:20250522T112025Z
LAST-MODIFIED:20250522T112025Z
UID:64362-1749207600-1749211200@mbstver.ru
SUMMARY:«Царство славного поэта» литературная игра / Библиотека семейного чтения на Мигаловской набережной
DESCRIPTION:/к Пушкинскому дню России. Дню русского языка — 6 июня/
URL:https://mbstver.ru/event/czarstvo-slavnogo-poeta-literaturnaya-igra-biblioteka-semejnogo-chteniya-na-migalovskoj-naberezhnoj/
LOCATION:Библиотека семейного чтения на Мигаловской набережной\, Мигаловская наб.\, д. 4\, Тверь\, Российская Федерация
CATEGORIES:Литературная игра
ORGANIZER;CN="%D0%91%D0%B8%D0%B1%D0%BB%D0%B8%D0%BE%D1%82%D0%B5%D0%BA%D0%B0 %D1%81%D0%B5%D0%BC%D0%B5%D0%B9%D0%BD%D0%BE%D0%B3%D0%BE %D1%87%D1%82%D0%B5%D0%BD%D0%B8%D1%8F %D0%BD%D0%B0 %D0%9C%D0%B8%D0%B3%D0%B0%D0%BB%D0%BE%D0%B2%D1%81%D0%BA%D0%BE%D0%B9 %D0%BD%D0%B0%D0%B1%D0%B5%D1%80%D0%B5%D0%B6%D0%BD%D0%BE%D0%B9":MAILTO:library_f25@mbstver.ru
END:VEVENT
BEGIN:VEVENT
DTSTART;TZID=Europe/Moscow:20250606T120000
DTEND;TZID=Europe/Moscow:20250606T130000
DTSTAMP:20260426T061831
CREATED:20250522T112152Z
LAST-MODIFIED:20250522T112152Z
UID:64364-1749211200-1749214800@mbstver.ru
SUMMARY:«Путешествие по Лукоморью» викторина / Детская библиотека им. Виталия Бианки
DESCRIPTION:/к Пушкинскому дню России. Дню русского языка — 6 июня/
URL:https://mbstver.ru/event/puteshestvie-po-lukomoryu-viktorina-detskaya-biblioteka-im-vitaliya-bianki/
LOCATION:Детская библиотека им. Виталия Бианки\, ул. Богданова\, д. 22\, корп. 1\, Тверь\, Российская Федерация
CATEGORIES:Викторина
ORGANIZER;CN="%D0%94%D0%B5%D1%82%D1%81%D0%BA%D0%B0%D1%8F %D0%B1%D0%B8%D0%B1%D0%BB%D0%B8%D0%BE%D1%82%D0%B5%D0%BA%D0%B0 %D0%B8%D0%BC. %D0%92%D0%B8%D1%82%D0%B0%D0%BB%D0%B8%D1%8F %D0%91%D0%B8%D0%B0%D0%BD%D0%BA%D0%B8":MAILTO:library_f29@mbstver.ru
END:VEVENT
END:VCALENDAR