BEGIN:VCALENDAR
VERSION:2.0
PRODID:-//Муниципальная библиотечная система города Твери - ECPv6.11.2.1//NONSGML v1.0//EN
CALSCALE:GREGORIAN
METHOD:PUBLISH
X-ORIGINAL-URL:https://mbstver.ru
X-WR-CALDESC:Мероприятия для Муниципальная библиотечная система города Твери
REFRESH-INTERVAL;VALUE=DURATION:PT1H
X-Robots-Tag:noindex
X-PUBLISHED-TTL:PT1H
BEGIN:VTIMEZONE
TZID:Europe/Moscow
BEGIN:STANDARD
TZOFFSETFROM:+0300
TZOFFSETTO:+0300
TZNAME:MSK
DTSTART:20250101T000000
END:STANDARD
END:VTIMEZONE
BEGIN:VEVENT
DTSTART;VALUE=DATE:20250525
DTEND;VALUE=DATE:20250620
DTSTAMP:20260425T194232
CREATED:20250523T125607Z
LAST-MODIFIED:20250523T125607Z
UID:64401-1748131200-1750377599@mbstver.ru
SUMMARY:«Для вас\, библиотекари!» выставка журналов из редкого фонда / Музей книги / с 25 мая по 19 июня
DESCRIPTION:  \n 
URL:https://mbstver.ru/event/dlya-vas-bibliotekari-vystavka-zhurnalov-iz-redkogo-fonda-muzej-knigi-s-25-maya-po-19-iyunya/
LOCATION:Музей книги\, Тверской пр-т\, д. 5\, Тверь\, Российская Федерация
CATEGORIES:Выставка
ORGANIZER;CN="%D0%9E%D1%82%D0%B4%D0%B5%D0%BB %D1%80%D0%B5%D0%B4%D0%BA%D0%BE%D0%B3%D0%BE %D1%84%D0%BE%D0%BD%D0%B4%D0%B0":MAILTO:orgfond-otd@mbstver.ru
END:VEVENT
BEGIN:VEVENT
DTSTART;VALUE=DATE:20250526
DTEND;VALUE=DATE:20250617
DTSTAMP:20260425T194232
CREATED:20250522T063136Z
LAST-MODIFIED:20250522T063136Z
UID:64273-1748217600-1750118399@mbstver.ru
SUMMARY:«Космическое Человечество» выставка живописи Ольги Радионовой / Выставочный зал / с 26 мая по 16 июня
DESCRIPTION:
URL:https://mbstver.ru/event/kosmicheskoe-chelovechestvo-vystavka-zhivopisi-olgi-radionovoj-vystavochnyj-zal-s-26-maya-po-16-iyunya/
LOCATION:Выставочный зал\, Тверской пр-т\, д. 5\, Тверь\, Российская Федерация
CATEGORIES:Выставка живописи
ORGANIZER;CN="%D0%9E%D1%82%D0%B4%D0%B5%D0%BB %D0%B1%D0%B8%D0%B1%D0%BB%D0%B8%D0%BE%D1%82%D0%B5%D1%87%D0%BD%D0%BE%D0%B3%D0%BE %D0%BC%D0%B0%D1%80%D0%BA%D0%B5%D1%82%D0%B8%D0%BD%D0%B3%D0%B0 %D0%B8 %D0%BA%D1%83%D0%BB%D1%8C%D1%82%D1%83%D1%80%D0%BD%D0%BE-%D0%B4%D0%BE%D1%81%D1%83%D0%B3%D0%BE%D0%B2%D0%BE%D0%B9 %D0%B4%D0%B5%D1%8F%D1%82%D0%B5%D0%BB%D1%8C%D0%BD%D0%BE%D1%81%D1%82%D0%B8":MAILTO:o_dosugd@mbstver.ru
END:VEVENT
BEGIN:VEVENT
DTSTART;VALUE=DATE:20250529
DTEND;VALUE=DATE:20250620
DTSTAMP:20260425T194232
CREATED:20250522T085447Z
LAST-MODIFIED:20250526T090336Z
UID:64317-1748476800-1750377599@mbstver.ru
SUMMARY:«Страницы пушкинских творений» выставка книг из редкого фонда / Холл Детского зала / с 29 мая по 19 июня
DESCRIPTION:
URL:https://mbstver.ru/event/straniczy-pushkinskih-tvorenij-vystavka-knig-iz-redkogo-fonda-holl-detskogo-zala-s-29-maya-po-19-iyunya/
LOCATION:Холл Детского зала\, Тверской пр-т\, д. 5\, Тверь\, Российская Федерация
CATEGORIES:Выставка
ORGANIZER;CN="%D0%9E%D1%82%D0%B4%D0%B5%D0%BB %D1%80%D0%B5%D0%B4%D0%BA%D0%BE%D0%B3%D0%BE %D1%84%D0%BE%D0%BD%D0%B4%D0%B0":MAILTO:orgfond-otd@mbstver.ru
END:VEVENT
BEGIN:VEVENT
DTSTART;TZID=Europe/Moscow:20250612T110000
DTEND;TZID=Europe/Moscow:20250612T120000
DTSTAMP:20260425T194232
CREATED:20250609T084430Z
LAST-MODIFIED:20250609T084430Z
UID:64587-1749726000-1749729600@mbstver.ru
SUMMARY:«Моя страна - моя Россия!» урок патриотического воспитания / Мультимедийный библиотечный центр
DESCRIPTION:
URL:https://mbstver.ru/event/moya-strana-moya-rossiya-urok-patrioticheskogo-vospitaniya-multimedijnyj-bibliotechnyj-czentr/
LOCATION:Мультимедийный библиотечный центр\, ул. С. Перовской\, д. 2\, Тверь\, Российская Федерация
CATEGORIES:Урок патриотического воспитания
ORGANIZER;CN="%D0%9C%D1%83%D0%BB%D1%8C%D1%82%D0%B8%D0%BC%D0%B5%D0%B4%D0%B8%D0%B9%D0%BD%D1%8B%D0%B9 %D0%B1%D0%B8%D0%B1%D0%BB%D0%B8%D0%BE%D1%82%D0%B5%D1%87%D0%BD%D1%8B%D0%B9 %D1%86%D0%B5%D0%BD%D1%82%D1%80":MAILTO:library_f19@mbstver.ru
END:VEVENT
BEGIN:VEVENT
DTSTART;TZID=Europe/Moscow:20250612T120000
DTEND;TZID=Europe/Moscow:20250612T130000
DTSTAMP:20260425T194232
CREATED:20250522T090544Z
LAST-MODIFIED:20250522T090544Z
UID:64319-1749729600-1749733200@mbstver.ru
SUMMARY:«Красота моей России» познавательный час с мастер-классом / Детский зал
DESCRIPTION:/ко Дню России — 12 июня/
URL:https://mbstver.ru/event/krasota-moej-rossii-poznavatelnyj-chas-s-master-klassom-detskij-zal/
LOCATION:Детский зал\, Тверской пр-т\, д. 5\, Тверь\, Российская Федерация
CATEGORIES:Мастер-класс,Познавательный час
ORGANIZER;CN="%D0%9E%D1%82%D0%B4%D0%B5%D0%BB %D0%BE%D0%B1%D1%81%D0%BB%D1%83%D0%B6%D0%B8%D0%B2%D0%B0%D0%BD%D0%B8%D1%8F %D0%B4%D0%B5%D1%82%D0%B5%D0%B9":MAILTO:detsky-otd@mbstver.ru
END:VEVENT
BEGIN:VEVENT
DTSTART;TZID=Europe/Moscow:20250612T120000
DTEND;TZID=Europe/Moscow:20250612T130000
DTSTAMP:20260425T194232
CREATED:20250609T084619Z
LAST-MODIFIED:20250609T084619Z
UID:64589-1749729600-1749733200@mbstver.ru
SUMMARY:«Моя Родина - Россия» викторина / Библиотека семейного чтения на Пролетарке
DESCRIPTION:
URL:https://mbstver.ru/event/moya-rodina-rossiya-viktorina-biblioteka-semejnogo-chteniya-na-proletarke/
LOCATION:Библиотека семейного чтения на Пролетарке\, пр-т Калинина\, д. 20\, Тверь\, Российская Федерация
CATEGORIES:Викторина
ORGANIZER;CN="%D0%91%D0%B8%D0%B1%D0%BB%D0%B8%D0%BE%D1%82%D0%B5%D0%BA%D0%B0 %D1%81%D0%B5%D0%BC%D0%B5%D0%B9%D0%BD%D0%BE%D0%B3%D0%BE %D1%87%D1%82%D0%B5%D0%BD%D0%B8%D1%8F %D0%BD%D0%B0 %D0%9F%D1%80%D0%BE%D0%BB%D0%B5%D1%82%D0%B0%D1%80%D0%BA%D0%B5":MAILTO:library_f33@mbstver.ru
END:VEVENT
BEGIN:VEVENT
DTSTART;TZID=Europe/Moscow:20250612T130000
DTEND;TZID=Europe/Moscow:20250612T140000
DTSTAMP:20260425T194232
CREATED:20250522T113217Z
LAST-MODIFIED:20250522T113217Z
UID:64378-1749733200-1749736800@mbstver.ru
SUMMARY:«Долгий путь в Индию» квест / Детская библиотека им. Афанасия Никитина
DESCRIPTION:/ко Дню России — 12 июня/
URL:https://mbstver.ru/event/dolgij-put-v-indiyu-kvest-detskaya-biblioteka-im-afanasiya-nikitina/
LOCATION:Детская библиотека им. Афанасия Никитина\, наб. А. Никитина\, д. 54\, Тверь\, Российская Федерация
CATEGORIES:Квест
ORGANIZER;CN="%D0%94%D0%B5%D1%82%D1%81%D0%BA%D0%B0%D1%8F %D0%B1%D0%B8%D0%B1%D0%BB%D0%B8%D0%BE%D1%82%D0%B5%D0%BA%D0%B0 %D0%B8%D0%BC. %D0%90%D1%84%D0%B0%D0%BD%D0%B0%D1%81%D0%B8%D1%8F %D0%9D%D0%B8%D0%BA%D0%B8%D1%82%D0%B8%D0%BD%D0%B0":MAILTO:library_f18@mbstver.ru
END:VEVENT
BEGIN:VEVENT
DTSTART;TZID=Europe/Moscow:20250612T140000
DTEND;TZID=Europe/Moscow:20250612T150000
DTSTAMP:20260425T194232
CREATED:20250522T090715Z
LAST-MODIFIED:20250522T090715Z
UID:64321-1749736800-1749740400@mbstver.ru
SUMMARY:«Тверская область. Игра-путешествие по родному краю» игротека / Музей книги
DESCRIPTION:/ко Дню России — 12 июня/
URL:https://mbstver.ru/event/tverskaya-oblast-igra-puteshestvie-po-rodnomu-krayu-igroteka-muzej-knigi/
LOCATION:Музей книги\, Тверской пр-т\, д. 5\, Тверь\, Российская Федерация
CATEGORIES:Игротека
ORGANIZER;CN="%D0%9E%D1%82%D0%B4%D0%B5%D0%BB %D1%80%D0%B5%D0%B4%D0%BA%D0%BE%D0%B3%D0%BE %D1%84%D0%BE%D0%BD%D0%B4%D0%B0":MAILTO:orgfond-otd@mbstver.ru
END:VEVENT
BEGIN:VEVENT
DTSTART;TZID=Europe/Moscow:20250612T150000
DTEND;TZID=Europe/Moscow:20250612T160000
DTSTAMP:20260425T194232
CREATED:20250609T084812Z
LAST-MODIFIED:20250612T075732Z
UID:64591-1749740400-1749744000@mbstver.ru
SUMMARY:«Удивительная Россия» мультимедийная игра / Горница
DESCRIPTION:
URL:https://mbstver.ru/event/udivitelnaya-rossiya-multimedijnaya-igra-konferencz-zal/
LOCATION:Горница\, Тверской пр-т\, д. 5\, Тверь\, Российская Федерация
CATEGORIES:Мультимедийная игра
ORGANIZER;CN="%D0%9E%D1%82%D0%B4%D0%B5%D0%BB %D0%B1%D0%B8%D0%B1%D0%BB%D0%B8%D0%BE%D1%82%D0%B5%D1%87%D0%BD%D0%BE%D0%B3%D0%BE %D0%BC%D0%B0%D1%80%D0%BA%D0%B5%D1%82%D0%B8%D0%BD%D0%B3%D0%B0 %D0%B8 %D0%BA%D1%83%D0%BB%D1%8C%D1%82%D1%83%D1%80%D0%BD%D0%BE-%D0%B4%D0%BE%D1%81%D1%83%D0%B3%D0%BE%D0%B2%D0%BE%D0%B9 %D0%B4%D0%B5%D1%8F%D1%82%D0%B5%D0%BB%D1%8C%D0%BD%D0%BE%D1%81%D1%82%D0%B8":MAILTO:o_dosugd@mbstver.ru
END:VEVENT
BEGIN:VEVENT
DTSTART;TZID=Europe/Moscow:20250612T160000
DTEND;TZID=Europe/Moscow:20250612T170000
DTSTAMP:20260425T194232
CREATED:20250609T085001Z
LAST-MODIFIED:20250609T085001Z
UID:64593-1749744000-1749747600@mbstver.ru
SUMMARY:«Родные просторы» познавательная программа / Библиотека семейного чтения им. М.Е. Салтыкова-Щедрина
DESCRIPTION:
URL:https://mbstver.ru/event/rodnye-prostory-poznavatelnaya-programma-biblioteka-semejnogo-chteniya-im-m-e-saltykova-shhedrina/
LOCATION:Библиотека семейного чтения им. М.Е. Салтыкова-Щедрина\, пр-т Победы\, Д. 32/3\, Тверь\, Российская Федерация
CATEGORIES:Познавательная программа
ORGANIZER;CN="%D0%91%D0%B8%D0%B1%D0%BB%D0%B8%D0%BE%D1%82%D0%B5%D0%BA%D0%B0 %D1%81%D0%B5%D0%BC%D0%B5%D0%B9%D0%BD%D0%BE%D0%B3%D0%BE %D1%87%D1%82%D0%B5%D0%BD%D0%B8%D1%8F %D0%B8%D0%BC. %D0%9C.%D0%95. %D0%A1%D0%B0%D0%BB%D1%82%D1%8B%D0%BA%D0%BE%D0%B2%D0%B0-%D0%A9%D0%B5%D0%B4%D1%80%D0%B8%D0%BD%D0%B0":MAILTO:mbsfil2@yandex.ru; library_f2@mbstver.ru
END:VEVENT
END:VCALENDAR