BEGIN:VCALENDAR
VERSION:2.0
PRODID:-//Муниципальная библиотечная система города Твери - ECPv6.11.2.1//NONSGML v1.0//EN
CALSCALE:GREGORIAN
METHOD:PUBLISH
X-ORIGINAL-URL:https://mbstver.ru
X-WR-CALDESC:Мероприятия для Муниципальная библиотечная система города Твери
REFRESH-INTERVAL;VALUE=DURATION:PT1H
X-Robots-Tag:noindex
X-PUBLISHED-TTL:PT1H
BEGIN:VTIMEZONE
TZID:Europe/Moscow
BEGIN:STANDARD
TZOFFSETFROM:+0300
TZOFFSETTO:+0300
TZNAME:MSK
DTSTART:20250101T000000
END:STANDARD
END:VTIMEZONE
BEGIN:VEVENT
DTSTART;VALUE=DATE:20250617
DTEND;VALUE=DATE:20250709
DTSTAMP:20260425T024723
CREATED:20250609T125846Z
LAST-MODIFIED:20250609T125846Z
UID:64680-1750118400-1752019199@mbstver.ru
SUMMARY:«Свой взгляд» выставка художественных работ Элины Вартановой / Выставочный зал / с 17 июня по 8 июля
DESCRIPTION:
URL:https://mbstver.ru/event/svoj-vzglyad-vystavka-hudozhestvennyh-rabot-eliny-vartanovoj-vystavochnyj-zal-s-17-iyunya-po-8-iyulya/
LOCATION:Выставочный зал\, Тверской пр-т\, д. 5\, Тверь\, Российская Федерация
CATEGORIES:Выставка
ORGANIZER;CN="%D0%9E%D1%82%D0%B4%D0%B5%D0%BB %D0%B1%D0%B8%D0%B1%D0%BB%D0%B8%D0%BE%D1%82%D0%B5%D1%87%D0%BD%D0%BE%D0%B3%D0%BE %D0%BC%D0%B0%D1%80%D0%BA%D0%B5%D1%82%D0%B8%D0%BD%D0%B3%D0%B0 %D0%B8 %D0%BA%D1%83%D0%BB%D1%8C%D1%82%D1%83%D1%80%D0%BD%D0%BE-%D0%B4%D0%BE%D1%81%D1%83%D0%B3%D0%BE%D0%B2%D0%BE%D0%B9 %D0%B4%D0%B5%D1%8F%D1%82%D0%B5%D0%BB%D1%8C%D0%BD%D0%BE%D1%81%D1%82%D0%B8":MAILTO:o_dosugd@mbstver.ru
END:VEVENT
BEGIN:VEVENT
DTSTART;VALUE=DATE:20250620
DTEND;VALUE=DATE:20250712
DTSTAMP:20260425T024723
CREATED:20250616T091846Z
LAST-MODIFIED:20250616T091846Z
UID:64793-1750377600-1752278399@mbstver.ru
SUMMARY:«Летнее настроение» выставка прикладных работ Натальи Буровой / Холл Детского зала / с 20 июня по 11 июля
DESCRIPTION:
URL:https://mbstver.ru/event/letnee-nastroenie-vystavka-prikladnyh-rabot-natali-burovoj-holl-detskogo-zala-s-20-iyunya-po-11-iyulya/
LOCATION:Холл Детского зала\, Тверской пр-т\, д. 5\, Тверь\, Российская Федерация
CATEGORIES:Выставка
ORGANIZER;CN="%D0%9E%D1%82%D0%B4%D0%B5%D0%BB %D0%B1%D0%B8%D0%B1%D0%BB%D0%B8%D0%BE%D1%82%D0%B5%D1%87%D0%BD%D0%BE%D0%B3%D0%BE %D0%BC%D0%B0%D1%80%D0%BA%D0%B5%D1%82%D0%B8%D0%BD%D0%B3%D0%B0 %D0%B8 %D0%BA%D1%83%D0%BB%D1%8C%D1%82%D1%83%D1%80%D0%BD%D0%BE-%D0%B4%D0%BE%D1%81%D1%83%D0%B3%D0%BE%D0%B2%D0%BE%D0%B9 %D0%B4%D0%B5%D1%8F%D1%82%D0%B5%D0%BB%D1%8C%D0%BD%D0%BE%D1%81%D1%82%D0%B8":MAILTO:o_dosugd@mbstver.ru
END:VEVENT
BEGIN:VEVENT
DTSTART;TZID=Europe/Moscow:20250621T120000
DTEND;TZID=Europe/Moscow:20250621T130000
DTSTAMP:20260425T024723
CREATED:20250522T091053Z
LAST-MODIFIED:20250522T091053Z
UID:64327-1750507200-1750510800@mbstver.ru
SUMMARY:«Музыка цветов» мастер-класс / Детский зал
DESCRIPTION:
URL:https://mbstver.ru/event/muzyka-czvetov-master-klass-detskij-zal/
LOCATION:Детский зал\, Тверской пр-т\, д. 5\, Тверь\, Российская Федерация
CATEGORIES:Мастер-класс
ORGANIZER;CN="%D0%9E%D1%82%D0%B4%D0%B5%D0%BB %D0%BE%D0%B1%D1%81%D0%BB%D1%83%D0%B6%D0%B8%D0%B2%D0%B0%D0%BD%D0%B8%D1%8F %D0%B4%D0%B5%D1%82%D0%B5%D0%B9":MAILTO:detsky-otd@mbstver.ru
END:VEVENT
BEGIN:VEVENT
DTSTART;TZID=Europe/Moscow:20250621T120000
DTEND;TZID=Europe/Moscow:20250621T130000
DTSTAMP:20260425T024723
CREATED:20250522T113828Z
LAST-MODIFIED:20250522T113828Z
UID:64388-1750507200-1750510800@mbstver.ru
SUMMARY:«Лучшая поэма о солдате» литературный час / Мультимедийный библиотечный центр
DESCRIPTION:/к 115-летию со дня рождения Александра Трифоновича Твардовского (1910-1971)\, советского поэта — 21 июня/
URL:https://mbstver.ru/event/luchshaya-poema-o-soldate-literaturnyj-chas-multimedijnyj-bibliotechnyj-czentr/
LOCATION:Мультимедийный библиотечный центр\, ул. С. Перовской\, д. 2\, Тверь\, Российская Федерация
CATEGORIES:Литературный час
ORGANIZER;CN="%D0%9C%D1%83%D0%BB%D1%8C%D1%82%D0%B8%D0%BC%D0%B5%D0%B4%D0%B8%D0%B9%D0%BD%D1%8B%D0%B9 %D0%B1%D0%B8%D0%B1%D0%BB%D0%B8%D0%BE%D1%82%D0%B5%D1%87%D0%BD%D1%8B%D0%B9 %D1%86%D0%B5%D0%BD%D1%82%D1%80":MAILTO:library_f19@mbstver.ru
END:VEVENT
BEGIN:VEVENT
DTSTART;TZID=Europe/Moscow:20250621T133000
DTEND;TZID=Europe/Moscow:20250621T143000
DTSTAMP:20260425T024723
CREATED:20250522T114003Z
LAST-MODIFIED:20250522T114003Z
UID:64390-1750512600-1750516200@mbstver.ru
SUMMARY:«И помнит мир спасенный!» час памяти / Детская библиотека им. Виталия Бианки
DESCRIPTION:/ко Дню памяти и скорби — 84-й годовщине начала Великой Отечественной войны (1941-1945 гг.) — 22 июня/
URL:https://mbstver.ru/event/i-pomnit-mir-spasennyj-chas-pamyati-detskaya-biblioteka-im-vitaliya-bianki/
LOCATION:Детская библиотека им. Виталия Бианки\, ул. Богданова\, д. 22\, корп. 1\, Тверь\, Российская Федерация
CATEGORIES:Час памяти
ORGANIZER;CN="%D0%94%D0%B5%D1%82%D1%81%D0%BA%D0%B0%D1%8F %D0%B1%D0%B8%D0%B1%D0%BB%D0%B8%D0%BE%D1%82%D0%B5%D0%BA%D0%B0 %D0%B8%D0%BC. %D0%92%D0%B8%D1%82%D0%B0%D0%BB%D0%B8%D1%8F %D0%91%D0%B8%D0%B0%D0%BD%D0%BA%D0%B8":MAILTO:library_f29@mbstver.ru
END:VEVENT
BEGIN:VEVENT
DTSTART;TZID=Europe/Moscow:20250621T150000
DTEND;TZID=Europe/Moscow:20250621T160000
DTSTAMP:20260425T024723
CREATED:20250522T091213Z
LAST-MODIFIED:20250522T091213Z
UID:64329-1750518000-1750521600@mbstver.ru
SUMMARY:«Завтра была война» час памяти / Музей книги
DESCRIPTION:/ко Дню памяти и скорби — 84-й годовщине начала Великой Отечественной войны (1941-1945 гг.) — 22 июня/
URL:https://mbstver.ru/event/zavtra-byla-vojna-chas-pamyati-muzej-knigi/
LOCATION:Музей книги\, Тверской пр-т\, д. 5\, Тверь\, Российская Федерация
CATEGORIES:Час памяти
ORGANIZER;CN="%D0%9E%D1%82%D0%B4%D0%B5%D0%BB %D1%80%D0%B5%D0%B4%D0%BA%D0%BE%D0%B3%D0%BE %D1%84%D0%BE%D0%BD%D0%B4%D0%B0":MAILTO:orgfond-otd@mbstver.ru
END:VEVENT
BEGIN:VEVENT
DTSTART;TZID=Europe/Moscow:20250621T170000
DTEND;TZID=Europe/Moscow:20250621T180000
DTSTAMP:20260425T024723
CREATED:20250522T092440Z
LAST-MODIFIED:20250522T092440Z
UID:64334-1750525200-1750528800@mbstver.ru
SUMMARY:«Тот самый длинный день» кинопоказ / Музей книги
DESCRIPTION:/ко Дню памяти и скорби — 84-й годовщине начала Великой Отечественной войны (1941-1945 гг.) — 22 июня/
URL:https://mbstver.ru/event/tot-samyj-dlinnyj-den-kinopokaz-muzej-knigi/
LOCATION:Музей книги\, Тверской пр-т\, д. 5\, Тверь\, Российская Федерация
CATEGORIES:Кинопоказ
ORGANIZER;CN="%D0%9E%D1%82%D0%B4%D0%B5%D0%BB %D1%80%D0%B5%D0%B4%D0%BA%D0%BE%D0%B3%D0%BE %D1%84%D0%BE%D0%BD%D0%B4%D0%B0":MAILTO:orgfond-otd@mbstver.ru
END:VEVENT
END:VCALENDAR