BEGIN:VCALENDAR
VERSION:2.0
PRODID:-//Муниципальная библиотечная система города Твери - ECPv6.11.2.1//NONSGML v1.0//EN
CALSCALE:GREGORIAN
METHOD:PUBLISH
X-WR-CALNAME:Муниципальная библиотечная система города Твери
X-ORIGINAL-URL:https://mbstver.ru
X-WR-CALDESC:Мероприятия для Муниципальная библиотечная система города Твери
REFRESH-INTERVAL;VALUE=DURATION:PT1H
X-Robots-Tag:noindex
X-PUBLISHED-TTL:PT1H
BEGIN:VTIMEZONE
TZID:Europe/Moscow
BEGIN:STANDARD
TZOFFSETFROM:+0300
TZOFFSETTO:+0300
TZNAME:MSK
DTSTART:20250101T000000
END:STANDARD
END:VTIMEZONE
BEGIN:VEVENT
DTSTART;VALUE=DATE:20250617
DTEND;VALUE=DATE:20250709
DTSTAMP:20260423T201658
CREATED:20250609T125846Z
LAST-MODIFIED:20250609T125846Z
UID:64680-1750118400-1752019199@mbstver.ru
SUMMARY:«Свой взгляд» выставка художественных работ Элины Вартановой / Выставочный зал / с 17 июня по 8 июля
DESCRIPTION:
URL:https://mbstver.ru/event/svoj-vzglyad-vystavka-hudozhestvennyh-rabot-eliny-vartanovoj-vystavochnyj-zal-s-17-iyunya-po-8-iyulya/
LOCATION:Выставочный зал\, Тверской пр-т\, д. 5\, Тверь\, Российская Федерация
CATEGORIES:Выставка
ORGANIZER;CN="%D0%9E%D1%82%D0%B4%D0%B5%D0%BB %D0%B1%D0%B8%D0%B1%D0%BB%D0%B8%D0%BE%D1%82%D0%B5%D1%87%D0%BD%D0%BE%D0%B3%D0%BE %D0%BC%D0%B0%D1%80%D0%BA%D0%B5%D1%82%D0%B8%D0%BD%D0%B3%D0%B0 %D0%B8 %D0%BA%D1%83%D0%BB%D1%8C%D1%82%D1%83%D1%80%D0%BD%D0%BE-%D0%B4%D0%BE%D1%81%D1%83%D0%B3%D0%BE%D0%B2%D0%BE%D0%B9 %D0%B4%D0%B5%D1%8F%D1%82%D0%B5%D0%BB%D1%8C%D0%BD%D0%BE%D1%81%D1%82%D0%B8":MAILTO:o_dosugd@mbstver.ru
END:VEVENT
BEGIN:VEVENT
DTSTART;VALUE=DATE:20250620
DTEND;VALUE=DATE:20250712
DTSTAMP:20260423T201658
CREATED:20250616T091846Z
LAST-MODIFIED:20250616T091846Z
UID:64793-1750377600-1752278399@mbstver.ru
SUMMARY:«Летнее настроение» выставка прикладных работ Натальи Буровой / Холл Детского зала / с 20 июня по 11 июля
DESCRIPTION:
URL:https://mbstver.ru/event/letnee-nastroenie-vystavka-prikladnyh-rabot-natali-burovoj-holl-detskogo-zala-s-20-iyunya-po-11-iyulya/
LOCATION:Холл Детского зала\, Тверской пр-т\, д. 5\, Тверь\, Российская Федерация
CATEGORIES:Выставка
ORGANIZER;CN="%D0%9E%D1%82%D0%B4%D0%B5%D0%BB %D0%B1%D0%B8%D0%B1%D0%BB%D0%B8%D0%BE%D1%82%D0%B5%D1%87%D0%BD%D0%BE%D0%B3%D0%BE %D0%BC%D0%B0%D1%80%D0%BA%D0%B5%D1%82%D0%B8%D0%BD%D0%B3%D0%B0 %D0%B8 %D0%BA%D1%83%D0%BB%D1%8C%D1%82%D1%83%D1%80%D0%BD%D0%BE-%D0%B4%D0%BE%D1%81%D1%83%D0%B3%D0%BE%D0%B2%D0%BE%D0%B9 %D0%B4%D0%B5%D1%8F%D1%82%D0%B5%D0%BB%D1%8C%D0%BD%D0%BE%D1%81%D1%82%D0%B8":MAILTO:o_dosugd@mbstver.ru
END:VEVENT
BEGIN:VEVENT
DTSTART;VALUE=DATE:20250708
DTEND;VALUE=DATE:20250722
DTSTAMP:20260423T201658
CREATED:20250717T075933Z
LAST-MODIFIED:20250717T075933Z
UID:66045-1751932800-1753142399@mbstver.ru
SUMMARY:«Слово доброе - Семья» выставка книг из редкого фонда / Музей книги / с 8 по 21 июля
DESCRIPTION:
URL:https://mbstver.ru/event/slovo-dobroe-semya-vystavka-knig-iz-redkogo-fonda-muzej-knigi-s-8-po-21-iyulya/
LOCATION:Музей книги\, Тверской пр-т\, д. 5\, Тверь\, Российская Федерация
CATEGORIES:Книжная выставка
ORGANIZER;CN="%D0%9E%D1%82%D0%B4%D0%B5%D0%BB %D1%80%D0%B5%D0%B4%D0%BA%D0%BE%D0%B3%D0%BE %D1%84%D0%BE%D0%BD%D0%B4%D0%B0":MAILTO:orgfond-otd@mbstver.ru
END:VEVENT
BEGIN:VEVENT
DTSTART;VALUE=DATE:20250708
DTEND;VALUE=DATE:20250801
DTSTAMP:20260423T201658
CREATED:20250717T082556Z
LAST-MODIFIED:20250801T133505Z
UID:66055-1751932800-1754006399@mbstver.ru
SUMMARY:«Птицы и фрукты» выставка керамических тарелок с анималистическими рисунками / Библиотека семейного чтения им.П.А. Кропоткина / с 8 июля по 31 августа
DESCRIPTION:
URL:https://mbstver.ru/event/pticzy-i-frukty-vystavka-keramicheskih-tarelok-s-animalisticheskimi-risunkami-biblioteka-semejnogo-chteniya-im-p-a-kropotkina-s-8-iyulya-po-31-avgusta/
LOCATION:Библиотека семейного чтения им. П.А. Кропоткина\, ул. Фурманова\, д. 1\, корп. А\, Тверь\, Российская Федерация
CATEGORIES:Выставка
ORGANIZER;CN="%D0%91%D0%B8%D0%B1%D0%BB%D0%B8%D0%BE%D1%82%D0%B5%D0%BA%D0%B0 %D1%81%D0%B5%D0%BC%D0%B5%D0%B9%D0%BD%D0%BE%D0%B3%D0%BE %D1%87%D1%82%D0%B5%D0%BD%D0%B8%D1%8F %D0%B8%D0%BC. %D0%9F.%D0%90. %D0%9A%D1%80%D0%BE%D0%BF%D0%BE%D1%82%D0%BA%D0%B8%D0%BD%D0%B0":MAILTO:f1tver@yandex.ru; library_f1@mbstver.ru
END:VEVENT
BEGIN:VEVENT
DTSTART;TZID=Europe/Moscow:20250708T120000
DTEND;TZID=Europe/Moscow:20250708T130000
DTSTAMP:20260423T201658
CREATED:20250623T112540Z
LAST-MODIFIED:20250717T074709Z
UID:64882-1751976000-1751979600@mbstver.ru
SUMMARY:«Магия бумажных лент» творческий мастер-класс по созданию оригинального подарка к празднику / Детский зал
DESCRIPTION:/к Всероссийскому дню семьи\, любви  и верности — 8 июля/
URL:https://mbstver.ru/event/eto-glavnoe-slovo-semya-akcziya-detskij-zal/
LOCATION:Детский зал\, Тверской пр-т\, д. 5\, Тверь\, Российская Федерация
CATEGORIES:Мастер-класс
ORGANIZER;CN="%D0%9E%D1%82%D0%B4%D0%B5%D0%BB %D0%BE%D0%B1%D1%81%D0%BB%D1%83%D0%B6%D0%B8%D0%B2%D0%B0%D0%BD%D0%B8%D1%8F %D0%B4%D0%B5%D1%82%D0%B5%D0%B9":MAILTO:detsky-otd@mbstver.ru
END:VEVENT
BEGIN:VEVENT
DTSTART;TZID=Europe/Moscow:20250708T120000
DTEND;TZID=Europe/Moscow:20250708T130000
DTSTAMP:20260423T201658
CREATED:20250624T090736Z
LAST-MODIFIED:20250624T090736Z
UID:64906-1751976000-1751979600@mbstver.ru
SUMMARY:«Ромашка\, ромашка - белый лепесток...» мастер-класс в технике аппликация из бумаги / Библиотека семейного чтения на Мигаловской набережной
DESCRIPTION:/к Всероссийскому дню семьи\, любви и верности — 8 июля/
URL:https://mbstver.ru/event/romashka-romashka-belyj-lepestok-master-klass-v-tehnike-applikacziya-iz-bumagi-biblioteka-semejnogo-chteniya-na-migalovskoj-naberezhnoj/
LOCATION:Библиотека семейного чтения на Мигаловской набережной\, Мигаловская наб.\, д. 4\, Тверь\, Российская Федерация
CATEGORIES:Мастер-класс
ORGANIZER;CN="%D0%91%D0%B8%D0%B1%D0%BB%D0%B8%D0%BE%D1%82%D0%B5%D0%BA%D0%B0 %D1%81%D0%B5%D0%BC%D0%B5%D0%B9%D0%BD%D0%BE%D0%B3%D0%BE %D1%87%D1%82%D0%B5%D0%BD%D0%B8%D1%8F %D0%BD%D0%B0 %D0%9C%D0%B8%D0%B3%D0%B0%D0%BB%D0%BE%D0%B2%D1%81%D0%BA%D0%BE%D0%B9 %D0%BD%D0%B0%D0%B1%D0%B5%D1%80%D0%B5%D0%B6%D0%BD%D0%BE%D0%B9":MAILTO:library_f25@mbstver.ru
END:VEVENT
BEGIN:VEVENT
DTSTART;TZID=Europe/Moscow:20250708T120000
DTEND;TZID=Europe/Moscow:20250708T130000
DTSTAMP:20260423T201658
CREATED:20250624T091400Z
LAST-MODIFIED:20250624T091400Z
UID:64908-1751976000-1751979600@mbstver.ru
SUMMARY:«Сказочные семьи» викторина / Детская библиотека им. Виталия Бианки
DESCRIPTION:/к Всероссийскому дню семьи\, любви и верности — 8 июля/
URL:https://mbstver.ru/event/skazochnye-semi-viktorina-detskaya-biblioteka-im-vitaliya-bianki-3/
LOCATION:Детская библиотека им. Виталия Бианки\, ул. Богданова\, д. 22\, корп. 1\, Тверь\, Российская Федерация
CATEGORIES:Викторина
ORGANIZER;CN="%D0%94%D0%B5%D1%82%D1%81%D0%BA%D0%B0%D1%8F %D0%B1%D0%B8%D0%B1%D0%BB%D0%B8%D0%BE%D1%82%D0%B5%D0%BA%D0%B0 %D0%B8%D0%BC. %D0%92%D0%B8%D1%82%D0%B0%D0%BB%D0%B8%D1%8F %D0%91%D0%B8%D0%B0%D0%BD%D0%BA%D0%B8":MAILTO:library_f29@mbstver.ru
END:VEVENT
BEGIN:VEVENT
DTSTART;TZID=Europe/Moscow:20250708T120000
DTEND;TZID=Europe/Moscow:20250708T140000
DTSTAMP:20260423T201658
CREATED:20250717T074947Z
LAST-MODIFIED:20250717T074947Z
UID:66040-1751976000-1751983200@mbstver.ru
SUMMARY:«Читаем вместе» беспроигрышная книжная лотерея / Детский зал
DESCRIPTION:/к Всероссийскому дню семьи\, любви  и верности — 8 июля/
URL:https://mbstver.ru/event/chitaem-vmeste-besproigryshnaya-knizhnaya-lotereya-detskij-zal/
LOCATION:Детский зал\, Тверской пр-т\, д. 5\, Тверь\, Российская Федерация
CATEGORIES:Лотерея
ORGANIZER;CN="%D0%9E%D1%82%D0%B4%D0%B5%D0%BB %D0%BE%D0%B1%D1%81%D0%BB%D1%83%D0%B6%D0%B8%D0%B2%D0%B0%D0%BD%D0%B8%D1%8F %D0%B4%D0%B5%D1%82%D0%B5%D0%B9":MAILTO:detsky-otd@mbstver.ru
END:VEVENT
BEGIN:VEVENT
DTSTART;TZID=Europe/Moscow:20250708T130000
DTEND;TZID=Europe/Moscow:20250708T140000
DTSTAMP:20260423T201658
CREATED:20250624T091604Z
LAST-MODIFIED:20250624T091604Z
UID:64910-1751979600-1751983200@mbstver.ru
SUMMARY:«Дарите радость и тепло!» мастер-класс по изготовлению открытки-ромашки из цветного картона и гофрированной бумаги / Детская библиотека им. Афанасия Никитина
DESCRIPTION:/к Всероссийскому дню семьи\, любви и верности — 8 июля/
URL:https://mbstver.ru/event/darite-radost-i-teplo-master-klass-po-izgotovleniyu-otkrytki-romashki-iz-czvetnogo-kartona-i-gofrirovannoj-bumagi-detskaya-biblioteka-im-afanasiya-nikitina/
LOCATION:Детская библиотека им. Афанасия Никитина\, наб. А. Никитина\, д. 54\, Тверь\, Российская Федерация
CATEGORIES:Мастер-класс
ORGANIZER;CN="%D0%94%D0%B5%D1%82%D1%81%D0%BA%D0%B0%D1%8F %D0%B1%D0%B8%D0%B1%D0%BB%D0%B8%D0%BE%D1%82%D0%B5%D0%BA%D0%B0 %D0%B8%D0%BC. %D0%90%D1%84%D0%B0%D0%BD%D0%B0%D1%81%D0%B8%D1%8F %D0%9D%D0%B8%D0%BA%D0%B8%D1%82%D0%B8%D0%BD%D0%B0":MAILTO:library_f18@mbstver.ru
END:VEVENT
BEGIN:VEVENT
DTSTART;TZID=Europe/Moscow:20250708T130000
DTEND;TZID=Europe/Moscow:20250708T140000
DTSTAMP:20260423T201658
CREATED:20250624T091738Z
LAST-MODIFIED:20250624T091738Z
UID:64912-1751979600-1751983200@mbstver.ru
SUMMARY:«Всё начинается с семьи» викторина / Библиотека семейного чтения на Пролетарке
DESCRIPTION:/к Всероссийскому дню семьи\, любви и верности — 8 июля/
URL:https://mbstver.ru/event/vsyo-nachinaetsya-s-semi-viktorina-biblioteka-semejnogo-chteniya-na-proletarke/
LOCATION:Библиотека семейного чтения на Пролетарке\, пр-т Калинина\, д. 20\, Тверь\, Российская Федерация
CATEGORIES:Викторина
ORGANIZER;CN="%D0%91%D0%B8%D0%B1%D0%BB%D0%B8%D0%BE%D1%82%D0%B5%D0%BA%D0%B0 %D1%81%D0%B5%D0%BC%D0%B5%D0%B9%D0%BD%D0%BE%D0%B3%D0%BE %D1%87%D1%82%D0%B5%D0%BD%D0%B8%D1%8F %D0%BD%D0%B0 %D0%9F%D1%80%D0%BE%D0%BB%D0%B5%D1%82%D0%B0%D1%80%D0%BA%D0%B5":MAILTO:library_f33@mbstver.ru
END:VEVENT
BEGIN:VEVENT
DTSTART;TZID=Europe/Moscow:20250708T140000
DTEND;TZID=Europe/Moscow:20250708T150000
DTSTAMP:20260423T201658
CREATED:20250624T091925Z
LAST-MODIFIED:20250624T091925Z
UID:64914-1751983200-1751986800@mbstver.ru
SUMMARY:«Ромашки нежный лепесток» мастер-класс по изготовлению ромашек из бумаги / Библиотека семейного чтения им. Б.Н. Полевого
DESCRIPTION:/к Всероссийскому дню семьи\, любви и верности — 8 июля/
URL:https://mbstver.ru/event/romashki-nezhnyj-lepestok-master-klass-po-izgotovleniyu-romashek-iz-bumagi-biblioteka-semejnogo-chteniya-im-b-n-polevogo/
LOCATION:Библиотека семейного чтения им. Б.Н. Полевого\, Пролетарская наб.\, д. 5\, Тверь\, Российская Федерация
CATEGORIES:Мастер-класс
ORGANIZER;CN="%D0%91%D0%B8%D0%B1%D0%BB%D0%B8%D0%BE%D1%82%D0%B5%D0%BA%D0%B0 %D1%81%D0%B5%D0%BC%D0%B5%D0%B9%D0%BD%D0%BE%D0%B3%D0%BE %D1%87%D1%82%D0%B5%D0%BD%D0%B8%D1%8F %D0%B8%D0%BC. %D0%91.%D0%9D. %D0%9F%D0%BE%D0%BB%D0%B5%D0%B2%D0%BE%D0%B3%D0%BE":MAILTO:library_f21@mbstver.ru
END:VEVENT
BEGIN:VEVENT
DTSTART;TZID=Europe/Moscow:20250708T140000
DTEND;TZID=Europe/Moscow:20250708T160000
DTSTAMP:20260423T201658
CREATED:20250623T113127Z
LAST-MODIFIED:20250717T075057Z
UID:64884-1751983200-1751990400@mbstver.ru
SUMMARY:«Пальма» кинолекторий по художественному фильму / Конференц-зал
DESCRIPTION:(режиссёр: Александр Домогаров мл.\, Россия\, 2020 г.) \n/к Всероссийскому дню семьи\, любви и верности — 8 июля/ \n 
URL:https://mbstver.ru/event/palma-kinolektorij-konferencz-zal/
LOCATION:Конференц-зал\, Тверской пр-т\, д. 5\, Тверь\, Российская Федерация
CATEGORIES:Кинолекторий
ORGANIZER;CN="%D0%9E%D1%82%D0%B4%D0%B5%D0%BB %D0%B1%D0%B8%D0%B1%D0%BB%D0%B8%D0%BE%D1%82%D0%B5%D1%87%D0%BD%D0%BE%D0%B3%D0%BE %D0%BC%D0%B0%D1%80%D0%BA%D0%B5%D1%82%D0%B8%D0%BD%D0%B3%D0%B0 %D0%B8 %D0%BA%D1%83%D0%BB%D1%8C%D1%82%D1%83%D1%80%D0%BD%D0%BE-%D0%B4%D0%BE%D1%81%D1%83%D0%B3%D0%BE%D0%B2%D0%BE%D0%B9 %D0%B4%D0%B5%D1%8F%D1%82%D0%B5%D0%BB%D1%8C%D0%BD%D0%BE%D1%81%D1%82%D0%B8":MAILTO:o_dosugd@mbstver.ru
END:VEVENT
BEGIN:VEVENT
DTSTART;TZID=Europe/Moscow:20250708T140000
DTEND;TZID=Europe/Moscow:20250708T160000
DTSTAMP:20260423T201658
CREATED:20250717T075421Z
LAST-MODIFIED:20250717T075421Z
UID:66043-1751983200-1751990400@mbstver.ru
SUMMARY:«Семейная игротека» настольные игры / Детский зал
DESCRIPTION:/к Всероссийскому дню семьи\, любви и верности — 8 июля/
URL:https://mbstver.ru/event/semejnaya-igroteka-nastolnye-igry-detskij-zal/
LOCATION:Детский зал\, Тверской пр-т\, д. 5\, Тверь\, Российская Федерация
CATEGORIES:Игротека
ORGANIZER;CN="%D0%9E%D1%82%D0%B4%D0%B5%D0%BB %D0%BE%D0%B1%D1%81%D0%BB%D1%83%D0%B6%D0%B8%D0%B2%D0%B0%D0%BD%D0%B8%D1%8F %D0%B4%D0%B5%D1%82%D0%B5%D0%B9":MAILTO:detsky-otd@mbstver.ru
END:VEVENT
BEGIN:VEVENT
DTSTART;TZID=Europe/Moscow:20250708T160000
DTEND;TZID=Europe/Moscow:20250708T170000
DTSTAMP:20260423T201658
CREATED:20250702T083842Z
LAST-MODIFIED:20250702T083842Z
UID:65052-1751990400-1751994000@mbstver.ru
SUMMARY:«В тени великих» лекция о жёнах известных писателей и поэтов / Музей книги
DESCRIPTION:/к Всероссийскому дню семьи\, любви и верности — 8 июля/
URL:https://mbstver.ru/event/v-teni-velikih-lekcziya-o-zhyonah-izvestnyh-pisatelej-i-poetov-muzej-knigi-2/
LOCATION:Музей книги\, Тверской пр-т\, д. 5\, Тверь\, Российская Федерация
CATEGORIES:Лекция
ORGANIZER;CN="%D0%9E%D1%82%D0%B4%D0%B5%D0%BB %D1%80%D0%B5%D0%B4%D0%BA%D0%BE%D0%B3%D0%BE %D1%84%D0%BE%D0%BD%D0%B4%D0%B0":MAILTO:orgfond-otd@mbstver.ru
END:VEVENT
END:VCALENDAR