BEGIN:VCALENDAR
VERSION:2.0
PRODID:-//Муниципальная библиотечная система города Твери - ECPv6.11.2.1//NONSGML v1.0//EN
CALSCALE:GREGORIAN
METHOD:PUBLISH
X-WR-CALNAME:Муниципальная библиотечная система города Твери
X-ORIGINAL-URL:https://mbstver.ru
X-WR-CALDESC:Мероприятия для Муниципальная библиотечная система города Твери
REFRESH-INTERVAL;VALUE=DURATION:PT1H
X-Robots-Tag:noindex
X-PUBLISHED-TTL:PT1H
BEGIN:VTIMEZONE
TZID:Europe/Moscow
BEGIN:STANDARD
TZOFFSETFROM:+0300
TZOFFSETTO:+0300
TZNAME:MSK
DTSTART:20250101T000000
END:STANDARD
END:VTIMEZONE
BEGIN:VEVENT
DTSTART;VALUE=DATE:20250708
DTEND;VALUE=DATE:20250722
DTSTAMP:20260423T095248
CREATED:20250717T075933Z
LAST-MODIFIED:20250717T075933Z
UID:66045-1751932800-1753142399@mbstver.ru
SUMMARY:«Слово доброе - Семья» выставка книг из редкого фонда / Музей книги / с 8 по 21 июля
DESCRIPTION:
URL:https://mbstver.ru/event/slovo-dobroe-semya-vystavka-knig-iz-redkogo-fonda-muzej-knigi-s-8-po-21-iyulya/
LOCATION:Музей книги\, Тверской пр-т\, д. 5\, Тверь\, Российская Федерация
CATEGORIES:Книжная выставка
ORGANIZER;CN="%D0%9E%D1%82%D0%B4%D0%B5%D0%BB %D1%80%D0%B5%D0%B4%D0%BA%D0%BE%D0%B3%D0%BE %D1%84%D0%BE%D0%BD%D0%B4%D0%B0":MAILTO:orgfond-otd@mbstver.ru
END:VEVENT
BEGIN:VEVENT
DTSTART;VALUE=DATE:20250708
DTEND;VALUE=DATE:20250801
DTSTAMP:20260423T095248
CREATED:20250717T082556Z
LAST-MODIFIED:20250801T133505Z
UID:66055-1751932800-1754006399@mbstver.ru
SUMMARY:«Птицы и фрукты» выставка керамических тарелок с анималистическими рисунками / Библиотека семейного чтения им.П.А. Кропоткина / с 8 июля по 31 августа
DESCRIPTION:
URL:https://mbstver.ru/event/pticzy-i-frukty-vystavka-keramicheskih-tarelok-s-animalisticheskimi-risunkami-biblioteka-semejnogo-chteniya-im-p-a-kropotkina-s-8-iyulya-po-31-avgusta/
LOCATION:Библиотека семейного чтения им. П.А. Кропоткина\, ул. Фурманова\, д. 1\, корп. А\, Тверь\, Российская Федерация
CATEGORIES:Выставка
ORGANIZER;CN="%D0%91%D0%B8%D0%B1%D0%BB%D0%B8%D0%BE%D1%82%D0%B5%D0%BA%D0%B0 %D1%81%D0%B5%D0%BC%D0%B5%D0%B9%D0%BD%D0%BE%D0%B3%D0%BE %D1%87%D1%82%D0%B5%D0%BD%D0%B8%D1%8F %D0%B8%D0%BC. %D0%9F.%D0%90. %D0%9A%D1%80%D0%BE%D0%BF%D0%BE%D1%82%D0%BA%D0%B8%D0%BD%D0%B0":MAILTO:f1tver@yandex.ru; library_f1@mbstver.ru
END:VEVENT
BEGIN:VEVENT
DTSTART;VALUE=DATE:20250709
DTEND;VALUE=DATE:20250731
DTSTAMP:20260423T095248
CREATED:20250717T080734Z
LAST-MODIFIED:20250717T080734Z
UID:66049-1752019200-1753919999@mbstver.ru
SUMMARY:«Тихая моя родина» выставка живописи / Выставочный зал / с 9 по 30 июля
DESCRIPTION:
URL:https://mbstver.ru/event/tihaya-moya-rodina-vystavka-zhivopisi-vystavochnyj-zal-s-9-po-30-iyulya/
LOCATION:Выставочный зал\, Тверской пр-т\, д. 5\, Тверь\, Российская Федерация
CATEGORIES:Выставка живописи
ORGANIZER;CN="%D0%9E%D1%82%D0%B4%D0%B5%D0%BB %D0%B1%D0%B8%D0%B1%D0%BB%D0%B8%D0%BE%D1%82%D0%B5%D1%87%D0%BD%D0%BE%D0%B3%D0%BE %D0%BC%D0%B0%D1%80%D0%BA%D0%B5%D1%82%D0%B8%D0%BD%D0%B3%D0%B0 %D0%B8 %D0%BA%D1%83%D0%BB%D1%8C%D1%82%D1%83%D1%80%D0%BD%D0%BE-%D0%B4%D0%BE%D1%81%D1%83%D0%B3%D0%BE%D0%B2%D0%BE%D0%B9 %D0%B4%D0%B5%D1%8F%D1%82%D0%B5%D0%BB%D1%8C%D0%BD%D0%BE%D1%81%D1%82%D0%B8":MAILTO:o_dosugd@mbstver.ru
END:VEVENT
BEGIN:VEVENT
DTSTART;VALUE=DATE:20250712
DTEND;VALUE=DATE:20250803
DTSTAMP:20260423T095248
CREATED:20250717T080554Z
LAST-MODIFIED:20250717T080554Z
UID:66047-1752278400-1754179199@mbstver.ru
SUMMARY:«Имена Золотой книги Твери» выставка макета книги и изданий из редкого фонда библиотеки / Холл Детского зала / с 12 июля по 2 августа
DESCRIPTION:
URL:https://mbstver.ru/event/imena-zolotoj-knigi-tveri-vystavka-maketa-knigi-i-izdanij-iz-redkogo-fonda-biblioteki-holl-detskogo-zala-s-12-iyulya-po-2-avgusta/
LOCATION:Холл Детского зала\, Тверской пр-т\, д. 5\, Тверь\, Российская Федерация
CATEGORIES:Выставка
ORGANIZER;CN="%D0%9E%D1%82%D0%B4%D0%B5%D0%BB %D1%80%D0%B5%D0%B4%D0%BA%D0%BE%D0%B3%D0%BE %D1%84%D0%BE%D0%BD%D0%B4%D0%B0":MAILTO:orgfond-otd@mbstver.ru
END:VEVENT
BEGIN:VEVENT
DTSTART;TZID=Europe/Moscow:20250714T140000
DTEND;TZID=Europe/Moscow:20250714T150000
DTSTAMP:20260423T095248
CREATED:20250624T092500Z
LAST-MODIFIED:20250624T092500Z
UID:64924-1752501600-1752505200@mbstver.ru
SUMMARY:«Сказочный понедельник: За лесами за морями\, ждут нас сказки с чудесами!» сказочное путешествие по русским народным сказкам / Библиотека семейного чтения им. Б.Н. Полевого
DESCRIPTION:
URL:https://mbstver.ru/event/skazochnyj-ponedelnik-za-lesami-za-moryami-zhdut-nas-skazki-s-chudesami-skazochnoe-puteshestvie-po-russkim-narodnym-skazkam-biblioteka-semejnogo-chteniya-im-b-n-polevogo-2/
LOCATION:Библиотека семейного чтения им. Б.Н. Полевого\, Пролетарская наб.\, д. 5\, Тверь\, Российская Федерация
CATEGORIES:Сказочное путешествие
ORGANIZER;CN="%D0%91%D0%B8%D0%B1%D0%BB%D0%B8%D0%BE%D1%82%D0%B5%D0%BA%D0%B0 %D1%81%D0%B5%D0%BC%D0%B5%D0%B9%D0%BD%D0%BE%D0%B3%D0%BE %D1%87%D1%82%D0%B5%D0%BD%D0%B8%D1%8F %D0%B8%D0%BC. %D0%91.%D0%9D. %D0%9F%D0%BE%D0%BB%D0%B5%D0%B2%D0%BE%D0%B3%D0%BE":MAILTO:library_f21@mbstver.ru
END:VEVENT
BEGIN:VEVENT
DTSTART;TZID=Europe/Moscow:20250714T140000
DTEND;TZID=Europe/Moscow:20250714T150000
DTSTAMP:20260423T095248
CREATED:20250717T074025Z
LAST-MODIFIED:20250717T074025Z
UID:66036-1752501600-1752505200@mbstver.ru
SUMMARY:«Фольклорные источники в творчестве А.С. Пушкина» лекция / Горница
DESCRIPTION:
URL:https://mbstver.ru/event/folklornye-istochniki-v-tvorchestve-a-s-pushkina-lekcziya-gornicza/
LOCATION:Горница\, Тверской пр-т\, д. 5\, Тверь\, Российская Федерация
CATEGORIES:Лекция
ORGANIZER;CN="%D0%9E%D1%82%D0%B4%D0%B5%D0%BB %D0%B1%D0%B8%D0%B1%D0%BB%D0%B8%D0%BE%D1%82%D0%B5%D1%87%D0%BD%D0%BE%D0%B3%D0%BE %D0%BC%D0%B0%D1%80%D0%BA%D0%B5%D1%82%D0%B8%D0%BD%D0%B3%D0%B0 %D0%B8 %D0%BA%D1%83%D0%BB%D1%8C%D1%82%D1%83%D1%80%D0%BD%D0%BE-%D0%B4%D0%BE%D1%81%D1%83%D0%B3%D0%BE%D0%B2%D0%BE%D0%B9 %D0%B4%D0%B5%D1%8F%D1%82%D0%B5%D0%BB%D1%8C%D0%BD%D0%BE%D1%81%D1%82%D0%B8":MAILTO:o_dosugd@mbstver.ru
END:VEVENT
END:VCALENDAR