BEGIN:VCALENDAR
VERSION:2.0
PRODID:-//Муниципальная библиотечная система города Твери - ECPv6.11.2.1//NONSGML v1.0//EN
CALSCALE:GREGORIAN
METHOD:PUBLISH
X-ORIGINAL-URL:https://mbstver.ru
X-WR-CALDESC:Мероприятия для Муниципальная библиотечная система города Твери
REFRESH-INTERVAL;VALUE=DURATION:PT1H
X-Robots-Tag:noindex
X-PUBLISHED-TTL:PT1H
BEGIN:VTIMEZONE
TZID:Europe/Moscow
BEGIN:STANDARD
TZOFFSETFROM:+0300
TZOFFSETTO:+0300
TZNAME:MSK
DTSTART:20260101T000000
END:STANDARD
END:VTIMEZONE
BEGIN:VEVENT
DTSTART;VALUE=DATE:20260104
DTEND;VALUE=DATE:20260126
DTSTAMP:20260426T064810
CREATED:20260105T105505Z
LAST-MODIFIED:20260105T105505Z
UID:70631-1767484800-1769385599@mbstver.ru
SUMMARY:«Игрушки СССР: Новый год и традиции» выставка экспонатов Тверского Музея детства и игрушек «Лисичкины сказки» / Холл Детского зала / с 4 по 25 января
DESCRIPTION:
URL:https://mbstver.ru/event/igrushki-sssr-novyj-god-i-tradiczii-vystavka-eksponatov-tverskogo-muzeya-detstva-i-igrushek-lisichkiny-skazki-holl-detskogo-zala-s-4-po-25-yanvarya/
LOCATION:Холл Детского зала\, Тверской пр-т\, д. 5\, Тверь\, Российская Федерация
CATEGORIES:Выставка
ORGANIZER;CN="%D0%9E%D1%82%D0%B4%D0%B5%D0%BB %D0%B1%D0%B8%D0%B1%D0%BB%D0%B8%D0%BE%D1%82%D0%B5%D1%87%D0%BD%D0%BE%D0%B3%D0%BE %D0%BC%D0%B0%D1%80%D0%BA%D0%B5%D1%82%D0%B8%D0%BD%D0%B3%D0%B0 %D0%B8 %D0%BA%D1%83%D0%BB%D1%8C%D1%82%D1%83%D1%80%D0%BD%D0%BE-%D0%B4%D0%BE%D1%81%D1%83%D0%B3%D0%BE%D0%B2%D0%BE%D0%B9 %D0%B4%D0%B5%D1%8F%D1%82%D0%B5%D0%BB%D1%8C%D0%BD%D0%BE%D1%81%D1%82%D0%B8":MAILTO:o_dosugd@mbstver.ru
END:VEVENT
BEGIN:VEVENT
DTSTART;VALUE=DATE:20260109
DTEND;VALUE=DATE:20260131
DTSTAMP:20260426T064810
CREATED:20260109T091320Z
LAST-MODIFIED:20260109T091320Z
UID:70654-1767916800-1769817599@mbstver.ru
SUMMARY:«Провинциальные сюжеты» выставка живописи Анастасии Валь\, Светланы Матвеевой и Валентины Крыловой / Выставочный зал / с 9 по 30 января
DESCRIPTION:
URL:https://mbstver.ru/event/provinczialnye-syuzhety-vystavka-zhivopisi-anastasii-val-svetlany-matveevoj-i-valentiny-krylovoj-vystavochnyj-zal-s-9-po-30-yanvarya/
LOCATION:Выставочный зал\, Тверской пр-т\, д. 5\, Тверь\, Российская Федерация
CATEGORIES:Выставка живописи
ORGANIZER;CN="%D0%9E%D1%82%D0%B4%D0%B5%D0%BB %D0%B1%D0%B8%D0%B1%D0%BB%D0%B8%D0%BE%D1%82%D0%B5%D1%87%D0%BD%D0%BE%D0%B3%D0%BE %D0%BC%D0%B0%D1%80%D0%BA%D0%B5%D1%82%D0%B8%D0%BD%D0%B3%D0%B0 %D0%B8 %D0%BA%D1%83%D0%BB%D1%8C%D1%82%D1%83%D1%80%D0%BD%D0%BE-%D0%B4%D0%BE%D1%81%D1%83%D0%B3%D0%BE%D0%B2%D0%BE%D0%B9 %D0%B4%D0%B5%D1%8F%D1%82%D0%B5%D0%BB%D1%8C%D0%BD%D0%BE%D1%81%D1%82%D0%B8":MAILTO:o_dosugd@mbstver.ru
END:VEVENT
BEGIN:VEVENT
DTSTART;TZID=Europe/Moscow:20260121T180000
DTEND;TZID=Europe/Moscow:20260121T193000
DTSTAMP:20260426T064810
CREATED:20251222T091329Z
LAST-MODIFIED:20251222T091329Z
UID:70127-1769018400-1769023800@mbstver.ru
SUMMARY:«Психосоматика кожных заболеваний» заседание в клубе «Азбука психологии» / Конференц-зал
DESCRIPTION:
URL:https://mbstver.ru/event/psihosomatika-kozhnyh-zabolevanij-zasedanie-v-klube-azbuka-psihologii-konferencz-zal/
LOCATION:Конференц-зал\, Тверской пр-т\, д. 5\, Тверь\, Российская Федерация
CATEGORIES:Заседание
ORGANIZER;CN="%D0%9E%D1%82%D0%B4%D0%B5%D0%BB %D0%B1%D0%B8%D0%B1%D0%BB%D0%B8%D0%BE%D1%82%D0%B5%D1%87%D0%BD%D0%BE%D0%B3%D0%BE %D0%BC%D0%B0%D1%80%D0%BA%D0%B5%D1%82%D0%B8%D0%BD%D0%B3%D0%B0 %D0%B8 %D0%BA%D1%83%D0%BB%D1%8C%D1%82%D1%83%D1%80%D0%BD%D0%BE-%D0%B4%D0%BE%D1%81%D1%83%D0%B3%D0%BE%D0%B2%D0%BE%D0%B9 %D0%B4%D0%B5%D1%8F%D1%82%D0%B5%D0%BB%D1%8C%D0%BD%D0%BE%D1%81%D1%82%D0%B8":MAILTO:o_dosugd@mbstver.ru
END:VEVENT
BEGIN:VEVENT
DTSTART;TZID=Europe/Moscow:20260121T180000
DTEND;TZID=Europe/Moscow:20260121T193000
DTSTAMP:20260426T064810
CREATED:20251222T091427Z
LAST-MODIFIED:20251222T091427Z
UID:70129-1769018400-1769023800@mbstver.ru
SUMMARY:«Ваш ход!» турнир настольных игр / Михайловский зал
DESCRIPTION:
URL:https://mbstver.ru/event/vash-hod-turnir-nastolnyh-igr-mihajlovskij-zal-2/
LOCATION:Михайловский зал\, Тверской пр-т\, д. 5\, Тверь\, Российская Федерация
CATEGORIES:Турнир настольных игр
ORGANIZER;CN="%D0%9E%D1%82%D0%B4%D0%B5%D0%BB %D0%BE%D0%B1%D1%81%D0%BB%D1%83%D0%B6%D0%B8%D0%B2%D0%B0%D0%BD%D0%B8%D1%8F %D0%B8 %D0%BA%D0%BD%D0%B8%D0%B3%D0%BE%D1%85%D1%80%D0%B0%D0%BD%D0%B5%D0%BD%D0%B8%D1%8F":MAILTO:otd-obsl@mbstver.ru
END:VEVENT
BEGIN:VEVENT
DTSTART;TZID=Europe/Moscow:20260121T180000
DTEND;TZID=Europe/Moscow:20260121T193000
DTSTAMP:20260426T064810
CREATED:20260112T075740Z
LAST-MODIFIED:20260114T060213Z
UID:70702-1769018400-1769023800@mbstver.ru
SUMMARY:«Николай Глазков: игра в дурака» поэтическая гостиная / Михайловский зал
DESCRIPTION:
URL:https://mbstver.ru/event/nikolaj-glazkov-igra-v-duraka-poeticheskaya-gostinaya-mihajlovskij-zal/
LOCATION:Михайловский зал\, Тверской пр-т\, д. 5\, Тверь\, Российская Федерация
CATEGORIES:Поэтическая гостиная
ORGANIZER;CN="%D0%9E%D1%82%D0%B4%D0%B5%D0%BB %D0%BE%D0%B1%D1%81%D0%BB%D1%83%D0%B6%D0%B8%D0%B2%D0%B0%D0%BD%D0%B8%D1%8F %D0%B8 %D0%BA%D0%BD%D0%B8%D0%B3%D0%BE%D1%85%D1%80%D0%B0%D0%BD%D0%B5%D0%BD%D0%B8%D1%8F":MAILTO:otd-obsl@mbstver.ru
END:VEVENT
END:VCALENDAR