BEGIN:VCALENDAR
VERSION:2.0
PRODID:-//Муниципальная библиотечная система города Твери - ECPv6.11.2.1//NONSGML v1.0//EN
CALSCALE:GREGORIAN
METHOD:PUBLISH
X-WR-CALNAME:Муниципальная библиотечная система города Твери
X-ORIGINAL-URL:https://mbstver.ru
X-WR-CALDESC:Мероприятия для Муниципальная библиотечная система города Твери
REFRESH-INTERVAL;VALUE=DURATION:PT1H
X-Robots-Tag:noindex
X-PUBLISHED-TTL:PT1H
BEGIN:VTIMEZONE
TZID:Europe/Moscow
BEGIN:STANDARD
TZOFFSETFROM:+0300
TZOFFSETTO:+0300
TZNAME:MSK
DTSTART:20260101T000000
END:STANDARD
END:VTIMEZONE
BEGIN:VEVENT
DTSTART;VALUE=DATE:20260109
DTEND;VALUE=DATE:20260131
DTSTAMP:20260425T191437
CREATED:20260109T091320Z
LAST-MODIFIED:20260109T091320Z
UID:70654-1767916800-1769817599@mbstver.ru
SUMMARY:«Провинциальные сюжеты» выставка живописи Анастасии Валь\, Светланы Матвеевой и Валентины Крыловой / Выставочный зал / с 9 по 30 января
DESCRIPTION:
URL:https://mbstver.ru/event/provinczialnye-syuzhety-vystavka-zhivopisi-anastasii-val-svetlany-matveevoj-i-valentiny-krylovoj-vystavochnyj-zal-s-9-po-30-yanvarya/
LOCATION:Выставочный зал\, Тверской пр-т\, д. 5\, Тверь\, Российская Федерация
CATEGORIES:Выставка живописи
ORGANIZER;CN="%D0%9E%D1%82%D0%B4%D0%B5%D0%BB %D0%B1%D0%B8%D0%B1%D0%BB%D0%B8%D0%BE%D1%82%D0%B5%D1%87%D0%BD%D0%BE%D0%B3%D0%BE %D0%BC%D0%B0%D1%80%D0%BA%D0%B5%D1%82%D0%B8%D0%BD%D0%B3%D0%B0 %D0%B8 %D0%BA%D1%83%D0%BB%D1%8C%D1%82%D1%83%D1%80%D0%BD%D0%BE-%D0%B4%D0%BE%D1%81%D1%83%D0%B3%D0%BE%D0%B2%D0%BE%D0%B9 %D0%B4%D0%B5%D1%8F%D1%82%D0%B5%D0%BB%D1%8C%D0%BD%D0%BE%D1%81%D1%82%D0%B8":MAILTO:o_dosugd@mbstver.ru
END:VEVENT
BEGIN:VEVENT
DTSTART;VALUE=DATE:20260126
DTEND;VALUE=DATE:20260217
DTSTAMP:20260425T191437
CREATED:20260114T095156Z
LAST-MODIFIED:20260114T095156Z
UID:70792-1769385600-1771286399@mbstver.ru
SUMMARY:«Золотое перо сатиры» книжно-иллюстративная выставка изданий из редкого фонда\, посвящённая 200-летию со дня рождения М.Е. Салтыкова-Щедрина / с 26 января по 16 февраля / Холл Детского зала
DESCRIPTION:
URL:https://mbstver.ru/event/zolotoe-pero-satiry-knizhno-illyustrativnaya-vystavka-izdanij-iz-redkogo-fonda-posvyashhyonnaya-200-letiyu-so-dnya-rozhdeniya-m-e-saltykova-shhedrina-s-26-yanvarya-po-16-fevralya-hol/
LOCATION:Холл Детского зала\, Тверской пр-т\, д. 5\, Тверь\, Российская Федерация
CATEGORIES:Выставка
ORGANIZER;CN="%D0%9E%D1%82%D0%B4%D0%B5%D0%BB %D1%80%D0%B5%D0%B4%D0%BA%D0%BE%D0%B3%D0%BE %D1%84%D0%BE%D0%BD%D0%B4%D0%B0":MAILTO:orgfond-otd@mbstver.ru
END:VEVENT
BEGIN:VEVENT
DTSTART;TZID=Europe/Moscow:20260127T110000
DTEND;TZID=Europe/Moscow:20260127T120000
DTSTAMP:20260425T191437
CREATED:20251224T071259Z
LAST-MODIFIED:20251224T071259Z
UID:70378-1769511600-1769515200@mbstver.ru
SUMMARY:«Непокоренный Ленинград» час мужества / Библиотека семейного чтения им. С.М. Кирова
DESCRIPTION:/ко Дню воинской славы России — Дню снятия блокады города Ленинграда (1944) — 27 января/
URL:https://mbstver.ru/event/nepokorennyj-leningrad-chas-muzhestva-biblioteka-semejnogo-chteniya-im-s-m-kirova/
LOCATION:Библиотека семейного чтения им. С.М. Кирова\, ул. Бобкова\, д. 12\, Тверь\, Российская Федерация
CATEGORIES:Час мужества
ORGANIZER;CN="%D0%91%D0%B8%D0%B1%D0%BB%D0%B8%D0%BE%D1%82%D0%B5%D0%BA%D0%B0 %D1%81%D0%B5%D0%BC%D0%B5%D0%B9%D0%BD%D0%BE%D0%B3%D0%BE %D1%87%D1%82%D0%B5%D0%BD%D0%B8%D1%8F %D0%B8%D0%BC. %D0%A1.%D0%9C. %D0%9A%D0%B8%D1%80%D0%BE%D0%B2%D0%B0":MAILTO:library_f3@mbstver.ru
END:VEVENT
BEGIN:VEVENT
DTSTART;TZID=Europe/Moscow:20260127T110000
DTEND;TZID=Europe/Moscow:20260127T120000
DTSTAMP:20260425T191437
CREATED:20251224T071421Z
LAST-MODIFIED:20251224T071421Z
UID:70380-1769511600-1769515200@mbstver.ru
SUMMARY:«125 блокадных грамм» урок памяти / Библиотека семейного чтения поселка Элеватор
DESCRIPTION:/ко Дню воинской славы России — Дню снятия блокады города Ленинграда (1944) — 27 января/
URL:https://mbstver.ru/event/125-blokadnyh-gramm-urok-pamyati-biblioteka-semejnogo-chteniya-poselka-elevator-2/
LOCATION:Библиотека семейного чтения пос. Элеватор\, пос. Элеватор\, 1-ый пер\, д. 1\, Тверь\, Российская Федерация
CATEGORIES:Урок памяти
ORGANIZER;CN="%D0%91%D0%B8%D0%B1%D0%BB%D0%B8%D0%BE%D1%82%D0%B5%D0%BA%D0%B0 %D1%81%D0%B5%D0%BC%D0%B5%D0%B9%D0%BD%D0%BE%D0%B3%D0%BE %D1%87%D1%82%D0%B5%D0%BD%D0%B8%D1%8F %D0%BF%D0%BE%D1%81. %D0%AD%D0%BB%D0%B5%D0%B2%D0%B0%D1%82%D0%BE%D1%80":MAILTO:mbsfil13@yandex.ru; library_f13@mbstver.ru
END:VEVENT
BEGIN:VEVENT
DTSTART;TZID=Europe/Moscow:20260127T120000
DTEND;TZID=Europe/Moscow:20260127T130000
DTSTAMP:20260425T191437
CREATED:20251224T073129Z
LAST-MODIFIED:20251224T073129Z
UID:70382-1769515200-1769518800@mbstver.ru
SUMMARY:«По страницам сказок» литературный час / Мультимедийный библиотечный центр
DESCRIPTION:/к 200-летию со дня рождения Михаила Евграфовича Салтыкова-Щедрина (1826-1889)\, русского писателя-сатирика — 27 января/
URL:https://mbstver.ru/event/po-straniczam-skazok-literaturnyj-chas-multimedijnyj-bibliotechnyj-czentr/
LOCATION:Мультимедийный библиотечный центр\, ул. С. Перовской\, д. 2\, Тверь\, Российская Федерация
CATEGORIES:Литературный час
ORGANIZER;CN="%D0%9C%D1%83%D0%BB%D1%8C%D1%82%D0%B8%D0%BC%D0%B5%D0%B4%D0%B8%D0%B9%D0%BD%D1%8B%D0%B9 %D0%B1%D0%B8%D0%B1%D0%BB%D0%B8%D0%BE%D1%82%D0%B5%D1%87%D0%BD%D1%8B%D0%B9 %D1%86%D0%B5%D0%BD%D1%82%D1%80":MAILTO:library_f19@mbstver.ru
END:VEVENT
BEGIN:VEVENT
DTSTART;TZID=Europe/Moscow:20260127T140000
DTEND;TZID=Europe/Moscow:20260127T150000
DTSTAMP:20260425T191437
CREATED:20251224T073246Z
LAST-MODIFIED:20251224T073246Z
UID:70384-1769522400-1769526000@mbstver.ru
SUMMARY:«Сатиры смелый властелин» литературный час / Библиотека семейного чтения им. Б.Н. Полевого
DESCRIPTION:/к 200-летию со дня рождения Михаила Евграфовича Салтыкова-Щедрина (1826-1889)\, русского писателя-сатирика — 27 января/
URL:https://mbstver.ru/event/satiry-smelyj-vlastelin-literaturnyj-chas-biblioteka-semejnogo-chteniya-im-b-n-polevogo/
LOCATION:Библиотека семейного чтения им. Б.Н. Полевого\, Пролетарская наб.\, д. 5\, Тверь\, Российская Федерация
CATEGORIES:Литературный час
ORGANIZER;CN="%D0%91%D0%B8%D0%B1%D0%BB%D0%B8%D0%BE%D1%82%D0%B5%D0%BA%D0%B0 %D1%81%D0%B5%D0%BC%D0%B5%D0%B9%D0%BD%D0%BE%D0%B3%D0%BE %D1%87%D1%82%D0%B5%D0%BD%D0%B8%D1%8F %D0%B8%D0%BC. %D0%91.%D0%9D. %D0%9F%D0%BE%D0%BB%D0%B5%D0%B2%D0%BE%D0%B3%D0%BE":MAILTO:library_f21@mbstver.ru
END:VEVENT
BEGIN:VEVENT
DTSTART;TZID=Europe/Moscow:20260127T160000
DTEND;TZID=Europe/Moscow:20260127T170000
DTSTAMP:20260425T191437
CREATED:20251222T103956Z
LAST-MODIFIED:20251223T054427Z
UID:70148-1769529600-1769533200@mbstver.ru
SUMMARY:«Читаем о блокаде…» громкое чтение / Горница
DESCRIPTION:/ко Дню воинской славы России — Дню снятия блокады города Ленинграда (1944) — 27 января/
URL:https://mbstver.ru/event/chitaem-o-blokade-gromkoe-chtenie-ko-dnyu-voinskoj-slavy-rossii-dnyu-snyatiya-blokady-goroda-leningrada-1944-27-yanvarya-gornicza/
LOCATION:Конференц-зал\, Тверской пр-т\, д. 5\, Тверь\, Российская Федерация
CATEGORIES:Громкое чтение
ORGANIZER;CN="%D0%9E%D1%82%D0%B4%D0%B5%D0%BB %D0%B1%D0%B8%D0%B1%D0%BB%D0%B8%D0%BE%D1%82%D0%B5%D1%87%D0%BD%D0%BE%D0%B3%D0%BE %D0%BC%D0%B0%D1%80%D0%BA%D0%B5%D1%82%D0%B8%D0%BD%D0%B3%D0%B0 %D0%B8 %D0%BA%D1%83%D0%BB%D1%8C%D1%82%D1%83%D1%80%D0%BD%D0%BE-%D0%B4%D0%BE%D1%81%D1%83%D0%B3%D0%BE%D0%B2%D0%BE%D0%B9 %D0%B4%D0%B5%D1%8F%D1%82%D0%B5%D0%BB%D1%8C%D0%BD%D0%BE%D1%81%D1%82%D0%B8":MAILTO:o_dosugd@mbstver.ru
END:VEVENT
BEGIN:VEVENT
DTSTART;TZID=Europe/Moscow:20260127T173000
DTEND;TZID=Europe/Moscow:20260127T193000
DTSTAMP:20260425T191437
CREATED:20251222T104052Z
LAST-MODIFIED:20251222T104052Z
UID:70150-1769535000-1769542200@mbstver.ru
SUMMARY:«Творчество Константина Симонова» встреча в поэтическом клубе «Роса» / Горница
DESCRIPTION:
URL:https://mbstver.ru/event/tvorchestvo-konstantina-simonova-vstrecha-v-poeticheskom-klube-rosa-gornicza/
LOCATION:Горница\, Тверской пр-т\, д. 5\, Тверь\, Российская Федерация
CATEGORIES:Встреча
ORGANIZER;CN="%D0%9E%D1%82%D0%B4%D0%B5%D0%BB %D0%B1%D0%B8%D0%B1%D0%BB%D0%B8%D0%BE%D1%82%D0%B5%D1%87%D0%BD%D0%BE%D0%B3%D0%BE %D0%BC%D0%B0%D1%80%D0%BA%D0%B5%D1%82%D0%B8%D0%BD%D0%B3%D0%B0 %D0%B8 %D0%BA%D1%83%D0%BB%D1%8C%D1%82%D1%83%D1%80%D0%BD%D0%BE-%D0%B4%D0%BE%D1%81%D1%83%D0%B3%D0%BE%D0%B2%D0%BE%D0%B9 %D0%B4%D0%B5%D1%8F%D1%82%D0%B5%D0%BB%D1%8C%D0%BD%D0%BE%D1%81%D1%82%D0%B8":MAILTO:o_dosugd@mbstver.ru
END:VEVENT
END:VCALENDAR