BEGIN:VCALENDAR
VERSION:2.0
PRODID:-//Муниципальная библиотечная система города Твери - ECPv6.11.2.1//NONSGML v1.0//EN
CALSCALE:GREGORIAN
METHOD:PUBLISH
X-WR-CALNAME:Муниципальная библиотечная система города Твери
X-ORIGINAL-URL:https://mbstver.ru
X-WR-CALDESC:Мероприятия для Муниципальная библиотечная система города Твери
REFRESH-INTERVAL;VALUE=DURATION:PT1H
X-Robots-Tag:noindex
X-PUBLISHED-TTL:PT1H
BEGIN:VTIMEZONE
TZID:Europe/Moscow
BEGIN:STANDARD
TZOFFSETFROM:+0300
TZOFFSETTO:+0300
TZNAME:MSK
DTSTART:20260101T000000
END:STANDARD
END:VTIMEZONE
BEGIN:VEVENT
DTSTART;VALUE=DATE:20260217
DTEND;VALUE=DATE:20260311
DTSTAMP:20260423T075550
CREATED:20260211T115013Z
LAST-MODIFIED:20260211T115013Z
UID:71644-1771286400-1773187199@mbstver.ru
SUMMARY:«Русские узоры: традиции и современность» выставка лаковой миниатюры Анжелики Лютеревич / с 17 февраля по 10 марта / Холл Детского зала
DESCRIPTION:
URL:https://mbstver.ru/event/russkie-uzory-tradiczii-i-sovremennost-vystavka-lakovoj-miniatyury-anzheliki-lyuterevich-s-17-fevralya-po-10-marta-holl-detskogo-zala/
LOCATION:Холл Детского зала\, Тверской пр-т\, д. 5\, Тверь\, Российская Федерация
CATEGORIES:Выставка
ORGANIZER;CN="%D0%9E%D1%82%D0%B4%D0%B5%D0%BB %D0%B1%D0%B8%D0%B1%D0%BB%D0%B8%D0%BE%D1%82%D0%B5%D1%87%D0%BD%D0%BE%D0%B3%D0%BE %D0%BC%D0%B0%D1%80%D0%BA%D0%B5%D1%82%D0%B8%D0%BD%D0%B3%D0%B0 %D0%B8 %D0%BA%D1%83%D0%BB%D1%8C%D1%82%D1%83%D1%80%D0%BD%D0%BE-%D0%B4%D0%BE%D1%81%D1%83%D0%B3%D0%BE%D0%B2%D0%BE%D0%B9 %D0%B4%D0%B5%D1%8F%D1%82%D0%B5%D0%BB%D1%8C%D0%BD%D0%BE%D1%81%D1%82%D0%B8":MAILTO:o_dosugd@mbstver.ru
END:VEVENT
BEGIN:VEVENT
DTSTART;VALUE=DATE:20260221
DTEND;VALUE=DATE:20260315
DTSTAMP:20260423T075550
CREATED:20260216T083340Z
LAST-MODIFIED:20260216T083340Z
UID:71776-1771632000-1773532799@mbstver.ru
SUMMARY:«Мгновения минувших лет» выставка живописи Игоря Жаркова / с 21 февраля по 14 марта / Выставочный зал
DESCRIPTION:
URL:https://mbstver.ru/event/mgnoveniya-minuvshih-let-vystavka-zhivopisi-igorya-zharkova-s-21-fevralya-po-14-marta-vystavochnyj-zal/
LOCATION:Выставочный зал\, Тверской пр-т\, д. 5\, Тверь\, Российская Федерация
CATEGORIES:Выставка живописи
ORGANIZER;CN="%D0%9E%D1%82%D0%B4%D0%B5%D0%BB %D0%B1%D0%B8%D0%B1%D0%BB%D0%B8%D0%BE%D1%82%D0%B5%D1%87%D0%BD%D0%BE%D0%B3%D0%BE %D0%BC%D0%B0%D1%80%D0%BA%D0%B5%D1%82%D0%B8%D0%BD%D0%B3%D0%B0 %D0%B8 %D0%BA%D1%83%D0%BB%D1%8C%D1%82%D1%83%D1%80%D0%BD%D0%BE-%D0%B4%D0%BE%D1%81%D1%83%D0%B3%D0%BE%D0%B2%D0%BE%D0%B9 %D0%B4%D0%B5%D1%8F%D1%82%D0%B5%D0%BB%D1%8C%D0%BD%D0%BE%D1%81%D1%82%D0%B8":MAILTO:o_dosugd@mbstver.ru
END:VEVENT
BEGIN:VEVENT
DTSTART;TZID=Europe/Moscow:20260301T110000
DTEND;TZID=Europe/Moscow:20260301T120000
DTSTAMP:20260423T075550
CREATED:20260224T055800Z
LAST-MODIFIED:20260224T055800Z
UID:72034-1772362800-1772366400@mbstver.ru
SUMMARY:«Это всё кошки» познавательный час / Библиотека семейного чтения им. С. М. Кирова
DESCRIPTION:/ко Дню кошек в России — 1 марта/
URL:https://mbstver.ru/event/eto-vsyo-koshki-poznavatelnyj-chas-biblioteka-semejnogo-chteniya-im-s-m-kirova/
LOCATION:Библиотека семейного чтения им. С.М. Кирова\, ул. Бобкова\, д. 12\, Тверь\, Российская Федерация
CATEGORIES:Познавательный час
ORGANIZER;CN="%D0%91%D0%B8%D0%B1%D0%BB%D0%B8%D0%BE%D1%82%D0%B5%D0%BA%D0%B0 %D1%81%D0%B5%D0%BC%D0%B5%D0%B9%D0%BD%D0%BE%D0%B3%D0%BE %D1%87%D1%82%D0%B5%D0%BD%D0%B8%D1%8F %D0%B8%D0%BC. %D0%A1.%D0%9C. %D0%9A%D0%B8%D1%80%D0%BE%D0%B2%D0%B0":MAILTO:library_f3@mbstver.ru
END:VEVENT
BEGIN:VEVENT
DTSTART;TZID=Europe/Moscow:20260301T120000
DTEND;TZID=Europe/Moscow:20260301T130000
DTSTAMP:20260423T075550
CREATED:20260222T112300Z
LAST-MODIFIED:20260222T113441Z
UID:71940-1772366400-1772370000@mbstver.ru
SUMMARY:«Жил да был чёрный кот…» творческое занятие / Детский зал
DESCRIPTION:/ко Дню кошек в России — 1 марта/
URL:https://mbstver.ru/event/zhil-da-byl-chyornyj-kot-tvorcheskoe-zanyatie-detskij-zal/
LOCATION:Детский зал\, Тверской пр-т\, д. 5\, Тверь\, Российская Федерация
CATEGORIES:Творческое занятие
ORGANIZER;CN="%D0%9E%D1%82%D0%B4%D0%B5%D0%BB %D0%BE%D0%B1%D1%81%D0%BB%D1%83%D0%B6%D0%B8%D0%B2%D0%B0%D0%BD%D0%B8%D1%8F %D0%B4%D0%B5%D1%82%D0%B5%D0%B9":MAILTO:detsky-otd@mbstver.ru
END:VEVENT
BEGIN:VEVENT
DTSTART;TZID=Europe/Moscow:20260301T120000
DTEND;TZID=Europe/Moscow:20260301T130000
DTSTAMP:20260423T075550
CREATED:20260224T071741Z
LAST-MODIFIED:20260224T071741Z
UID:72085-1772366400-1772370000@mbstver.ru
SUMMARY:«Мифы и правда о кошках» познавательная программа / Библиотека семейного чтения на Горбатке
DESCRIPTION:
URL:https://mbstver.ru/event/mify-i-pravda-o-koshkah-poznavatelnaya-programma-biblioteka-semejnogo-chteniya-na-gorbatke/
LOCATION:Библиотека семейного чтения на Горбатке\, Петербургское ш.\, д. 69\, Тверь\, Российская Федерация
CATEGORIES:Познавательная программа
ORGANIZER;CN="%D0%91%D0%B8%D0%B1%D0%BB%D0%B8%D0%BE%D1%82%D0%B5%D0%BA%D0%B0 %D1%81%D0%B5%D0%BC%D0%B5%D0%B9%D0%BD%D0%BE%D0%B3%D0%BE %D1%87%D1%82%D0%B5%D0%BD%D0%B8%D1%8F %D0%BD%D0%B0 %D0%93%D0%BE%D1%80%D0%B1%D0%B0%D1%82%D0%BA%D0%B5":MAILTO:mbsfil12@yandex.ru
END:VEVENT
BEGIN:VEVENT
DTSTART;TZID=Europe/Moscow:20260301T120000
DTEND;TZID=Europe/Moscow:20260301T130000
DTSTAMP:20260423T075550
CREATED:20260224T072219Z
LAST-MODIFIED:20260224T072219Z
UID:72089-1772366400-1772370000@mbstver.ru
SUMMARY:«Матроскин\, Леопольд и другие…» познавательная игра / Библиотека семейного чтения на Пролетарке
DESCRIPTION:/ко Дню кошек в России — 1 марта/
URL:https://mbstver.ru/event/matroskin-leopold-i-drugie-poznavatelnaya-igra-biblioteka-semejnogo-chteniya-na-proletarke/
LOCATION:Библиотека семейного чтения на Пролетарке\, пр-т Калинина\, д. 20\, Тверь\, Российская Федерация
CATEGORIES:Познавательная программа
ORGANIZER;CN="%D0%91%D0%B8%D0%B1%D0%BB%D0%B8%D0%BE%D1%82%D0%B5%D0%BA%D0%B0 %D1%81%D0%B5%D0%BC%D0%B5%D0%B9%D0%BD%D0%BE%D0%B3%D0%BE %D1%87%D1%82%D0%B5%D0%BD%D0%B8%D1%8F %D0%BD%D0%B0 %D0%9F%D1%80%D0%BE%D0%BB%D0%B5%D1%82%D0%B0%D1%80%D0%BA%D0%B5":MAILTO:library_f33@mbstver.ru
END:VEVENT
BEGIN:VEVENT
DTSTART;TZID=Europe/Moscow:20260301T120000
DTEND;TZID=Europe/Moscow:20260301T133000
DTSTAMP:20260423T075550
CREATED:20260222T112209Z
LAST-MODIFIED:20260222T112209Z
UID:71938-1772366400-1772371800@mbstver.ru
SUMMARY:«Рукописные книги в Тверском княжестве» лекция в Библейско-богословском лектории «Михайловские чтения» / Горница
DESCRIPTION:
URL:https://mbstver.ru/event/rukopisnye-knigi-v-tverskom-knyazhestve-lekcziya-v-biblejsko-bogoslovskom-lektorii-mihajlovskie-chteniya-gornicza/
LOCATION:Горница\, Тверской пр-т\, д. 5\, Тверь\, Российская Федерация
CATEGORIES:Лекция
ORGANIZER;CN="%D0%9E%D1%82%D0%B4%D0%B5%D0%BB %D0%B1%D0%B8%D0%B1%D0%BB%D0%B8%D0%BE%D1%82%D0%B5%D1%87%D0%BD%D0%BE%D0%B3%D0%BE %D0%BC%D0%B0%D1%80%D0%BA%D0%B5%D1%82%D0%B8%D0%BD%D0%B3%D0%B0 %D0%B8 %D0%BA%D1%83%D0%BB%D1%8C%D1%82%D1%83%D1%80%D0%BD%D0%BE-%D0%B4%D0%BE%D1%81%D1%83%D0%B3%D0%BE%D0%B2%D0%BE%D0%B9 %D0%B4%D0%B5%D1%8F%D1%82%D0%B5%D0%BB%D1%8C%D0%BD%D0%BE%D1%81%D1%82%D0%B8":MAILTO:o_dosugd@mbstver.ru
END:VEVENT
BEGIN:VEVENT
DTSTART;TZID=Europe/Moscow:20260301T130000
DTEND;TZID=Europe/Moscow:20260301T140000
DTSTAMP:20260423T075550
CREATED:20260224T064905Z
LAST-MODIFIED:20260224T064905Z
UID:72063-1772370000-1772373600@mbstver.ru
SUMMARY:«Кошки: удивительные и невероятные» урок доброты / Библиотека семейного чтения микрорайона Южный
DESCRIPTION:/ко Дню кошек в России — 1 марта/
URL:https://mbstver.ru/event/koshki-udivitelnye-i-neveroyatnye-urok-dobroty-biblioteka-semejnogo-chteniya-mikrorajona-yuzhnyj/
LOCATION:Библиотека семейного чтения микрорайона Южный\, б-р Гусева\, д. 8\, Тверь\, Российская Федерация
CATEGORIES:Урок доброты
ORGANIZER;CN="%D0%91%D0%B8%D0%B1%D0%BB%D0%B8%D0%BE%D1%82%D0%B5%D0%BA%D0%B0 %D1%81%D0%B5%D0%BC%D0%B5%D0%B9%D0%BD%D0%BE%D0%B3%D0%BE %D1%87%D1%82%D0%B5%D0%BD%D0%B8%D1%8F %D0%BC%D0%B8%D0%BA%D1%80%D0%BE%D1%80%D0%B0%D0%B9%D0%BE%D0%BD%D0%B0 %D0%AE%D0%B6%D0%BD%D1%8B%D0%B9":MAILTO:library_f27@mbstver.ru
END:VEVENT
BEGIN:VEVENT
DTSTART;TZID=Europe/Moscow:20260301T133000
DTEND;TZID=Europe/Moscow:20260301T143000
DTSTAMP:20260423T075550
CREATED:20260224T070547Z
LAST-MODIFIED:20260224T070547Z
UID:72075-1772371800-1772375400@mbstver.ru
SUMMARY:«И это всё кошки!» экологический час / Детская библиотека им. Виталия Бианки
DESCRIPTION:/ко Дню кошек в России — 1 марта/
URL:https://mbstver.ru/event/i-eto-vsyo-koshki-ekologicheskij-chas-detskaya-biblioteka-im-vitaliya-bianki/
LOCATION:Детская библиотека им. Виталия Бианки\, ул. Богданова\, д. 22\, корп. 1\, Тверь\, Российская Федерация
CATEGORIES:Экологический час
ORGANIZER;CN="%D0%94%D0%B5%D1%82%D1%81%D0%BA%D0%B0%D1%8F %D0%B1%D0%B8%D0%B1%D0%BB%D0%B8%D0%BE%D1%82%D0%B5%D0%BA%D0%B0 %D0%B8%D0%BC. %D0%92%D0%B8%D1%82%D0%B0%D0%BB%D0%B8%D1%8F %D0%91%D0%B8%D0%B0%D0%BD%D0%BA%D0%B8":MAILTO:library_f29@mbstver.ru
END:VEVENT
BEGIN:VEVENT
DTSTART;TZID=Europe/Moscow:20260301T150000
DTEND;TZID=Europe/Moscow:20260301T163000
DTSTAMP:20260423T075550
CREATED:20260224T055145Z
LAST-MODIFIED:20260224T055145Z
UID:72028-1772377200-1772382600@mbstver.ru
SUMMARY:«Корзина счастья» праздничная программа с участием творческой группы благотворительного фонда «Новый старт» / Библиотека семейного чтения им. П.А. Кропоткина
DESCRIPTION:/к Международному женскому дню — 8 марта/
URL:https://mbstver.ru/event/korzina-schastya-prazdnichnaya-programma-s-uchastiem-tvorcheskoj-gruppy-blagotvoritelnogo-fonda-novyj-start-biblioteka-semejnogo-chteniya-im-p-a-kropotkina/
LOCATION:Библиотека семейного чтения им. П.А. Кропоткина\, ул. Фурманова\, д. 1\, корп. А\, Тверь\, Российская Федерация
CATEGORIES:Праздничная программа
ORGANIZER;CN="%D0%91%D0%B8%D0%B1%D0%BB%D0%B8%D0%BE%D1%82%D0%B5%D0%BA%D0%B0 %D1%81%D0%B5%D0%BC%D0%B5%D0%B9%D0%BD%D0%BE%D0%B3%D0%BE %D1%87%D1%82%D0%B5%D0%BD%D0%B8%D1%8F %D0%B8%D0%BC. %D0%9F.%D0%90. %D0%9A%D1%80%D0%BE%D0%BF%D0%BE%D1%82%D0%BA%D0%B8%D0%BD%D0%B0":MAILTO:f1tver@yandex.ru; library_f1@mbstver.ru
END:VEVENT
END:VCALENDAR