BEGIN:VCALENDAR
VERSION:2.0
PRODID:-//Муниципальная библиотечная система города Твери - ECPv6.11.2.1//NONSGML v1.0//EN
CALSCALE:GREGORIAN
METHOD:PUBLISH
X-WR-CALNAME:Муниципальная библиотечная система города Твери
X-ORIGINAL-URL:https://mbstver.ru
X-WR-CALDESC:Мероприятия для Муниципальная библиотечная система города Твери
REFRESH-INTERVAL;VALUE=DURATION:PT1H
X-Robots-Tag:noindex
X-PUBLISHED-TTL:PT1H
BEGIN:VTIMEZONE
TZID:Europe/Moscow
BEGIN:STANDARD
TZOFFSETFROM:+0300
TZOFFSETTO:+0300
TZNAME:MSK
DTSTART:20260101T000000
END:STANDARD
END:VTIMEZONE
BEGIN:VEVENT
DTSTART;VALUE=DATE:20260217
DTEND;VALUE=DATE:20260311
DTSTAMP:20260422T170044
CREATED:20260211T115013Z
LAST-MODIFIED:20260211T115013Z
UID:71644-1771286400-1773187199@mbstver.ru
SUMMARY:«Русские узоры: традиции и современность» выставка лаковой миниатюры Анжелики Лютеревич / с 17 февраля по 10 марта / Холл Детского зала
DESCRIPTION:
URL:https://mbstver.ru/event/russkie-uzory-tradiczii-i-sovremennost-vystavka-lakovoj-miniatyury-anzheliki-lyuterevich-s-17-fevralya-po-10-marta-holl-detskogo-zala/
LOCATION:Холл Детского зала\, Тверской пр-т\, д. 5\, Тверь\, Российская Федерация
CATEGORIES:Выставка
ORGANIZER;CN="%D0%9E%D1%82%D0%B4%D0%B5%D0%BB %D0%B1%D0%B8%D0%B1%D0%BB%D0%B8%D0%BE%D1%82%D0%B5%D1%87%D0%BD%D0%BE%D0%B3%D0%BE %D0%BC%D0%B0%D1%80%D0%BA%D0%B5%D1%82%D0%B8%D0%BD%D0%B3%D0%B0 %D0%B8 %D0%BA%D1%83%D0%BB%D1%8C%D1%82%D1%83%D1%80%D0%BD%D0%BE-%D0%B4%D0%BE%D1%81%D1%83%D0%B3%D0%BE%D0%B2%D0%BE%D0%B9 %D0%B4%D0%B5%D1%8F%D1%82%D0%B5%D0%BB%D1%8C%D0%BD%D0%BE%D1%81%D1%82%D0%B8":MAILTO:o_dosugd@mbstver.ru
END:VEVENT
BEGIN:VEVENT
DTSTART;VALUE=DATE:20260221
DTEND;VALUE=DATE:20260315
DTSTAMP:20260422T170044
CREATED:20260216T083340Z
LAST-MODIFIED:20260216T083340Z
UID:71776-1771632000-1773532799@mbstver.ru
SUMMARY:«Мгновения минувших лет» выставка живописи Игоря Жаркова / с 21 февраля по 14 марта / Выставочный зал
DESCRIPTION:
URL:https://mbstver.ru/event/mgnoveniya-minuvshih-let-vystavka-zhivopisi-igorya-zharkova-s-21-fevralya-po-14-marta-vystavochnyj-zal/
LOCATION:Выставочный зал\, Тверской пр-т\, д. 5\, Тверь\, Российская Федерация
CATEGORIES:Выставка живописи
ORGANIZER;CN="%D0%9E%D1%82%D0%B4%D0%B5%D0%BB %D0%B1%D0%B8%D0%B1%D0%BB%D0%B8%D0%BE%D1%82%D0%B5%D1%87%D0%BD%D0%BE%D0%B3%D0%BE %D0%BC%D0%B0%D1%80%D0%BA%D0%B5%D1%82%D0%B8%D0%BD%D0%B3%D0%B0 %D0%B8 %D0%BA%D1%83%D0%BB%D1%8C%D1%82%D1%83%D1%80%D0%BD%D0%BE-%D0%B4%D0%BE%D1%81%D1%83%D0%B3%D0%BE%D0%B2%D0%BE%D0%B9 %D0%B4%D0%B5%D1%8F%D1%82%D0%B5%D0%BB%D1%8C%D0%BD%D0%BE%D1%81%D1%82%D0%B8":MAILTO:o_dosugd@mbstver.ru
END:VEVENT
BEGIN:VEVENT
DTSTART;TZID=Europe/Moscow:20260307T120000
DTEND;TZID=Europe/Moscow:20260307T130000
DTSTAMP:20260422T170044
CREATED:20260222T114555Z
LAST-MODIFIED:20260222T114555Z
UID:71950-1772884800-1772888400@mbstver.ru
SUMMARY:«Подарок любимой маме» занятие / Детский зал
DESCRIPTION:/к Международному женскому дню — 8 марта/
URL:https://mbstver.ru/event/podarok-lyubimoj-mame-zanyatie-detskij-zal/
LOCATION:Детский зал\, Тверской пр-т\, д. 5\, Тверь\, Российская Федерация
CATEGORIES:Занятие
ORGANIZER;CN="%D0%9E%D1%82%D0%B4%D0%B5%D0%BB %D0%BE%D0%B1%D1%81%D0%BB%D1%83%D0%B6%D0%B8%D0%B2%D0%B0%D0%BD%D0%B8%D1%8F %D0%B4%D0%B5%D1%82%D0%B5%D0%B9":MAILTO:detsky-otd@mbstver.ru
END:VEVENT
BEGIN:VEVENT
DTSTART;TZID=Europe/Moscow:20260307T120000
DTEND;TZID=Europe/Moscow:20260307T130000
DTSTAMP:20260422T170044
CREATED:20260224T071900Z
LAST-MODIFIED:20260224T071900Z
UID:72087-1772884800-1772888400@mbstver.ru
SUMMARY:«Цветы для мамы» мастер-класс / Библиотека семейного чтения на Горбатке
DESCRIPTION:/к Международному женскому дню — 8 марта/
URL:https://mbstver.ru/event/czvety-dlya-mamy-master-klass-biblioteka-semejnogo-chteniya-na-gorbatke/
LOCATION:Библиотека семейного чтения на Горбатке\, Петербургское ш.\, д. 69\, Тверь\, Российская Федерация
CATEGORIES:Мастер-класс
ORGANIZER;CN="%D0%91%D0%B8%D0%B1%D0%BB%D0%B8%D0%BE%D1%82%D0%B5%D0%BA%D0%B0 %D1%81%D0%B5%D0%BC%D0%B5%D0%B9%D0%BD%D0%BE%D0%B3%D0%BE %D1%87%D1%82%D0%B5%D0%BD%D0%B8%D1%8F %D0%BD%D0%B0 %D0%93%D0%BE%D1%80%D0%B1%D0%B0%D1%82%D0%BA%D0%B5":MAILTO:mbsfil12@yandex.ru
END:VEVENT
BEGIN:VEVENT
DTSTART;TZID=Europe/Moscow:20260307T130000
DTEND;TZID=Europe/Moscow:20260307T140000
DTSTAMP:20260422T170044
CREATED:20260224T065808Z
LAST-MODIFIED:20260224T065808Z
UID:72065-1772888400-1772892000@mbstver.ru
SUMMARY:«Подарок от сердца» мастер-класс по предварительной записи / Библиотека семейного чтения микрорайона Южный
DESCRIPTION:/к Международному женскому дню — 8 марта/
URL:https://mbstver.ru/event/podarok-ot-serdcza-master-klass-po-predvaritelnoj-zapisi-biblioteka-semejnogo-chteniya-mikrorajona-yuzhnyj/
LOCATION:Библиотека семейного чтения микрорайона Южный\, б-р Гусева\, д. 8\, Тверь\, Российская Федерация
CATEGORIES:Мастер-класс
ORGANIZER;CN="%D0%91%D0%B8%D0%B1%D0%BB%D0%B8%D0%BE%D1%82%D0%B5%D0%BA%D0%B0 %D1%81%D0%B5%D0%BC%D0%B5%D0%B9%D0%BD%D0%BE%D0%B3%D0%BE %D1%87%D1%82%D0%B5%D0%BD%D0%B8%D1%8F %D0%BC%D0%B8%D0%BA%D1%80%D0%BE%D1%80%D0%B0%D0%B9%D0%BE%D0%BD%D0%B0 %D0%AE%D0%B6%D0%BD%D1%8B%D0%B9":MAILTO:library_f27@mbstver.ru
END:VEVENT
BEGIN:VEVENT
DTSTART;TZID=Europe/Moscow:20260307T133000
DTEND;TZID=Europe/Moscow:20260307T143000
DTSTAMP:20260422T170044
CREATED:20260224T070713Z
LAST-MODIFIED:20260224T070713Z
UID:72077-1772890200-1772893800@mbstver.ru
SUMMARY:«Волшебный подарок» мастер-класс / Детская библиотека им. Виталия Бианки
DESCRIPTION:/к Международному женскому дню — 8 марта/
URL:https://mbstver.ru/event/volshebnyj-podarok-master-klass-detskaya-biblioteka-im-vitaliya-bianki/
LOCATION:Детская библиотека им. Виталия Бианки\, ул. Богданова\, д. 22\, корп. 1\, Тверь\, Российская Федерация
CATEGORIES:Мастер-класс
ORGANIZER;CN="%D0%94%D0%B5%D1%82%D1%81%D0%BA%D0%B0%D1%8F %D0%B1%D0%B8%D0%B1%D0%BB%D0%B8%D0%BE%D1%82%D0%B5%D0%BA%D0%B0 %D0%B8%D0%BC. %D0%92%D0%B8%D1%82%D0%B0%D0%BB%D0%B8%D1%8F %D0%91%D0%B8%D0%B0%D0%BD%D0%BA%D0%B8":MAILTO:library_f29@mbstver.ru
END:VEVENT
BEGIN:VEVENT
DTSTART;TZID=Europe/Moscow:20260307T140000
DTEND;TZID=Europe/Moscow:20260307T143000
DTSTAMP:20260422T170044
CREATED:20260222T114718Z
LAST-MODIFIED:20260222T114718Z
UID:71952-1772892000-1772893800@mbstver.ru
SUMMARY:«Тверское наследие: коллекция Б.Н. Ротермеля» беседа у выставки / Музей книги
DESCRIPTION:/к 100-летию со дня рождения Б.Н. Ротермеля (1926-2012)\, историка\, краеведа\, исследователя истории Тверского края — 8 марта/
URL:https://mbstver.ru/event/tverskoe-nasledie-kollekcziya-b-n-rotermelya-beseda-u-vystavki-muzej-knigi/
LOCATION:Музей книги\, Тверской пр-т\, д. 5\, Тверь\, Российская Федерация
CATEGORIES:Беседа у выставки
ORGANIZER;CN="%D0%9E%D1%82%D0%B4%D0%B5%D0%BB %D1%80%D0%B5%D0%B4%D0%BA%D0%BE%D0%B3%D0%BE %D1%84%D0%BE%D0%BD%D0%B4%D0%B0":MAILTO:orgfond-otd@mbstver.ru
END:VEVENT
BEGIN:VEVENT
DTSTART;TZID=Europe/Moscow:20260307T140000
DTEND;TZID=Europe/Moscow:20260307T150000
DTSTAMP:20260422T170044
CREATED:20260224T060529Z
LAST-MODIFIED:20260224T060529Z
UID:72044-1772892000-1772895600@mbstver.ru
SUMMARY:«Сюрприз для наших мам» мастер-класс / Библиотека семейного чтения им. Евгения Сигарева
DESCRIPTION:/к Международному женскому дню — 8 марта/
URL:https://mbstver.ru/event/syurpriz-dlya-nashih-mam-master-klass-biblioteka-semejnogo-chteniya-im-evgeniya-sigareva/
LOCATION:Библиотека семейного чтения им. Евгения Сигарева\, ул. Кольцевая\, д. 76\, Тверь\, Российская Федерация
CATEGORIES:Мастер-класс
ORGANIZER;CN="%D0%91%D0%B8%D0%B1%D0%BB%D0%B8%D0%BE%D1%82%D0%B5%D0%BA%D0%B0 %D1%81%D0%B5%D0%BC%D0%B5%D0%B9%D0%BD%D0%BE%D0%B3%D0%BE %D1%87%D1%82%D0%B5%D0%BD%D0%B8%D1%8F %D0%B8%D0%BC. %D0%95%D0%B2%D0%B3%D0%B5%D0%BD%D0%B8%D1%8F %D0%A1%D0%B8%D0%B3%D0%B0%D1%80%D0%B5%D0%B2%D0%B0":MAILTO:mbsfil8@yandex.ru
END:VEVENT
BEGIN:VEVENT
DTSTART;TZID=Europe/Moscow:20260307T140000
DTEND;TZID=Europe/Moscow:20260307T150000
DTSTAMP:20260422T170044
CREATED:20260224T072655Z
LAST-MODIFIED:20260226T050816Z
UID:72097-1772892000-1772895600@mbstver.ru
SUMMARY:«Блистательный юбилей Андрея Миронова» познавательный час / Библиотека семейного чтения на Пролетарке
DESCRIPTION:/к 85-летию со дня рождения Андрея Александровича Миронова (1941-1987)\, актера — 8 марта/
URL:https://mbstver.ru/event/blistatelnyj-yubilej-andreya-mironova-poznavatelnyj-chas-biblioteka-semejnogo-chteniya-na-proletarke/
LOCATION:Библиотека семейного чтения на Пролетарке\, пр-т Калинина\, д. 20\, Тверь\, Российская Федерация
CATEGORIES:Познавательный час
ORGANIZER;CN="%D0%91%D0%B8%D0%B1%D0%BB%D0%B8%D0%BE%D1%82%D0%B5%D0%BA%D0%B0 %D1%81%D0%B5%D0%BC%D0%B5%D0%B9%D0%BD%D0%BE%D0%B3%D0%BE %D1%87%D1%82%D0%B5%D0%BD%D0%B8%D1%8F %D0%BD%D0%B0 %D0%9F%D1%80%D0%BE%D0%BB%D0%B5%D1%82%D0%B0%D1%80%D0%BA%D0%B5":MAILTO:library_f33@mbstver.ru
END:VEVENT
BEGIN:VEVENT
DTSTART;TZID=Europe/Moscow:20260307T160000
DTEND;TZID=Europe/Moscow:20260307T173000
DTSTAMP:20260422T170044
CREATED:20260222T114853Z
LAST-MODIFIED:20260222T114853Z
UID:71954-1772899200-1772904600@mbstver.ru
SUMMARY:«Букет мелодий» концерт литературно-музыкального объединения «Странник» / Конференц-зал
DESCRIPTION:/Международный женский день — 8 марта/
URL:https://mbstver.ru/event/buket-melodij-konczert-literaturno-muzykalnogo-obedineniya-strannik-konferencz-zal/
LOCATION:Конференц-зал\, Тверской пр-т\, д. 5\, Тверь\, Российская Федерация
CATEGORIES:Концерт
ORGANIZER;CN="%D0%9E%D1%82%D0%B4%D0%B5%D0%BB %D0%B1%D0%B8%D0%B1%D0%BB%D0%B8%D0%BE%D1%82%D0%B5%D1%87%D0%BD%D0%BE%D0%B3%D0%BE %D0%BC%D0%B0%D1%80%D0%BA%D0%B5%D1%82%D0%B8%D0%BD%D0%B3%D0%B0 %D0%B8 %D0%BA%D1%83%D0%BB%D1%8C%D1%82%D1%83%D1%80%D0%BD%D0%BE-%D0%B4%D0%BE%D1%81%D1%83%D0%B3%D0%BE%D0%B2%D0%BE%D0%B9 %D0%B4%D0%B5%D1%8F%D1%82%D0%B5%D0%BB%D1%8C%D0%BD%D0%BE%D1%81%D1%82%D0%B8":MAILTO:o_dosugd@mbstver.ru
END:VEVENT
BEGIN:VEVENT
DTSTART;TZID=Europe/Moscow:20260307T170000
DTEND;TZID=Europe/Moscow:20260307T180000
DTSTAMP:20260422T170044
CREATED:20260222T115005Z
LAST-MODIFIED:20260222T115005Z
UID:71956-1772902800-1772906400@mbstver.ru
SUMMARY:«Вектор» заседание туристического клуба / Горница
DESCRIPTION:
URL:https://mbstver.ru/event/vektor-zasedanie-turisticheskogo-kluba-gornicza-2/
LOCATION:Горница\, Тверской пр-т\, д. 5\, Тверь\, Российская Федерация
CATEGORIES:Заседание
ORGANIZER;CN="%D0%9E%D1%82%D0%B4%D0%B5%D0%BB %D0%B1%D0%B8%D0%B1%D0%BB%D0%B8%D0%BE%D1%82%D0%B5%D1%87%D0%BD%D0%BE%D0%B3%D0%BE %D0%BC%D0%B0%D1%80%D0%BA%D0%B5%D1%82%D0%B8%D0%BD%D0%B3%D0%B0 %D0%B8 %D0%BA%D1%83%D0%BB%D1%8C%D1%82%D1%83%D1%80%D0%BD%D0%BE-%D0%B4%D0%BE%D1%81%D1%83%D0%B3%D0%BE%D0%B2%D0%BE%D0%B9 %D0%B4%D0%B5%D1%8F%D1%82%D0%B5%D0%BB%D1%8C%D0%BD%D0%BE%D1%81%D1%82%D0%B8":MAILTO:o_dosugd@mbstver.ru
END:VEVENT
END:VCALENDAR