BEGIN:VCALENDAR
VERSION:2.0
PRODID:-//Муниципальная библиотечная система города Твери - ECPv6.11.2.1//NONSGML v1.0//EN
CALSCALE:GREGORIAN
METHOD:PUBLISH
X-ORIGINAL-URL:https://mbstver.ru
X-WR-CALDESC:Мероприятия для Муниципальная библиотечная система города Твери
REFRESH-INTERVAL;VALUE=DURATION:PT1H
X-Robots-Tag:noindex
X-PUBLISHED-TTL:PT1H
BEGIN:VTIMEZONE
TZID:Europe/Moscow
BEGIN:STANDARD
TZOFFSETFROM:+0300
TZOFFSETTO:+0300
TZNAME:MSK
DTSTART:20260101T000000
END:STANDARD
END:VTIMEZONE
BEGIN:VEVENT
DTSTART;VALUE=DATE:20260221
DTEND;VALUE=DATE:20260315
DTSTAMP:20260420T060833
CREATED:20260216T083340Z
LAST-MODIFIED:20260216T083340Z
UID:71776-1771632000-1773532799@mbstver.ru
SUMMARY:«Мгновения минувших лет» выставка живописи Игоря Жаркова / с 21 февраля по 14 марта / Выставочный зал
DESCRIPTION:
URL:https://mbstver.ru/event/mgnoveniya-minuvshih-let-vystavka-zhivopisi-igorya-zharkova-s-21-fevralya-po-14-marta-vystavochnyj-zal/
LOCATION:Выставочный зал\, Тверской пр-т\, д. 5\, Тверь\, Российская Федерация
CATEGORIES:Выставка живописи
ORGANIZER;CN="%D0%9E%D1%82%D0%B4%D0%B5%D0%BB %D0%B1%D0%B8%D0%B1%D0%BB%D0%B8%D0%BE%D1%82%D0%B5%D1%87%D0%BD%D0%BE%D0%B3%D0%BE %D0%BC%D0%B0%D1%80%D0%BA%D0%B5%D1%82%D0%B8%D0%BD%D0%B3%D0%B0 %D0%B8 %D0%BA%D1%83%D0%BB%D1%8C%D1%82%D1%83%D1%80%D0%BD%D0%BE-%D0%B4%D0%BE%D1%81%D1%83%D0%B3%D0%BE%D0%B2%D0%BE%D0%B9 %D0%B4%D0%B5%D1%8F%D1%82%D0%B5%D0%BB%D1%8C%D0%BD%D0%BE%D1%81%D1%82%D0%B8":MAILTO:o_dosugd@mbstver.ru
END:VEVENT
BEGIN:VEVENT
DTSTART;VALUE=DATE:20260311
DTEND;VALUE=DATE:20260404
DTSTAMP:20260420T060833
CREATED:20260304T092220Z
LAST-MODIFIED:20260402T080350Z
UID:72394-1773187200-1775260799@mbstver.ru
SUMMARY:«Глина\, ожившая в руках мастера» выставка керамики Дианы Кузнецовой / с 11 марта по 3 апреля / Холл Детского зала
DESCRIPTION:
URL:https://mbstver.ru/event/glina-ozhivshaya-v-rukah-mastera-vystavka-keramiki-diany-kuzneczovoj-s-11-marta-po-1-aprelya-holl-detskogo-zala/
LOCATION:Холл Детского зала\, Тверской пр-т\, д. 5\, Тверь\, Российская Федерация
CATEGORIES:Выставка
ORGANIZER;CN="%D0%9E%D1%82%D0%B4%D0%B5%D0%BB %D0%B1%D0%B8%D0%B1%D0%BB%D0%B8%D0%BE%D1%82%D0%B5%D1%87%D0%BD%D0%BE%D0%B3%D0%BE %D0%BC%D0%B0%D1%80%D0%BA%D0%B5%D1%82%D0%B8%D0%BD%D0%B3%D0%B0 %D0%B8 %D0%BA%D1%83%D0%BB%D1%8C%D1%82%D1%83%D1%80%D0%BD%D0%BE-%D0%B4%D0%BE%D1%81%D1%83%D0%B3%D0%BE%D0%B2%D0%BE%D0%B9 %D0%B4%D0%B5%D1%8F%D1%82%D0%B5%D0%BB%D1%8C%D0%BD%D0%BE%D1%81%D1%82%D0%B8":MAILTO:o_dosugd@mbstver.ru
END:VEVENT
BEGIN:VEVENT
DTSTART;TZID=Europe/Moscow:20260314T120000
DTEND;TZID=Europe/Moscow:20260314T130000
DTSTAMP:20260420T060833
CREATED:20260222T115649Z
LAST-MODIFIED:20260310T075630Z
UID:71966-1773489600-1773493200@mbstver.ru
SUMMARY:«Весенний букет» творческое занятие / Детский зал
DESCRIPTION:/к Международному женскому дню — 8 марта/
URL:https://mbstver.ru/event/vesennee-nastroenie-tvorcheskoe-zanyatie-detskij-zal-2/
LOCATION:Детский зал\, Тверской пр-т\, д. 5\, Тверь\, Российская Федерация
CATEGORIES:Творческое занятие
ORGANIZER;CN="%D0%9E%D1%82%D0%B4%D0%B5%D0%BB %D0%BE%D0%B1%D1%81%D0%BB%D1%83%D0%B6%D0%B8%D0%B2%D0%B0%D0%BD%D0%B8%D1%8F %D0%B4%D0%B5%D1%82%D0%B5%D0%B9":MAILTO:detsky-otd@mbstver.ru
END:VEVENT
BEGIN:VEVENT
DTSTART;TZID=Europe/Moscow:20260314T140000
DTEND;TZID=Europe/Moscow:20260314T150000
DTSTAMP:20260420T060833
CREATED:20260222T115752Z
LAST-MODIFIED:20260222T115752Z
UID:71968-1773496800-1773500400@mbstver.ru
SUMMARY:«За милых дам!» концерт ансамбля «Рассвет» / Горница
DESCRIPTION:/к Международному женскому дню — 8 марта/
URL:https://mbstver.ru/event/za-milyh-dam-konczert-ansamblya-rassvet-gornicza-3/
LOCATION:Горница\, Тверской пр-т\, д. 5\, Тверь\, Российская Федерация
CATEGORIES:Концерт
ORGANIZER;CN="%D0%9E%D1%82%D0%B4%D0%B5%D0%BB %D0%B1%D0%B8%D0%B1%D0%BB%D0%B8%D0%BE%D1%82%D0%B5%D1%87%D0%BD%D0%BE%D0%B3%D0%BE %D0%BC%D0%B0%D1%80%D0%BA%D0%B5%D1%82%D0%B8%D0%BD%D0%B3%D0%B0 %D0%B8 %D0%BA%D1%83%D0%BB%D1%8C%D1%82%D1%83%D1%80%D0%BD%D0%BE-%D0%B4%D0%BE%D1%81%D1%83%D0%B3%D0%BE%D0%B2%D0%BE%D0%B9 %D0%B4%D0%B5%D1%8F%D1%82%D0%B5%D0%BB%D1%8C%D0%BD%D0%BE%D1%81%D1%82%D0%B8":MAILTO:o_dosugd@mbstver.ru
END:VEVENT
BEGIN:VEVENT
DTSTART;TZID=Europe/Moscow:20260314T150000
DTEND;TZID=Europe/Moscow:20260314T160000
DTSTAMP:20260420T060833
CREATED:20260304T073810Z
LAST-MODIFIED:20260304T073810Z
UID:72366-1773500400-1773504000@mbstver.ru
SUMMARY:«Открытое слово» литературный салон / Музей книги
DESCRIPTION:
URL:https://mbstver.ru/event/otkrytoe-slovo-literaturnyj-salon-muzej-knigi/
LOCATION:Музей книги\, Тверской пр-т\, д. 5\, Тверь\, Российская Федерация
CATEGORIES:Литературный салон
ORGANIZER;CN="%D0%9E%D1%82%D0%B4%D0%B5%D0%BB %D1%80%D0%B5%D0%B4%D0%BA%D0%BE%D0%B3%D0%BE %D1%84%D0%BE%D0%BD%D0%B4%D0%B0":MAILTO:orgfond-otd@mbstver.ru
END:VEVENT
BEGIN:VEVENT
DTSTART;TZID=Europe/Moscow:20260314T160000
DTEND;TZID=Europe/Moscow:20260314T190000
DTSTAMP:20260420T060833
CREATED:20260302T061724Z
LAST-MODIFIED:20260302T061724Z
UID:72246-1773504000-1773514800@mbstver.ru
SUMMARY:Тематический вечер в киноклубе «Диалог»\, посвященный 90-летию со дня рождения Станислава Сергеевича Говорухина\, Народного артиста России\, кинорежиссёра\, политического и общественного деятеля / Конференц-зал
DESCRIPTION:
URL:https://mbstver.ru/event/tematicheskij-vecher-v-kinoklube-dialog-posvyashhennyj-90-letiyu-so-dnya-rozhdeniya-stanislava-sergeevicha-govoruhina-narodnogo-artista-rossii-kinorezhissyora-politicheskogo-i-obshhest/
LOCATION:Конференц-зал\, Тверской пр-т\, д. 5\, Тверь\, Российская Федерация
CATEGORIES:Тематическая встреча
ORGANIZER;CN="%D0%9E%D1%82%D0%B4%D0%B5%D0%BB %D0%B1%D0%B8%D0%B1%D0%BB%D0%B8%D0%BE%D1%82%D0%B5%D1%87%D0%BD%D0%BE%D0%B3%D0%BE %D0%BC%D0%B0%D1%80%D0%BA%D0%B5%D1%82%D0%B8%D0%BD%D0%B3%D0%B0 %D0%B8 %D0%BA%D1%83%D0%BB%D1%8C%D1%82%D1%83%D1%80%D0%BD%D0%BE-%D0%B4%D0%BE%D1%81%D1%83%D0%B3%D0%BE%D0%B2%D0%BE%D0%B9 %D0%B4%D0%B5%D1%8F%D1%82%D0%B5%D0%BB%D1%8C%D0%BD%D0%BE%D1%81%D1%82%D0%B8":MAILTO:o_dosugd@mbstver.ru
END:VEVENT
END:VCALENDAR