BEGIN:VCALENDAR
VERSION:2.0
PRODID:-//Муниципальная библиотечная система города Твери - ECPv6.11.2.1//NONSGML v1.0//EN
CALSCALE:GREGORIAN
METHOD:PUBLISH
X-ORIGINAL-URL:https://mbstver.ru
X-WR-CALDESC:Мероприятия для Муниципальная библиотечная система города Твери
REFRESH-INTERVAL;VALUE=DURATION:PT1H
X-Robots-Tag:noindex
X-PUBLISHED-TTL:PT1H
BEGIN:VTIMEZONE
TZID:Europe/Moscow
BEGIN:STANDARD
TZOFFSETFROM:+0300
TZOFFSETTO:+0300
TZNAME:MSK
DTSTART:20260101T000000
END:STANDARD
END:VTIMEZONE
BEGIN:VEVENT
DTSTART;VALUE=DATE:20260311
DTEND;VALUE=DATE:20260404
DTSTAMP:20260420T003214
CREATED:20260304T092220Z
LAST-MODIFIED:20260402T080350Z
UID:72394-1773187200-1775260799@mbstver.ru
SUMMARY:«Глина\, ожившая в руках мастера» выставка керамики Дианы Кузнецовой / с 11 марта по 3 апреля / Холл Детского зала
DESCRIPTION:
URL:https://mbstver.ru/event/glina-ozhivshaya-v-rukah-mastera-vystavka-keramiki-diany-kuzneczovoj-s-11-marta-po-1-aprelya-holl-detskogo-zala/
LOCATION:Холл Детского зала\, Тверской пр-т\, д. 5\, Тверь\, Российская Федерация
CATEGORIES:Выставка
ORGANIZER;CN="%D0%9E%D1%82%D0%B4%D0%B5%D0%BB %D0%B1%D0%B8%D0%B1%D0%BB%D0%B8%D0%BE%D1%82%D0%B5%D1%87%D0%BD%D0%BE%D0%B3%D0%BE %D0%BC%D0%B0%D1%80%D0%BA%D0%B5%D1%82%D0%B8%D0%BD%D0%B3%D0%B0 %D0%B8 %D0%BA%D1%83%D0%BB%D1%8C%D1%82%D1%83%D1%80%D0%BD%D0%BE-%D0%B4%D0%BE%D1%81%D1%83%D0%B3%D0%BE%D0%B2%D0%BE%D0%B9 %D0%B4%D0%B5%D1%8F%D1%82%D0%B5%D0%BB%D1%8C%D0%BD%D0%BE%D1%81%D1%82%D0%B8":MAILTO:o_dosugd@mbstver.ru
END:VEVENT
BEGIN:VEVENT
DTSTART;VALUE=DATE:20260315
DTEND;VALUE=DATE:20260405
DTSTAMP:20260420T003214
CREATED:20260402T080543Z
LAST-MODIFIED:20260402T080543Z
UID:73082-1773532800-1775347199@mbstver.ru
SUMMARY:«Палитра чувств» персональная выставка картин Антонины Сергеевны Синицыной / с 15 марта по 4 апреля / Выставочный зал
DESCRIPTION:
URL:https://mbstver.ru/event/palitra-chuvstv-personalnaya-vystavka-kartin-antoniny-sergeevny-siniczynoj-s-15-marta-po-4-aprelya-vystavochnyj-zal/
LOCATION:Выставочный зал\, Тверской пр-т\, д. 5\, Тверь\, Российская Федерация
CATEGORIES:Выставка
ORGANIZER;CN="%D0%9E%D1%82%D0%B4%D0%B5%D0%BB %D0%B1%D0%B8%D0%B1%D0%BB%D0%B8%D0%BE%D1%82%D0%B5%D1%87%D0%BD%D0%BE%D0%B3%D0%BE %D0%BC%D0%B0%D1%80%D0%BA%D0%B5%D1%82%D0%B8%D0%BD%D0%B3%D0%B0 %D0%B8 %D0%BA%D1%83%D0%BB%D1%8C%D1%82%D1%83%D1%80%D0%BD%D0%BE-%D0%B4%D0%BE%D1%81%D1%83%D0%B3%D0%BE%D0%B2%D0%BE%D0%B9 %D0%B4%D0%B5%D1%8F%D1%82%D0%B5%D0%BB%D1%8C%D0%BD%D0%BE%D1%81%D1%82%D0%B8":MAILTO:o_dosugd@mbstver.ru
END:VEVENT
BEGIN:VEVENT
DTSTART;TZID=Europe/Moscow:20260317T100000
DTEND;TZID=Europe/Moscow:20260317T110000
DTSTAMP:20260420T003214
CREATED:20260304T074201Z
LAST-MODIFIED:20260304T074201Z
UID:72370-1773741600-1773745200@mbstver.ru
SUMMARY:Обзорная экскурсия в Музее книги / Музей книги
DESCRIPTION:
URL:https://mbstver.ru/event/obzornaya-ekskursiya-v-muzee-knigi-muzej-knigi-3/
LOCATION:Музей книги\, Тверской пр-т\, д. 5\, Тверь\, Российская Федерация
CATEGORIES:Обзорная экскурсия
ORGANIZER;CN="%D0%9E%D1%82%D0%B4%D0%B5%D0%BB %D1%80%D0%B5%D0%B4%D0%BA%D0%BE%D0%B3%D0%BE %D1%84%D0%BE%D0%BD%D0%B4%D0%B0":MAILTO:orgfond-otd@mbstver.ru
END:VEVENT
BEGIN:VEVENT
DTSTART;TZID=Europe/Moscow:20260317T130000
DTEND;TZID=Europe/Moscow:20260317T140000
DTSTAMP:20260420T003214
CREATED:20260224T064000Z
LAST-MODIFIED:20260224T064000Z
UID:72057-1773752400-1773756000@mbstver.ru
SUMMARY:«Считаю себя тверяком!» литературный час / Библиотека семейного чтения им. Б.Н. Полевого
DESCRIPTION:/к 118-летию со дня рождения Бориса Николаевича Полевого (1908-1981)\, русского советского прозаика и киносценариста\, журналиста\, военного корреспондента — 17 марта/
URL:https://mbstver.ru/event/schitayu-sebya-tveryakom-literaturnyj-chas-biblioteka-semejnogo-chteniya-im-b-n-polevogo/
LOCATION:Библиотека семейного чтения им. Б.Н. Полевого\, Пролетарская наб.\, д. 5\, Тверь\, Российская Федерация
CATEGORIES:Литературный час
ORGANIZER;CN="%D0%91%D0%B8%D0%B1%D0%BB%D0%B8%D0%BE%D1%82%D0%B5%D0%BA%D0%B0 %D1%81%D0%B5%D0%BC%D0%B5%D0%B9%D0%BD%D0%BE%D0%B3%D0%BE %D1%87%D1%82%D0%B5%D0%BD%D0%B8%D1%8F %D0%B8%D0%BC. %D0%91.%D0%9D. %D0%9F%D0%BE%D0%BB%D0%B5%D0%B2%D0%BE%D0%B3%D0%BE":MAILTO:library_f21@mbstver.ru
END:VEVENT
BEGIN:VEVENT
DTSTART;TZID=Europe/Moscow:20260317T170000
DTEND;TZID=Europe/Moscow:20260317T180000
DTSTAMP:20260420T003214
CREATED:20260303T134506Z
LAST-MODIFIED:20260303T134506Z
UID:72308-1773766800-1773770400@mbstver.ru
SUMMARY:«Тверской клуб краеведов» заседание / Горница
DESCRIPTION:
URL:https://mbstver.ru/event/tverskoj-klub-kraevedov-zasedanie-gornicza-34/
LOCATION:Горница\, Тверской пр-т\, д. 5\, Тверь\, Российская Федерация
CATEGORIES:Заседание
ORGANIZER;CN="%D0%9E%D1%82%D0%B4%D0%B5%D0%BB %D0%B1%D0%B8%D0%B1%D0%BB%D0%B8%D0%BE%D1%82%D0%B5%D1%87%D0%BD%D0%BE%D0%B3%D0%BE %D0%BC%D0%B0%D1%80%D0%BA%D0%B5%D1%82%D0%B8%D0%BD%D0%B3%D0%B0 %D0%B8 %D0%BA%D1%83%D0%BB%D1%8C%D1%82%D1%83%D1%80%D0%BD%D0%BE-%D0%B4%D0%BE%D1%81%D1%83%D0%B3%D0%BE%D0%B2%D0%BE%D0%B9 %D0%B4%D0%B5%D1%8F%D1%82%D0%B5%D0%BB%D1%8C%D0%BD%D0%BE%D1%81%D1%82%D0%B8":MAILTO:o_dosugd@mbstver.ru
END:VEVENT
END:VCALENDAR