BEGIN:VCALENDAR
VERSION:2.0
PRODID:-//Муниципальная библиотечная система города Твери - ECPv6.11.2.1//NONSGML v1.0//EN
CALSCALE:GREGORIAN
METHOD:PUBLISH
X-WR-CALNAME:Муниципальная библиотечная система города Твери
X-ORIGINAL-URL:https://mbstver.ru
X-WR-CALDESC:Мероприятия для Муниципальная библиотечная система города Твери
REFRESH-INTERVAL;VALUE=DURATION:PT1H
X-Robots-Tag:noindex
X-PUBLISHED-TTL:PT1H
BEGIN:VTIMEZONE
TZID:Europe/Moscow
BEGIN:STANDARD
TZOFFSETFROM:+0300
TZOFFSETTO:+0300
TZNAME:MSK
DTSTART:20260101T000000
END:STANDARD
END:VTIMEZONE
BEGIN:VEVENT
DTSTART;VALUE=DATE:20260311
DTEND;VALUE=DATE:20260404
DTSTAMP:20260419T165759
CREATED:20260304T092220Z
LAST-MODIFIED:20260402T080350Z
UID:72394-1773187200-1775260799@mbstver.ru
SUMMARY:«Глина\, ожившая в руках мастера» выставка керамики Дианы Кузнецовой / с 11 марта по 3 апреля / Холл Детского зала
DESCRIPTION:
URL:https://mbstver.ru/event/glina-ozhivshaya-v-rukah-mastera-vystavka-keramiki-diany-kuzneczovoj-s-11-marta-po-1-aprelya-holl-detskogo-zala/
LOCATION:Холл Детского зала\, Тверской пр-т\, д. 5\, Тверь\, Российская Федерация
CATEGORIES:Выставка
ORGANIZER;CN="%D0%9E%D1%82%D0%B4%D0%B5%D0%BB %D0%B1%D0%B8%D0%B1%D0%BB%D0%B8%D0%BE%D1%82%D0%B5%D1%87%D0%BD%D0%BE%D0%B3%D0%BE %D0%BC%D0%B0%D1%80%D0%BA%D0%B5%D1%82%D0%B8%D0%BD%D0%B3%D0%B0 %D0%B8 %D0%BA%D1%83%D0%BB%D1%8C%D1%82%D1%83%D1%80%D0%BD%D0%BE-%D0%B4%D0%BE%D1%81%D1%83%D0%B3%D0%BE%D0%B2%D0%BE%D0%B9 %D0%B4%D0%B5%D1%8F%D1%82%D0%B5%D0%BB%D1%8C%D0%BD%D0%BE%D1%81%D1%82%D0%B8":MAILTO:o_dosugd@mbstver.ru
END:VEVENT
BEGIN:VEVENT
DTSTART;VALUE=DATE:20260315
DTEND;VALUE=DATE:20260405
DTSTAMP:20260419T165759
CREATED:20260402T080543Z
LAST-MODIFIED:20260402T080543Z
UID:73082-1773532800-1775347199@mbstver.ru
SUMMARY:«Палитра чувств» персональная выставка картин Антонины Сергеевны Синицыной / с 15 марта по 4 апреля / Выставочный зал
DESCRIPTION:
URL:https://mbstver.ru/event/palitra-chuvstv-personalnaya-vystavka-kartin-antoniny-sergeevny-siniczynoj-s-15-marta-po-4-aprelya-vystavochnyj-zal/
LOCATION:Выставочный зал\, Тверской пр-т\, д. 5\, Тверь\, Российская Федерация
CATEGORIES:Выставка
ORGANIZER;CN="%D0%9E%D1%82%D0%B4%D0%B5%D0%BB %D0%B1%D0%B8%D0%B1%D0%BB%D0%B8%D0%BE%D1%82%D0%B5%D1%87%D0%BD%D0%BE%D0%B3%D0%BE %D0%BC%D0%B0%D1%80%D0%BA%D0%B5%D1%82%D0%B8%D0%BD%D0%B3%D0%B0 %D0%B8 %D0%BA%D1%83%D0%BB%D1%8C%D1%82%D1%83%D1%80%D0%BD%D0%BE-%D0%B4%D0%BE%D1%81%D1%83%D0%B3%D0%BE%D0%B2%D0%BE%D0%B9 %D0%B4%D0%B5%D1%8F%D1%82%D0%B5%D0%BB%D1%8C%D0%BD%D0%BE%D1%81%D1%82%D0%B8":MAILTO:o_dosugd@mbstver.ru
END:VEVENT
BEGIN:VEVENT
DTSTART;TZID=Europe/Moscow:20260321T120000
DTEND;TZID=Europe/Moscow:20260321T130000
DTSTAMP:20260419T165759
CREATED:20260303T135140Z
LAST-MODIFIED:20260303T135140Z
UID:72318-1774094400-1774098000@mbstver.ru
SUMMARY:«Бабочки весной» творческое занятие / Детский зал
DESCRIPTION:/к Всемирному дню поэзии — 21 марта/
URL:https://mbstver.ru/event/babochki-vesnoj-tvorcheskoe-zanyatie-detskij-zal/
LOCATION:Детский зал\, Тверской пр-т\, д. 5\, Тверь\, Российская Федерация
CATEGORIES:Творческое занятие
ORGANIZER;CN="%D0%9E%D1%82%D0%B4%D0%B5%D0%BB %D0%BE%D0%B1%D1%81%D0%BB%D1%83%D0%B6%D0%B8%D0%B2%D0%B0%D0%BD%D0%B8%D1%8F %D0%B4%D0%B5%D1%82%D0%B5%D0%B9":MAILTO:detsky-otd@mbstver.ru
END:VEVENT
BEGIN:VEVENT
DTSTART;TZID=Europe/Moscow:20260321T133000
DTEND;TZID=Europe/Moscow:20260321T143000
DTSTAMP:20260419T165759
CREATED:20260224T070905Z
LAST-MODIFIED:20260224T070905Z
UID:72079-1774099800-1774103400@mbstver.ru
SUMMARY:«Город смеха» литературный час / Детская библиотека им. Виталия Бианки
DESCRIPTION:/к Всемирному дню поэзии — 21 марта/
URL:https://mbstver.ru/event/gorod-smeha-literaturnyj-chas-detskaya-biblioteka-im-vitaliya-bianki-2/
LOCATION:Детская библиотека им. Виталия Бианки\, ул. Богданова\, д. 22\, корп. 1\, Тверь\, Российская Федерация
CATEGORIES:Литературный час
ORGANIZER;CN="%D0%94%D0%B5%D1%82%D1%81%D0%BA%D0%B0%D1%8F %D0%B1%D0%B8%D0%B1%D0%BB%D0%B8%D0%BE%D1%82%D0%B5%D0%BA%D0%B0 %D0%B8%D0%BC. %D0%92%D0%B8%D1%82%D0%B0%D0%BB%D0%B8%D1%8F %D0%91%D0%B8%D0%B0%D0%BD%D0%BA%D0%B8":MAILTO:library_f29@mbstver.ru
END:VEVENT
BEGIN:VEVENT
DTSTART;TZID=Europe/Moscow:20260321T150000
DTEND;TZID=Europe/Moscow:20260321T160000
DTSTAMP:20260419T165759
CREATED:20260303T135306Z
LAST-MODIFIED:20260303T135306Z
UID:72320-1774105200-1774108800@mbstver.ru
SUMMARY:«Тернистый путь веры: православные мотивы в литературе» лекция / Музей книги
DESCRIPTION:
URL:https://mbstver.ru/event/ternistyj-put-very-pravoslavnye-motivy-v-literature-lekcziya-muzej-knigi-2/
LOCATION:Музей книги\, Тверской пр-т\, д. 5\, Тверь\, Российская Федерация
CATEGORIES:Лекция
ORGANIZER;CN="%D0%9E%D1%82%D0%B4%D0%B5%D0%BB %D1%80%D0%B5%D0%B4%D0%BA%D0%BE%D0%B3%D0%BE %D1%84%D0%BE%D0%BD%D0%B4%D0%B0":MAILTO:orgfond-otd@mbstver.ru
END:VEVENT
BEGIN:VEVENT
DTSTART;TZID=Europe/Moscow:20260321T160000
DTEND;TZID=Europe/Moscow:20260321T170000
DTSTAMP:20260419T165759
CREATED:20260303T135405Z
LAST-MODIFIED:20260303T135405Z
UID:72322-1774108800-1774112400@mbstver.ru
SUMMARY:«Горбатая» моноспектакль по пьесе Ярославы Пулинович от «Быстрого театра» / Конференц-зал
DESCRIPTION:
URL:https://mbstver.ru/event/gorbataya-monospektakl-po-pese-yaroslavy-pulinovich-ot-bystrogo-teatra-konferencz-zal-2/
LOCATION:Конференц-зал\, Тверской пр-т\, д. 5\, Тверь\, Российская Федерация
CATEGORIES:Моноспектакль
ORGANIZER;CN="%D0%9E%D1%82%D0%B4%D0%B5%D0%BB %D0%B1%D0%B8%D0%B1%D0%BB%D0%B8%D0%BE%D1%82%D0%B5%D1%87%D0%BD%D0%BE%D0%B3%D0%BE %D0%BC%D0%B0%D1%80%D0%BA%D0%B5%D1%82%D0%B8%D0%BD%D0%B3%D0%B0 %D0%B8 %D0%BA%D1%83%D0%BB%D1%8C%D1%82%D1%83%D1%80%D0%BD%D0%BE-%D0%B4%D0%BE%D1%81%D1%83%D0%B3%D0%BE%D0%B2%D0%BE%D0%B9 %D0%B4%D0%B5%D1%8F%D1%82%D0%B5%D0%BB%D1%8C%D0%BD%D0%BE%D1%81%D1%82%D0%B8":MAILTO:o_dosugd@mbstver.ru
END:VEVENT
BEGIN:VEVENT
DTSTART;TZID=Europe/Moscow:20260321T160000
DTEND;TZID=Europe/Moscow:20260321T173000
DTSTAMP:20260419T165759
CREATED:20260302T121909Z
LAST-MODIFIED:20260302T121909Z
UID:72256-1774108800-1774114200@mbstver.ru
SUMMARY:«Горбатая» моноспектакль по пьесе Ярославы Пулинович от «Быстрого театра» / Конференц-зал
DESCRIPTION:
URL:https://mbstver.ru/event/gorbataya-monospektakl-po-pese-yaroslavy-pulinovich-ot-bystrogo-teatra-konferencz-zal/
LOCATION:Конференц-зал\, Тверской пр-т\, д. 5\, Тверь\, Российская Федерация
CATEGORIES:Моноспектакль
ORGANIZER;CN="%D0%9E%D1%82%D0%B4%D0%B5%D0%BB %D0%B1%D0%B8%D0%B1%D0%BB%D0%B8%D0%BE%D1%82%D0%B5%D1%87%D0%BD%D0%BE%D0%B3%D0%BE %D0%BC%D0%B0%D1%80%D0%BA%D0%B5%D1%82%D0%B8%D0%BD%D0%B3%D0%B0 %D0%B8 %D0%BA%D1%83%D0%BB%D1%8C%D1%82%D1%83%D1%80%D0%BD%D0%BE-%D0%B4%D0%BE%D1%81%D1%83%D0%B3%D0%BE%D0%B2%D0%BE%D0%B9 %D0%B4%D0%B5%D1%8F%D1%82%D0%B5%D0%BB%D1%8C%D0%BD%D0%BE%D1%81%D1%82%D0%B8":MAILTO:o_dosugd@mbstver.ru
END:VEVENT
BEGIN:VEVENT
DTSTART;TZID=Europe/Moscow:20260321T170000
DTEND;TZID=Europe/Moscow:20260321T183000
DTSTAMP:20260419T165759
CREATED:20260224T055538Z
LAST-MODIFIED:20260224T055538Z
UID:72032-1774112400-1774117800@mbstver.ru
SUMMARY:«Весеннее настроение» концерт ансамбля «Pro-anima» / Библиотека семейного чтения им. П.А. Кропоткина
DESCRIPTION:
URL:https://mbstver.ru/event/vesennee-nastroenie-konczert-ansamblya-pro-anima-biblioteka-semejnogo-chteniya-im-p-a-kropotkina/
LOCATION:Библиотека семейного чтения им. П.А. Кропоткина\, ул. Фурманова\, д. 1\, корп. А\, Тверь\, Российская Федерация
CATEGORIES:Концерт
ORGANIZER;CN="%D0%91%D0%B8%D0%B1%D0%BB%D0%B8%D0%BE%D1%82%D0%B5%D0%BA%D0%B0 %D1%81%D0%B5%D0%BC%D0%B5%D0%B9%D0%BD%D0%BE%D0%B3%D0%BE %D1%87%D1%82%D0%B5%D0%BD%D0%B8%D1%8F %D0%B8%D0%BC. %D0%9F.%D0%90. %D0%9A%D1%80%D0%BE%D0%BF%D0%BE%D1%82%D0%BA%D0%B8%D0%BD%D0%B0":MAILTO:f1tver@yandex.ru; library_f1@mbstver.ru
END:VEVENT
END:VCALENDAR