BEGIN:VCALENDAR
VERSION:2.0
PRODID:-//Муниципальная библиотечная система города Твери - ECPv6.11.2.1//NONSGML v1.0//EN
CALSCALE:GREGORIAN
METHOD:PUBLISH
X-WR-CALNAME:Муниципальная библиотечная система города Твери
X-ORIGINAL-URL:https://mbstver.ru
X-WR-CALDESC:Мероприятия для Муниципальная библиотечная система города Твери
REFRESH-INTERVAL;VALUE=DURATION:PT1H
X-Robots-Tag:noindex
X-PUBLISHED-TTL:PT1H
BEGIN:VTIMEZONE
TZID:Europe/Moscow
BEGIN:STANDARD
TZOFFSETFROM:+0300
TZOFFSETTO:+0300
TZNAME:MSK
DTSTART:20260101T000000
END:STANDARD
END:VTIMEZONE
BEGIN:VEVENT
DTSTART;VALUE=DATE:20260311
DTEND;VALUE=DATE:20260404
DTSTAMP:20260419T153431
CREATED:20260304T092220Z
LAST-MODIFIED:20260402T080350Z
UID:72394-1773187200-1775260799@mbstver.ru
SUMMARY:«Глина\, ожившая в руках мастера» выставка керамики Дианы Кузнецовой / с 11 марта по 3 апреля / Холл Детского зала
DESCRIPTION:
URL:https://mbstver.ru/event/glina-ozhivshaya-v-rukah-mastera-vystavka-keramiki-diany-kuzneczovoj-s-11-marta-po-1-aprelya-holl-detskogo-zala/
LOCATION:Холл Детского зала\, Тверской пр-т\, д. 5\, Тверь\, Российская Федерация
CATEGORIES:Выставка
ORGANIZER;CN="%D0%9E%D1%82%D0%B4%D0%B5%D0%BB %D0%B1%D0%B8%D0%B1%D0%BB%D0%B8%D0%BE%D1%82%D0%B5%D1%87%D0%BD%D0%BE%D0%B3%D0%BE %D0%BC%D0%B0%D1%80%D0%BA%D0%B5%D1%82%D0%B8%D0%BD%D0%B3%D0%B0 %D0%B8 %D0%BA%D1%83%D0%BB%D1%8C%D1%82%D1%83%D1%80%D0%BD%D0%BE-%D0%B4%D0%BE%D1%81%D1%83%D0%B3%D0%BE%D0%B2%D0%BE%D0%B9 %D0%B4%D0%B5%D1%8F%D1%82%D0%B5%D0%BB%D1%8C%D0%BD%D0%BE%D1%81%D1%82%D0%B8":MAILTO:o_dosugd@mbstver.ru
END:VEVENT
BEGIN:VEVENT
DTSTART;VALUE=DATE:20260315
DTEND;VALUE=DATE:20260405
DTSTAMP:20260419T153431
CREATED:20260402T080543Z
LAST-MODIFIED:20260402T080543Z
UID:73082-1773532800-1775347199@mbstver.ru
SUMMARY:«Палитра чувств» персональная выставка картин Антонины Сергеевны Синицыной / с 15 марта по 4 апреля / Выставочный зал
DESCRIPTION:
URL:https://mbstver.ru/event/palitra-chuvstv-personalnaya-vystavka-kartin-antoniny-sergeevny-siniczynoj-s-15-marta-po-4-aprelya-vystavochnyj-zal/
LOCATION:Выставочный зал\, Тверской пр-т\, д. 5\, Тверь\, Российская Федерация
CATEGORIES:Выставка
ORGANIZER;CN="%D0%9E%D1%82%D0%B4%D0%B5%D0%BB %D0%B1%D0%B8%D0%B1%D0%BB%D0%B8%D0%BE%D1%82%D0%B5%D1%87%D0%BD%D0%BE%D0%B3%D0%BE %D0%BC%D0%B0%D1%80%D0%BA%D0%B5%D1%82%D0%B8%D0%BD%D0%B3%D0%B0 %D0%B8 %D0%BA%D1%83%D0%BB%D1%8C%D1%82%D1%83%D1%80%D0%BD%D0%BE-%D0%B4%D0%BE%D1%81%D1%83%D0%B3%D0%BE%D0%B2%D0%BE%D0%B9 %D0%B4%D0%B5%D1%8F%D1%82%D0%B5%D0%BB%D1%8C%D0%BD%D0%BE%D1%81%D1%82%D0%B8":MAILTO:o_dosugd@mbstver.ru
END:VEVENT
BEGIN:VEVENT
DTSTART;TZID=Europe/Moscow:20260322T120000
DTEND;TZID=Europe/Moscow:20260322T130000
DTSTAMP:20260419T153431
CREATED:20260303T135707Z
LAST-MODIFIED:20260303T135707Z
UID:72326-1774180800-1774184400@mbstver.ru
SUMMARY:«Загадки морского дна» творческое занятие / Детский зал
DESCRIPTION:
URL:https://mbstver.ru/event/zagadki-morskogo-dna-tvorcheskoe-zanyatie-detskij-zal/
LOCATION:Детский зал\, Тверской пр-т\, д. 5\, Тверь\, Российская Федерация
CATEGORIES:Творческое занятие
ORGANIZER;CN="%D0%9E%D1%82%D0%B4%D0%B5%D0%BB %D0%BE%D0%B1%D1%81%D0%BB%D1%83%D0%B6%D0%B8%D0%B2%D0%B0%D0%BD%D0%B8%D1%8F %D0%B4%D0%B5%D1%82%D0%B5%D0%B9":MAILTO:detsky-otd@mbstver.ru
END:VEVENT
BEGIN:VEVENT
DTSTART;TZID=Europe/Moscow:20260322T130000
DTEND;TZID=Europe/Moscow:20260322T140000
DTSTAMP:20260419T153431
CREATED:20260224T065943Z
LAST-MODIFIED:20260224T065943Z
UID:72067-1774184400-1774188000@mbstver.ru
SUMMARY:«Кто проживает на дне океана?» познавательно-игровая программа / Библиотека семейного чтения микрорайона Южный
DESCRIPTION:/к Всемирному дню водных ресурсов (Дню воды) — 22 марта/
URL:https://mbstver.ru/event/kto-prozhivaet-na-dne-okeana-poznavatelno-igrovaya-programma-biblioteka-semejnogo-chteniya-mikrorajona-yuzhnyj/
LOCATION:Библиотека семейного чтения микрорайона Южный\, б-р Гусева\, д. 8\, Тверь\, Российская Федерация
CATEGORIES:Познавательно-игровая программа
ORGANIZER;CN="%D0%91%D0%B8%D0%B1%D0%BB%D0%B8%D0%BE%D1%82%D0%B5%D0%BA%D0%B0 %D1%81%D0%B5%D0%BC%D0%B5%D0%B9%D0%BD%D0%BE%D0%B3%D0%BE %D1%87%D1%82%D0%B5%D0%BD%D0%B8%D1%8F %D0%BC%D0%B8%D0%BA%D1%80%D0%BE%D1%80%D0%B0%D0%B9%D0%BE%D0%BD%D0%B0 %D0%AE%D0%B6%D0%BD%D1%8B%D0%B9":MAILTO:library_f27@mbstver.ru
END:VEVENT
BEGIN:VEVENT
DTSTART;TZID=Europe/Moscow:20260322T133000
DTEND;TZID=Europe/Moscow:20260322T143000
DTSTAMP:20260419T153431
CREATED:20260224T071308Z
LAST-MODIFIED:20260224T071308Z
UID:72081-1774186200-1774189800@mbstver.ru
SUMMARY:«Её величество Вода» экологический час / Детская библиотека им. Виталия Бианки
DESCRIPTION:/к Всемирному дню водных ресурсов (Дню воды) — 22 марта/
URL:https://mbstver.ru/event/eyo-velichestvo-voda-ekologicheskij-chas-detskaya-biblioteka-im-vitaliya-bianki/
LOCATION:Детская библиотека им. Виталия Бианки\, ул. Богданова\, д. 22\, корп. 1\, Тверь\, Российская Федерация
CATEGORIES:Экологический час
ORGANIZER;CN="%D0%94%D0%B5%D1%82%D1%81%D0%BA%D0%B0%D1%8F %D0%B1%D0%B8%D0%B1%D0%BB%D0%B8%D0%BE%D1%82%D0%B5%D0%BA%D0%B0 %D0%B8%D0%BC. %D0%92%D0%B8%D1%82%D0%B0%D0%BB%D0%B8%D1%8F %D0%91%D0%B8%D0%B0%D0%BD%D0%BA%D0%B8":MAILTO:library_f29@mbstver.ru
END:VEVENT
BEGIN:VEVENT
DTSTART;TZID=Europe/Moscow:20260322T160000
DTEND;TZID=Europe/Moscow:20260322T173000
DTSTAMP:20260419T153431
CREATED:20260303T135815Z
LAST-MODIFIED:20260316T140935Z
UID:72328-1774195200-1774200600@mbstver.ru
SUMMARY:«Очарование романса» концерт литературно-музыкального объединения «Странник» / Конференц-зал
DESCRIPTION:
URL:https://mbstver.ru/event/pesni-iz-kinofilmov-konczert-literaturno-muzykalnogo-obedineniya-strannik-konferencz-zal/
LOCATION:Конференц-зал\, Тверской пр-т\, д. 5\, Тверь\, Российская Федерация
CATEGORIES:Концерт
ORGANIZER;CN="%D0%9E%D1%82%D0%B4%D0%B5%D0%BB %D0%B1%D0%B8%D0%B1%D0%BB%D0%B8%D0%BE%D1%82%D0%B5%D1%87%D0%BD%D0%BE%D0%B3%D0%BE %D0%BC%D0%B0%D1%80%D0%BA%D0%B5%D1%82%D0%B8%D0%BD%D0%B3%D0%B0 %D0%B8 %D0%BA%D1%83%D0%BB%D1%8C%D1%82%D1%83%D1%80%D0%BD%D0%BE-%D0%B4%D0%BE%D1%81%D1%83%D0%B3%D0%BE%D0%B2%D0%BE%D0%B9 %D0%B4%D0%B5%D1%8F%D1%82%D0%B5%D0%BB%D1%8C%D0%BD%D0%BE%D1%81%D1%82%D0%B8":MAILTO:o_dosugd@mbstver.ru
END:VEVENT
BEGIN:VEVENT
DTSTART;TZID=Europe/Moscow:20260322T160000
DTEND;TZID=Europe/Moscow:20260322T180000
DTSTAMP:20260419T153431
CREATED:20260303T135932Z
LAST-MODIFIED:20260310T103152Z
UID:72330-1774195200-1774202400@mbstver.ru
SUMMARY:«Читаем Довлатова» книжные встречи в Твери / Библиокафе
DESCRIPTION:
URL:https://mbstver.ru/event/knizhnye-vstrechi-v-tveri-obsuzhdenie-knigi-konsultant-son-sun-im-bibliokafe/
LOCATION:Библиокафе\, Тверской пр-т\, д. 5\, Тверь\, Российская Федерация
CATEGORIES:Обсуждение книги
ORGANIZER;CN="%D0%9E%D1%82%D0%B4%D0%B5%D0%BB %D0%B1%D0%B8%D0%B1%D0%BB%D0%B8%D0%BE%D1%82%D0%B5%D1%87%D0%BD%D0%BE%D0%B3%D0%BE %D0%BC%D0%B0%D1%80%D0%BA%D0%B5%D1%82%D0%B8%D0%BD%D0%B3%D0%B0 %D0%B8 %D0%BA%D1%83%D0%BB%D1%8C%D1%82%D1%83%D1%80%D0%BD%D0%BE-%D0%B4%D0%BE%D1%81%D1%83%D0%B3%D0%BE%D0%B2%D0%BE%D0%B9 %D0%B4%D0%B5%D1%8F%D1%82%D0%B5%D0%BB%D1%8C%D0%BD%D0%BE%D1%81%D1%82%D0%B8":MAILTO:o_dosugd@mbstver.ru
END:VEVENT
BEGIN:VEVENT
DTSTART;TZID=Europe/Moscow:20260322T170000
DTEND;TZID=Europe/Moscow:20260322T180000
DTSTAMP:20260419T153431
CREATED:20260303T135538Z
LAST-MODIFIED:20260303T135538Z
UID:72324-1774198800-1774202400@mbstver.ru
SUMMARY:«Вектор» заседание туристического клуба / Горница
DESCRIPTION:
URL:https://mbstver.ru/event/vektor-zasedanie-turisticheskogo-kluba-gornicza-3/
LOCATION:Горница\, Тверской пр-т\, д. 5\, Тверь\, Российская Федерация
CATEGORIES:Заседание
ORGANIZER;CN="%D0%9E%D1%82%D0%B4%D0%B5%D0%BB %D0%B1%D0%B8%D0%B1%D0%BB%D0%B8%D0%BE%D1%82%D0%B5%D1%87%D0%BD%D0%BE%D0%B3%D0%BE %D0%BC%D0%B0%D1%80%D0%BA%D0%B5%D1%82%D0%B8%D0%BD%D0%B3%D0%B0 %D0%B8 %D0%BA%D1%83%D0%BB%D1%8C%D1%82%D1%83%D1%80%D0%BD%D0%BE-%D0%B4%D0%BE%D1%81%D1%83%D0%B3%D0%BE%D0%B2%D0%BE%D0%B9 %D0%B4%D0%B5%D1%8F%D1%82%D0%B5%D0%BB%D1%8C%D0%BD%D0%BE%D1%81%D1%82%D0%B8":MAILTO:o_dosugd@mbstver.ru
END:VEVENT
END:VCALENDAR