BEGIN:VCALENDAR
VERSION:2.0
PRODID:-//Муниципальная библиотечная система города Твери - ECPv6.11.2.1//NONSGML v1.0//EN
CALSCALE:GREGORIAN
METHOD:PUBLISH
X-WR-CALNAME:Муниципальная библиотечная система города Твери
X-ORIGINAL-URL:https://mbstver.ru
X-WR-CALDESC:Мероприятия для Муниципальная библиотечная система города Твери
REFRESH-INTERVAL;VALUE=DURATION:PT1H
X-Robots-Tag:noindex
X-PUBLISHED-TTL:PT1H
BEGIN:VTIMEZONE
TZID:Europe/Moscow
BEGIN:STANDARD
TZOFFSETFROM:+0300
TZOFFSETTO:+0300
TZNAME:MSK
DTSTART:20260101T000000
END:STANDARD
END:VTIMEZONE
BEGIN:VEVENT
DTSTART;VALUE=DATE:20260406
DTEND;VALUE=DATE:20260428
DTSTAMP:20260425T022509
CREATED:20260412T110925Z
LAST-MODIFIED:20260412T110925Z
UID:73401-1775433600-1777334399@mbstver.ru
SUMMARY:«Цветочные сказки» выставка живописи Любови Венедиктовой / с 6 по 27 апреля / Выставочный зал
DESCRIPTION:
URL:https://mbstver.ru/event/czvetochnye-skazki-vystavka-zhivopisi-lyubovi-venediktovoj-s-6-po-27-aprelya-vystavochnyj-zal/
LOCATION:Выставочный зал\, Тверской пр-т\, д. 5\, Тверь\, Российская Федерация
CATEGORIES:Выставка живописи
ORGANIZER;CN="%D0%9E%D1%82%D0%B4%D0%B5%D0%BB %D0%B1%D0%B8%D0%B1%D0%BB%D0%B8%D0%BE%D1%82%D0%B5%D1%87%D0%BD%D0%BE%D0%B3%D0%BE %D0%BC%D0%B0%D1%80%D0%BA%D0%B5%D1%82%D0%B8%D0%BD%D0%B3%D0%B0 %D0%B8 %D0%BA%D1%83%D0%BB%D1%8C%D1%82%D1%83%D1%80%D0%BD%D0%BE-%D0%B4%D0%BE%D1%81%D1%83%D0%B3%D0%BE%D0%B2%D0%BE%D0%B9 %D0%B4%D0%B5%D1%8F%D1%82%D0%B5%D0%BB%D1%8C%D0%BD%D0%BE%D1%81%D1%82%D0%B8":MAILTO:o_dosugd@mbstver.ru
END:VEVENT
BEGIN:VEVENT
DTSTART;VALUE=DATE:20260424
DTEND;VALUE=DATE:20260518
DTSTAMP:20260425T022509
CREATED:20260420T132944Z
LAST-MODIFIED:20260424T081235Z
UID:73705-1776988800-1779062399@mbstver.ru
SUMMARY:«Страницы\, опалённые войной» выставка книг\, изданных в годы Великой Отечественной войны / с 24 апреля по 17 мая / Холл Детского зала
DESCRIPTION:
URL:https://mbstver.ru/event/straniczy-opalyonnye-vojnoj-vystavka-knig-izdannyh-v-gody-velikoj-otechestvennoj-vojny-s-24-aprelya-po-15-maya-holl-detskogo-zala/
LOCATION:Холл Детского зала\, Тверской пр-т\, д. 5\, Тверь\, Российская Федерация
CATEGORIES:Выставка
ORGANIZER;CN="%D0%9E%D1%82%D0%B4%D0%B5%D0%BB %D1%80%D0%B5%D0%B4%D0%BA%D0%BE%D0%B3%D0%BE %D1%84%D0%BE%D0%BD%D0%B4%D0%B0":MAILTO:orgfond-otd@mbstver.ru
END:VEVENT
BEGIN:VEVENT
DTSTART;TZID=Europe/Moscow:20260425T100000
DTEND;TZID=Europe/Moscow:20260425T150000
DTSTAMP:20260425T022509
CREATED:20260420T075444Z
LAST-MODIFIED:20260420T075444Z
UID:73615-1777111200-1777129200@mbstver.ru
SUMMARY:Благотворительная акция помощи бездомным животным / Конференц-зал
DESCRIPTION:
URL:https://mbstver.ru/event/blagotvoritelnaya-akcziya-pomoshhi-bezdomnym-zhivotnym-konferencz-zal/
LOCATION:Конференц-зал\, Тверской пр-т\, д. 5\, Тверь\, Российская Федерация
CATEGORIES:Акция
ORGANIZER;CN="%D0%9E%D1%82%D0%B4%D0%B5%D0%BB %D0%B1%D0%B8%D0%B1%D0%BB%D0%B8%D0%BE%D1%82%D0%B5%D1%87%D0%BD%D0%BE%D0%B3%D0%BE %D0%BC%D0%B0%D1%80%D0%BA%D0%B5%D1%82%D0%B8%D0%BD%D0%B3%D0%B0 %D0%B8 %D0%BA%D1%83%D0%BB%D1%8C%D1%82%D1%83%D1%80%D0%BD%D0%BE-%D0%B4%D0%BE%D1%81%D1%83%D0%B3%D0%BE%D0%B2%D0%BE%D0%B9 %D0%B4%D0%B5%D1%8F%D1%82%D0%B5%D0%BB%D1%8C%D0%BD%D0%BE%D1%81%D1%82%D0%B8":MAILTO:o_dosugd@mbstver.ru
END:VEVENT
BEGIN:VEVENT
DTSTART;TZID=Europe/Moscow:20260425T120000
DTEND;TZID=Europe/Moscow:20260425T130000
DTSTAMP:20260425T022509
CREATED:20260323T084723Z
LAST-MODIFIED:20260323T084723Z
UID:72831-1777118400-1777122000@mbstver.ru
SUMMARY:«Птичка-невеличка» мастер-класс / Библиотека семейного чтения на Горбатке
DESCRIPTION:
URL:https://mbstver.ru/event/ptichka-nevelichka-master-klass-biblioteka-semejnogo-chteniya-na-gorbatke/
LOCATION:Библиотека семейного чтения на Горбатке\, Петербургское ш.\, д. 69\, Тверь\, Российская Федерация
CATEGORIES:Мастер-класс
ORGANIZER;CN="%D0%91%D0%B8%D0%B1%D0%BB%D0%B8%D0%BE%D1%82%D0%B5%D0%BA%D0%B0 %D1%81%D0%B5%D0%BC%D0%B5%D0%B9%D0%BD%D0%BE%D0%B3%D0%BE %D1%87%D1%82%D0%B5%D0%BD%D0%B8%D1%8F %D0%BD%D0%B0 %D0%93%D0%BE%D1%80%D0%B1%D0%B0%D1%82%D0%BA%D0%B5":MAILTO:mbsfil12@yandex.ru
END:VEVENT
BEGIN:VEVENT
DTSTART;TZID=Europe/Moscow:20260425T120000
DTEND;TZID=Europe/Moscow:20260425T130000
DTSTAMP:20260425T022509
CREATED:20260324T061430Z
LAST-MODIFIED:20260324T061430Z
UID:72906-1777118400-1777122000@mbstver.ru
SUMMARY:«Символ Пасхи» творческое занятие / Детский зал
DESCRIPTION:
URL:https://mbstver.ru/event/simvol-pashi-tvorcheskoe-zanyatie-detskij-zal/
LOCATION:Детский зал\, Тверской пр-т\, д. 5\, Тверь\, Российская Федерация
CATEGORIES:Творческое занятие
ORGANIZER;CN="%D0%9E%D1%82%D0%B4%D0%B5%D0%BB %D0%BE%D0%B1%D1%81%D0%BB%D1%83%D0%B6%D0%B8%D0%B2%D0%B0%D0%BD%D0%B8%D1%8F %D0%B4%D0%B5%D1%82%D0%B5%D0%B9":MAILTO:detsky-otd@mbstver.ru
END:VEVENT
BEGIN:VEVENT
DTSTART;TZID=Europe/Moscow:20260425T133000
DTEND;TZID=Europe/Moscow:20260425T143000
DTSTAMP:20260425T022509
CREATED:20260323T084102Z
LAST-MODIFIED:20260323T084102Z
UID:72821-1777123800-1777127400@mbstver.ru
SUMMARY:«Где же вы\, динозаврики?» экологический час / Детская библиотека им. Виталия Бианки
DESCRIPTION:
URL:https://mbstver.ru/event/gde-zhe-vy-dinozavriki-ekologicheskij-chas-detskaya-biblioteka-im-vitaliya-bianki/
LOCATION:Детская библиотека им. Виталия Бианки\, ул. Богданова\, д. 22\, корп. 1\, Тверь\, Российская Федерация
CATEGORIES:Экологический час
ORGANIZER;CN="%D0%94%D0%B5%D1%82%D1%81%D0%BA%D0%B0%D1%8F %D0%B1%D0%B8%D0%B1%D0%BB%D0%B8%D0%BE%D1%82%D0%B5%D0%BA%D0%B0 %D0%B8%D0%BC. %D0%92%D0%B8%D1%82%D0%B0%D0%BB%D0%B8%D1%8F %D0%91%D0%B8%D0%B0%D0%BD%D0%BA%D0%B8":MAILTO:library_f29@mbstver.ru
END:VEVENT
BEGIN:VEVENT
DTSTART;TZID=Europe/Moscow:20260425T150000
DTEND;TZID=Europe/Moscow:20260425T160000
DTSTAMP:20260425T022509
CREATED:20260323T060728Z
LAST-MODIFIED:20260407T115617Z
UID:72708-1777129200-1777132800@mbstver.ru
SUMMARY:«Дню Победы посвятим!» концерт ансамбля «Pro-anima» / Библиотека семейного чтения им. П.А. Кропоткина
DESCRIPTION:
URL:https://mbstver.ru/event/dnyu-pobedy-posvyatim-konczert-ansamblya-pro-anima-biblioteka-semejnogo-chteniya-im-p-a-kropotkina/
LOCATION:Библиотека семейного чтения им. П.А. Кропоткина\, ул. Фурманова\, д. 1\, корп. А\, Тверь\, Российская Федерация
CATEGORIES:Концерт
ORGANIZER;CN="%D0%91%D0%B8%D0%B1%D0%BB%D0%B8%D0%BE%D1%82%D0%B5%D0%BA%D0%B0 %D1%81%D0%B5%D0%BC%D0%B5%D0%B9%D0%BD%D0%BE%D0%B3%D0%BE %D1%87%D1%82%D0%B5%D0%BD%D0%B8%D1%8F %D0%B8%D0%BC. %D0%9F.%D0%90. %D0%9A%D1%80%D0%BE%D0%BF%D0%BE%D1%82%D0%BA%D0%B8%D0%BD%D0%B0":MAILTO:f1tver@yandex.ru; library_f1@mbstver.ru
END:VEVENT
BEGIN:VEVENT
DTSTART;TZID=Europe/Moscow:20260425T160000
DTEND;TZID=Europe/Moscow:20260425T170000
DTSTAMP:20260425T022509
CREATED:20260420T080357Z
LAST-MODIFIED:20260420T080357Z
UID:73621-1777132800-1777136400@mbstver.ru
SUMMARY:«Диктант на тверском диалекте карельского языка» акция / Горница
DESCRIPTION:
URL:https://mbstver.ru/event/diktant-na-tverskom-dialekte-karelskogo-yazyka-akcziya-gornicza/
LOCATION:Горница\, Тверской пр-т\, д. 5\, Тверь\, Российская Федерация
CATEGORIES:Акция
ORGANIZER;CN="%D0%9E%D1%82%D0%B4%D0%B5%D0%BB %D0%B1%D0%B8%D0%B1%D0%BB%D0%B8%D0%BE%D1%82%D0%B5%D1%87%D0%BD%D0%BE%D0%B3%D0%BE %D0%BC%D0%B0%D1%80%D0%BA%D0%B5%D1%82%D0%B8%D0%BD%D0%B3%D0%B0 %D0%B8 %D0%BA%D1%83%D0%BB%D1%8C%D1%82%D1%83%D1%80%D0%BD%D0%BE-%D0%B4%D0%BE%D1%81%D1%83%D0%B3%D0%BE%D0%B2%D0%BE%D0%B9 %D0%B4%D0%B5%D1%8F%D1%82%D0%B5%D0%BB%D1%8C%D0%BD%D0%BE%D1%81%D1%82%D0%B8":MAILTO:o_dosugd@mbstver.ru
END:VEVENT
END:VCALENDAR