BEGIN:VCALENDAR
VERSION:2.0
PRODID:-//Муниципальная библиотечная система города Твери - ECPv6.11.2.1//NONSGML v1.0//EN
CALSCALE:GREGORIAN
METHOD:PUBLISH
X-WR-CALNAME:Муниципальная библиотечная система города Твери
X-ORIGINAL-URL:https://mbstver.ru
X-WR-CALDESC:Мероприятия для Муниципальная библиотечная система города Твери
REFRESH-INTERVAL;VALUE=DURATION:PT1H
X-Robots-Tag:noindex
X-PUBLISHED-TTL:PT1H
BEGIN:VTIMEZONE
TZID:Europe/Moscow
BEGIN:STANDARD
TZOFFSETFROM:+0300
TZOFFSETTO:+0300
TZNAME:MSK
DTSTART:20260101T000000
END:STANDARD
END:VTIMEZONE
BEGIN:VEVENT
DTSTART;VALUE=DATE:20260406
DTEND;VALUE=DATE:20260428
DTSTAMP:20260426T015504
CREATED:20260412T110925Z
LAST-MODIFIED:20260412T110925Z
UID:73401-1775433600-1777334399@mbstver.ru
SUMMARY:«Цветочные сказки» выставка живописи Любови Венедиктовой / с 6 по 27 апреля / Выставочный зал
DESCRIPTION:
URL:https://mbstver.ru/event/czvetochnye-skazki-vystavka-zhivopisi-lyubovi-venediktovoj-s-6-po-27-aprelya-vystavochnyj-zal/
LOCATION:Выставочный зал\, Тверской пр-т\, д. 5\, Тверь\, Российская Федерация
CATEGORIES:Выставка живописи
ORGANIZER;CN="%D0%9E%D1%82%D0%B4%D0%B5%D0%BB %D0%B1%D0%B8%D0%B1%D0%BB%D0%B8%D0%BE%D1%82%D0%B5%D1%87%D0%BD%D0%BE%D0%B3%D0%BE %D0%BC%D0%B0%D1%80%D0%BA%D0%B5%D1%82%D0%B8%D0%BD%D0%B3%D0%B0 %D0%B8 %D0%BA%D1%83%D0%BB%D1%8C%D1%82%D1%83%D1%80%D0%BD%D0%BE-%D0%B4%D0%BE%D1%81%D1%83%D0%B3%D0%BE%D0%B2%D0%BE%D0%B9 %D0%B4%D0%B5%D1%8F%D1%82%D0%B5%D0%BB%D1%8C%D0%BD%D0%BE%D1%81%D1%82%D0%B8":MAILTO:o_dosugd@mbstver.ru
END:VEVENT
BEGIN:VEVENT
DTSTART;VALUE=DATE:20260424
DTEND;VALUE=DATE:20260518
DTSTAMP:20260426T015504
CREATED:20260420T132944Z
LAST-MODIFIED:20260424T081235Z
UID:73705-1776988800-1779062399@mbstver.ru
SUMMARY:«Страницы\, опалённые войной» выставка книг\, изданных в годы Великой Отечественной войны / с 24 апреля по 17 мая / Холл Детского зала
DESCRIPTION:
URL:https://mbstver.ru/event/straniczy-opalyonnye-vojnoj-vystavka-knig-izdannyh-v-gody-velikoj-otechestvennoj-vojny-s-24-aprelya-po-15-maya-holl-detskogo-zala/
LOCATION:Холл Детского зала\, Тверской пр-т\, д. 5\, Тверь\, Российская Федерация
CATEGORIES:Выставка
ORGANIZER;CN="%D0%9E%D1%82%D0%B4%D0%B5%D0%BB %D1%80%D0%B5%D0%B4%D0%BA%D0%BE%D0%B3%D0%BE %D1%84%D0%BE%D0%BD%D0%B4%D0%B0":MAILTO:orgfond-otd@mbstver.ru
END:VEVENT
BEGIN:VEVENT
DTSTART;TZID=Europe/Moscow:20260426T120000
DTEND;TZID=Europe/Moscow:20260426T130000
DTSTAMP:20260426T015504
CREATED:20260323T085630Z
LAST-MODIFIED:20260323T085630Z
UID:72843-1777204800-1777208400@mbstver.ru
SUMMARY:«Точка-тире» викторина / Библиотека семейного чтения на Пролетарке
DESCRIPTION:/к 235-летию со дня рождения Сэмюэла Финли Бриз Морзе (1791-1872)\, американского изобретателя в области телеграфии и художника — 27 апреля; к 195-летию со дня рождения Николая Семеновича Лескова (1831-1895)\, русского писателя — 16 февраля/
URL:https://mbstver.ru/event/tochka-tire-viktorina-biblioteka-semejnogo-chteniya-na-proletarke/
LOCATION:Библиотека семейного чтения на Пролетарке\, пр-т Калинина\, д. 20\, Тверь\, Российская Федерация
CATEGORIES:Викторина
ORGANIZER;CN="%D0%91%D0%B8%D0%B1%D0%BB%D0%B8%D0%BE%D1%82%D0%B5%D0%BA%D0%B0 %D1%81%D0%B5%D0%BC%D0%B5%D0%B9%D0%BD%D0%BE%D0%B3%D0%BE %D1%87%D1%82%D0%B5%D0%BD%D0%B8%D1%8F %D0%BD%D0%B0 %D0%9F%D1%80%D0%BE%D0%BB%D0%B5%D1%82%D0%B0%D1%80%D0%BA%D0%B5":MAILTO:library_f33@mbstver.ru
END:VEVENT
BEGIN:VEVENT
DTSTART;TZID=Europe/Moscow:20260426T120000
DTEND;TZID=Europe/Moscow:20260426T130000
DTSTAMP:20260426T015504
CREATED:20260324T061531Z
LAST-MODIFIED:20260324T061531Z
UID:72908-1777204800-1777208400@mbstver.ru
SUMMARY:«Порхают живые цветы» творческое занятие / Детский зал
DESCRIPTION:
URL:https://mbstver.ru/event/porhayut-zhivye-czvety-tvorcheskoe-zanyatie-detskij-zal/
LOCATION:Детский зал\, Тверской пр-т\, д. 5\, Тверь\, Российская Федерация
CATEGORIES:Творческое занятие
ORGANIZER;CN="%D0%9E%D1%82%D0%B4%D0%B5%D0%BB %D0%BE%D0%B1%D1%81%D0%BB%D1%83%D0%B6%D0%B8%D0%B2%D0%B0%D0%BD%D0%B8%D1%8F %D0%B4%D0%B5%D1%82%D0%B5%D0%B9":MAILTO:detsky-otd@mbstver.ru
END:VEVENT
BEGIN:VEVENT
DTSTART;TZID=Europe/Moscow:20260426T130000
DTEND;TZID=Europe/Moscow:20260426T140000
DTSTAMP:20260426T015504
CREATED:20260323T061947Z
LAST-MODIFIED:20260323T061947Z
UID:72724-1777208400-1777212000@mbstver.ru
SUMMARY:«Чернобыль в книгах памяти эхом отзовётся» беседа у выставки / Библиотека семейного чтения на Горбатке
DESCRIPTION:/к 40-й годовщине аварии на Чернобыльской АЭС — 26 апреля/
URL:https://mbstver.ru/event/chernobyl-v-knigah-pamyati-ehom-otzovyotsya-beseda-u-vystavki-biblioteka-semejnogo-chteniya-na-gorbatke/
LOCATION:Библиотека семейного чтения на Горбатке\, Петербургское ш.\, д. 69\, Тверь\, Российская Федерация
CATEGORIES:Беседа у выставки
ORGANIZER;CN="%D0%91%D0%B8%D0%B1%D0%BB%D0%B8%D0%BE%D1%82%D0%B5%D0%BA%D0%B0 %D1%81%D0%B5%D0%BC%D0%B5%D0%B9%D0%BD%D0%BE%D0%B3%D0%BE %D1%87%D1%82%D0%B5%D0%BD%D0%B8%D1%8F %D0%BD%D0%B0 %D0%93%D0%BE%D1%80%D0%B1%D0%B0%D1%82%D0%BA%D0%B5":MAILTO:mbsfil12@yandex.ru
END:VEVENT
BEGIN:VEVENT
DTSTART;TZID=Europe/Moscow:20260426T140000
DTEND;TZID=Europe/Moscow:20260426T150000
DTSTAMP:20260426T015504
CREATED:20260324T061958Z
LAST-MODIFIED:20260420T081551Z
UID:72910-1777212000-1777215600@mbstver.ru
SUMMARY:«В унисон» вечер творчества Инны Бондаренко и её учеников / Горница
DESCRIPTION:
URL:https://mbstver.ru/event/tvorcheskij-vecher-inny-bondarenko-i-eyo-uchenikov-gornicza/
LOCATION:Горница\, Тверской пр-т\, д. 5\, Тверь\, Российская Федерация
CATEGORIES:Творческий вечер
ORGANIZER;CN="%D0%9E%D1%82%D0%B4%D0%B5%D0%BB %D0%B1%D0%B8%D0%B1%D0%BB%D0%B8%D0%BE%D1%82%D0%B5%D1%87%D0%BD%D0%BE%D0%B3%D0%BE %D0%BC%D0%B0%D1%80%D0%BA%D0%B5%D1%82%D0%B8%D0%BD%D0%B3%D0%B0 %D0%B8 %D0%BA%D1%83%D0%BB%D1%8C%D1%82%D1%83%D1%80%D0%BD%D0%BE-%D0%B4%D0%BE%D1%81%D1%83%D0%B3%D0%BE%D0%B2%D0%BE%D0%B9 %D0%B4%D0%B5%D1%8F%D1%82%D0%B5%D0%BB%D1%8C%D0%BD%D0%BE%D1%81%D1%82%D0%B8":MAILTO:o_dosugd@mbstver.ru
END:VEVENT
BEGIN:VEVENT
DTSTART;TZID=Europe/Moscow:20260426T160000
DTEND;TZID=Europe/Moscow:20260426T173000
DTSTAMP:20260426T015504
CREATED:20260324T062116Z
LAST-MODIFIED:20260420T055129Z
UID:72912-1777219200-1777224600@mbstver.ru
SUMMARY:«Песни из кинофильмов» концерт литературно-музыкального объединения «Странник» / Конференц-зал
DESCRIPTION:
URL:https://mbstver.ru/event/konczert-literaturno-muzykalnogo-obedineniya-strannik-konferencz-zal/
LOCATION:Конференц-зал\, Тверской пр-т\, д. 5\, Тверь\, Российская Федерация
CATEGORIES:Концерт
ORGANIZER;CN="%D0%9E%D1%82%D0%B4%D0%B5%D0%BB %D0%B1%D0%B8%D0%B1%D0%BB%D0%B8%D0%BE%D1%82%D0%B5%D1%87%D0%BD%D0%BE%D0%B3%D0%BE %D0%BC%D0%B0%D1%80%D0%BA%D0%B5%D1%82%D0%B8%D0%BD%D0%B3%D0%B0 %D0%B8 %D0%BA%D1%83%D0%BB%D1%8C%D1%82%D1%83%D1%80%D0%BD%D0%BE-%D0%B4%D0%BE%D1%81%D1%83%D0%B3%D0%BE%D0%B2%D0%BE%D0%B9 %D0%B4%D0%B5%D1%8F%D1%82%D0%B5%D0%BB%D1%8C%D0%BD%D0%BE%D1%81%D1%82%D0%B8":MAILTO:o_dosugd@mbstver.ru
END:VEVENT
END:VCALENDAR